BEGIN:VCALENDAR
VERSION:2.0
PRODID:-//Ateneo Mercantil de Valencia - ECPv6.0.4//NONSGML v1.0//EN
CALSCALE:GREGORIAN
METHOD:PUBLISH
X-WR-CALNAME:Ateneo Mercantil de Valencia
X-ORIGINAL-URL:https://historico.ateneovalencia.es
X-WR-CALDESC:Eventos para Ateneo Mercantil de Valencia
REFRESH-INTERVAL;VALUE=DURATION:PT1H
X-Robots-Tag:noindex
X-PUBLISHED-TTL:PT1H
BEGIN:VTIMEZONE
TZID:Europe/Madrid
BEGIN:DAYLIGHT
TZOFFSETFROM:+0100
TZOFFSETTO:+0200
TZNAME:CEST
DTSTART:20180325T010000
END:DAYLIGHT
BEGIN:STANDARD
TZOFFSETFROM:+0200
TZOFFSETTO:+0100
TZNAME:CET
DTSTART:20181028T010000
END:STANDARD
END:VTIMEZONE
BEGIN:VEVENT
DTSTART;TZID=Europe/Madrid:20181127T191500
DTEND;TZID=Europe/Madrid:20181127T203000
DTSTAMP:20260422T235313
CREATED:20181106T121408Z
LAST-MODIFIED:20181112T104928Z
UID:39713-1543346100-1543350600@historico.ateneovalencia.es
SUMMARY:Poetas en el Ateneo XXI: Antonio Praena
DESCRIPTION:El próximo martes 27 de noviembre (19.15 horas) llega hasta el Salón Sorolla del Ateneo Mercantil un nuevo poeta dentro del Ciclo Poetas en el Ateneo\, el poeta y fraile dominico\, Antonio Praena. Ha publicado los libros "Humo verde"\, "Poemas para mi hermana"\, "Actos de amor"\, "Yo he querido ser grúa muchas veces" e "Historia de un alma". Poemas suyos han sido traducidos al francés\, griego\, italiano\, inglés y polaco. \nActualmente es profesor de la Facultad de Teología "San Vicente Ferrer"​ de Valencia desde el año 2001. En ella complementa su docencia e investigación con seminarios y opcionales sobre la relación entre teología\, cine\, poesía y arte contemporáneos. Profesor de DOM​UNI (Universidad francesa asociada a la Pontificia Universidad St. Tomás de Aquino de Roma) en su sección española. Ha publicado obras de reflexión filosófica\, estética y teológica\, así como numerosos artículos especializados. Ha sido reconocido con el Premio Nacional José Hierro\, Jaime Gil de Biedma y de la crítica Valenciana y Andaluza\, entre otros. Presenta el acto\, el poeta y creador de Poetas en el Ateneo\, Vicente Barberá. \nCartel:
URL:https://historico.ateneovalencia.es/evento/poetas-en-el-ateneo-xxi-antonio-praena/
LOCATION:Salón Sorolla - Ateneo Mercantil de Valencia\, Plaza del Ayuntamiento 18\, Valencia\, Valencia\, 46002\, España
CATEGORIES:Poetas en el Ateneo
ATTACH;FMTTYPE=image/jpeg:https://historico.ateneovalencia.es/wp-content/uploads/2018/11/20181127-Poetas-en-el-Ateneo-Antonio-Praena.jpg
END:VEVENT
END:VCALENDAR