BEGIN:VCALENDAR
VERSION:2.0
PRODID:-//Ateneo Mercantil de Valencia - ECPv6.0.4//NONSGML v1.0//EN
CALSCALE:GREGORIAN
METHOD:PUBLISH
X-WR-CALNAME:Ateneo Mercantil de Valencia
X-ORIGINAL-URL:https://historico.ateneovalencia.es
X-WR-CALDESC:Eventos para Ateneo Mercantil de Valencia
REFRESH-INTERVAL;VALUE=DURATION:PT1H
X-Robots-Tag:noindex
X-PUBLISHED-TTL:PT1H
BEGIN:VTIMEZONE
TZID:Europe/Madrid
BEGIN:DAYLIGHT
TZOFFSETFROM:+0100
TZOFFSETTO:+0200
TZNAME:CEST
DTSTART:20180325T010000
END:DAYLIGHT
BEGIN:STANDARD
TZOFFSETFROM:+0200
TZOFFSETTO:+0100
TZNAME:CET
DTSTART:20181028T010000
END:STANDARD
END:VTIMEZONE
BEGIN:VEVENT
DTSTART;TZID=Europe/Madrid:20181030T191500
DTEND;TZID=Europe/Madrid:20181030T203000
DTSTAMP:20260422T232650
CREATED:20181001T115332Z
LAST-MODIFIED:20181022T104549Z
UID:38524-1540926900-1540931400@historico.ateneovalencia.es
SUMMARY:Poetas en el Ateneo XX: Vicente Barberá Albalat
DESCRIPTION:Poetas en el Ateneo regresan a nuestra institución con un nuevo personaje destacado\, en esta ocasión el invitado es un gran conocido de esta casa\, D. Vicente Barberá Albalat\, poeta de reconocido prestigio\, editor literario de las colecciones de poesía de Olé Libros\, coordinador de Poetas en el Ateneo Mercantil de Valencia y Doctor en Ciencias de la Educación por la UV. Vicente Barberá es profesor universitario y es el vigésimo poeta que pasa por nuestras aulas. Recuerda que su visita será el próximo martes 30 de octubre a las 19.15 horas en el Salón Sorolla; el acto lo presentan la poeta Dª. Susana Benet y el directivo del Ateneo Mercantil\, D. Vicente Bosch. \nNatural de Els Ibarsos (Castellón). Estos algunos de sus libros publicados: Didáctica de las Ciencias Naturales en la Enseñanza Básica (1980); La Enseñanza de los Valores en la Sociedad Contemporánea (1981); Prueba de Madurez (1986); Análisis de la didáctica de la ortografía a la luz del vocabulario usual (1987); Diccionario Ortográfico (1987); Proyecto Educativo\, Plan Anual del Centro y Programación Docente (1987\, 1988\, 1989); Cómo enseñar la Ortografía (1988); La Planificación de los Objetivos en el Diseño Curricular del Centro (1989); Método para evaluación de centros (1990); Cómo sobrevivir a la Reforma (1992); Cómo elaborar el PCC sin dificultades añadidas (1993); El Projecte Curricular d’un Centre (1993); El Proyecto Curricular en la E.S.O. (1995); El proyecto educativo en los institutos de Educación Secundaria Obligatoria (1998); La responsabilidad (2001); Puedes ser feliz si te lo propones (2009); De amor y sombras (2014); Ensayo para un concierto y otros sonetos (2016). \nCartel:
URL:https://historico.ateneovalencia.es/evento/poetas-en-el-ateneo-xx-vicente-barbera-albalat/
LOCATION:Salón Sorolla - Ateneo Mercantil de Valencia\, Plaza del Ayuntamiento 18\, Valencia\, Valencia\, 46002\, España
CATEGORIES:Poetas en el Ateneo
ATTACH;FMTTYPE=image/jpeg:https://historico.ateneovalencia.es/wp-content/uploads/2018/10/20181030-Poetas-en-el-Ateneo-XX-Vicente-Barbera.jpg
END:VEVENT
END:VCALENDAR