BEGIN:VCALENDAR
VERSION:2.0
PRODID:-//Ateneo Mercantil de Valencia - ECPv6.0.4//NONSGML v1.0//EN
CALSCALE:GREGORIAN
METHOD:PUBLISH
X-WR-CALNAME:Ateneo Mercantil de Valencia
X-ORIGINAL-URL:https://historico.ateneovalencia.es
X-WR-CALDESC:Eventos para Ateneo Mercantil de Valencia
REFRESH-INTERVAL;VALUE=DURATION:PT1H
X-Robots-Tag:noindex
X-PUBLISHED-TTL:PT1H
BEGIN:VTIMEZONE
TZID:Europe/Madrid
BEGIN:DAYLIGHT
TZOFFSETFROM:+0100
TZOFFSETTO:+0200
TZNAME:CEST
DTSTART:20180325T010000
END:DAYLIGHT
BEGIN:STANDARD
TZOFFSETFROM:+0200
TZOFFSETTO:+0100
TZNAME:CET
DTSTART:20181028T010000
END:STANDARD
END:VTIMEZONE
BEGIN:VEVENT
DTSTART;TZID=Europe/Madrid:20180222T190000
DTEND;TZID=Europe/Madrid:20180222T190000
DTSTAMP:20260424T002938
CREATED:20180205T111323Z
LAST-MODIFIED:20180205T111327Z
UID:29549-1519326000-1519326000@historico.ateneovalencia.es
SUMMARY:Poetas en el Ateneo XVII: Elena Torres
DESCRIPTION:La decimoséptima cita de Poetas en el Ateneo nos trae al salón Sorolla a la poetisa Elena Torres. \nElena Torres es Licenciada en Filosofía y Poeta. Imparte Talleres de Creación Literaria en Aulas de la 3º Edad. \nHa publicado trece poemarios: Don de la memoria\, Ráfagas de vértigo\, As de copas\, La zona oscura\, Alta Fidelidad\, En la esquina del desencuentro\, Exceso de equipaje\, Lencería de piel\, Nada Personal\, Alrededor del deseo\, Frágil\, En el silencio de la bodega y El baile de la vida. \nHa participado en una veintena de antologías\, por citar las últimas: La escucha y la concordia (16 años de Poesía en el Palau de la Música de Valencia 2015)\, Miradas para compartir la luz (Boreal Libros. Centro UNESCO 2016)\, Teresa para siempre 2016\, Huellas de mujer (Coordinadora junto a Mila Villanueva. Lastura 2017). \nEntre sus premios destacamos\, Sargantas de Poesía Chiva 1998 por As de copas. 2º CEAM Segorbe 2000 por Tiempo muerto. Premio Creación Poética Paiporta 2003 por Exceso de Equipaje. Premio Mar de Poesía Fundación Carolina Torres Palero 2006 por trayectoria poética. 2º Premio 50 Certamen Poético Fiesta de la Primavera 2008 por Mal de Mar. Premio XI y XIII Certamen Poético Mollina\, Color de Vino\, Málaga por En la Bodega de los sentidos y Tiempo de vendimia. 2º Premio IV Certamen Literario Alfambra\, Teruel 2010 por Cosas que importan. Mención de honor por Haikus “Cosecha Púrpura” XXII Concurso Poesía Arnedo (La Rioja). \nEn el año 2012 obtiene el XXIX Premio Ciudad de Valencia Vicente Gaos Poesía en castellano por FRÁGIL. Siendo la primera mujer que lo consigue en treinta ediciones… Es vicepresidenta de CLAVE y forma parte de la junta directiva de Concilyarte y de la Plataforma de mujeres escritoras del Arco Mediterráneo.
URL:https://historico.ateneovalencia.es/evento/poetas-en-el-ateneo-xvii-elena-torres/
LOCATION:Salón Sorolla - Ateneo Mercantil de Valencia\, Plaza del Ayuntamiento 18\, Valencia\, Valencia\, 46002\, España
CATEGORIES:Poetas en el Ateneo
ATTACH;FMTTYPE=image/jpeg:https://historico.ateneovalencia.es/wp-content/uploads/2018/02/20180222-Poetas-Ateneo-XVII-Elena-Torres.jpg
END:VEVENT
END:VCALENDAR