BEGIN:VCALENDAR
VERSION:2.0
PRODID:-//Ateneo Mercantil de Valencia - ECPv6.0.4//NONSGML v1.0//EN
CALSCALE:GREGORIAN
METHOD:PUBLISH
X-ORIGINAL-URL:https://historico.ateneovalencia.es
X-WR-CALDESC:Eventos para Ateneo Mercantil de Valencia
REFRESH-INTERVAL;VALUE=DURATION:PT1H
X-Robots-Tag:noindex
X-PUBLISHED-TTL:PT1H
BEGIN:VTIMEZONE
TZID:Europe/Madrid
BEGIN:DAYLIGHT
TZOFFSETFROM:+0100
TZOFFSETTO:+0200
TZNAME:CEST
DTSTART:20180325T010000
END:DAYLIGHT
BEGIN:STANDARD
TZOFFSETFROM:+0200
TZOFFSETTO:+0100
TZNAME:CET
DTSTART:20181028T010000
END:STANDARD
END:VTIMEZONE
BEGIN:VEVENT
DTSTART;TZID=Europe/Madrid:20180125T190000
DTEND;TZID=Europe/Madrid:20180125T203000
DTSTAMP:20260424T021021
CREATED:20171228T104116Z
LAST-MODIFIED:20171228T104116Z
UID:28646-1516906800-1516912200@historico.ateneovalencia.es
SUMMARY:Poetas en el Ateneo XVI: Susana Benet
DESCRIPTION:Un nuevo recital de Poestas en el Ateneo I llega para traer los versos de la escritora valenciana\, Susana Benet Fayos. Es escritora y acuarelista especializada en la cultura y el cultivo del haiku occidental. Se licenció en Psicología en 1981 por la Universidad de Valencia. Desempeñó trabajos administrativos en diferentes empresas. En el año 2003 comenzó a colaborar en la página digital: “El Rincón del Haiku”. Tres años después publicó su primera colección de haikus: Faro del bosque. Por esas fechas promovió\, junto a otros poetas\, la Tertulia del Almudín\, dedicada en exclusiva al haiku. \nHa sido incluida en varias antologías: Poetas de corazón japonés (Edit. Celya\, 2006) y Tertulia de haiku (Edit. El Taller de Poeta\, 2007). Brisa del mar y Perro sin dueño (ambas publicadas por la UCLM\, 2007-2008) Participó con otros autores (Enrique Bader\, Vicent Berenguer\, José Luis Parra y Pedro Antonio Parra) en el libro La Muerte (Edit. Krausse\, 2009)\, donde aparte de haiku\, incluye algunos poemas de estilo occidental. En esta misma editorial publicó un “libro de artista”: Jardín\, en el que combina acuarela y haiku. Ha impartido Talleres de haiku en el I y II Encuentro Internacional de Haiku de la Universidad Castilla-La Mancha\, (Albacete). En 2007 obtuvo el 2º Premio de Haiku en el I Concurso Internacional de Haiku organizado por la Universidad Castilla-La Mancha\, y en 2013 el 1º Premio de Haiku Ciudad de Medellín.
URL:https://historico.ateneovalencia.es/evento/poetas-en-el-ateneo-xvi-susana-benet/
LOCATION:Salón Sorolla - Ateneo Mercantil de Valencia\, Plaza del Ayuntamiento 18\, Valencia\, Valencia\, 46002\, España
CATEGORIES:Poetas en el Ateneo
ATTACH;FMTTYPE=image/jpeg:https://historico.ateneovalencia.es/wp-content/uploads/2017/12/20180125-Poetas-XVI-Susana-Benet.jpg
END:VEVENT
END:VCALENDAR