BEGIN:VCALENDAR
VERSION:2.0
PRODID:-//Ateneo Mercantil de Valencia - ECPv6.0.4//NONSGML v1.0//EN
CALSCALE:GREGORIAN
METHOD:PUBLISH
X-WR-CALNAME:Ateneo Mercantil de Valencia
X-ORIGINAL-URL:https://historico.ateneovalencia.es
X-WR-CALDESC:Eventos para Ateneo Mercantil de Valencia
REFRESH-INTERVAL;VALUE=DURATION:PT1H
X-Robots-Tag:noindex
X-PUBLISHED-TTL:PT1H
BEGIN:VTIMEZONE
TZID:Europe/Madrid
BEGIN:DAYLIGHT
TZOFFSETFROM:+0100
TZOFFSETTO:+0200
TZNAME:CEST
DTSTART:20210328T010000
END:DAYLIGHT
BEGIN:STANDARD
TZOFFSETFROM:+0200
TZOFFSETTO:+0100
TZNAME:CET
DTSTART:20211031T010000
END:STANDARD
END:VTIMEZONE
BEGIN:VEVENT
DTSTART;TZID=Europe/Madrid:20210330T190000
DTEND;TZID=Europe/Madrid:20210330T203000
DTSTAMP:20260423T131225
CREATED:20201210T183505Z
LAST-MODIFIED:20210301T115644Z
UID:61312-1617130800-1617136200@historico.ateneovalencia.es
SUMMARY:Poetas en el Ateneo XXXIV: Mila Villanueva
DESCRIPTION:Nueva sesión de Poetas en el Ateneo\, la trigésmo cuarta\, que contará con la presencia de la poeta\, escritora y gestora cultural\, Mila Villanueva. La conferencia será el próximo martes 30 de marzo a las 19 horas en el Salón Stolz y se realizará también online. El acto lo presentarán el creador de Poetas en el Ateneo\, Vicente Barberá\, e intervendrá el poeta\, Manuel Fortes. \nEnlace para seguir la conferencia On line: https://zoom.us/j/96972252785\nCurriculum de Mila Villanueva\nEs natural de Vigo. Se desplaza en la adolescencia hacia el Mediterráneo\, donde vive actualmente. Escribe haiku\, poesía y relato corto tanto en castellano como en gallego. En general todos sus libros han sido ilustrados por famosos diseñadores y pintores\, como Cándido Solaz\, Enriqueta Hueso\, Susana Benet\, Isabel Pardo o José Lapasió\, o el fotógrafo portugués António Júlio Lemos. Casi todas sus obras son bilingües. \nComo gestora cultural preside la Asociación cultural Concilyarte desde el año 2011\, es creadora dentro de la asociación del Festival de Videopoemas Poemágenes\, de los encuentros literarios El don de la Palabra y del premio de Poesía y Pintura Jose Lapasió. Ha sido colaboradora del Encuentro Internacional de poetas Ártemis (2017) y coordinadora del Encuentro Internacional de Poetas celebrado en Fisterra en 2016\, junto con la gestora cultural fisterrana Branca Vilela\, «Atlántico y Mediterráneo Mares de Palabras». En 2018 ha coordinado junto a la asociación de Escritores y Críticos Literarios CLAVE y el centro Unesco Valencia\, el Festival Internacional de poesía Poe-sència. Dirige además la colección Concilyarte dentro de Lastura Ediciones. \nImparte talleres de escritura creativa\, escritura terapéutica\, escritura autobiográfica y dirige el Club de Lectura "Las claves del buen lector". \nDurante los años 2011-2013 fue secretaria de los Premios de la Crítica literaria de Valencia y es también vocal de cultura del Centro Gallego de Valencia desde el año 2014. Desde allí organzia actos literarios como El día de Rosalía o el Día de las Letras Gallegas y colabora en la revista: A Nosa Eira. \nHa publicado los libros de haikus Na Distancia (El taller del poeta\, 2010); La luz de Agosto (Concilyarte\, 2011); A la luna de Valencia; Bajo la luna de Kislev (Lastura 2015)\, El viento sobre el lago (chino-castellano) (Lastura\, 2017); Despedidas (junto a José Lapasió) (Olé Libros\, 2018) y Donde da la vuelta el aire / Onde dá a volta o aire (Lastura\, 2019). \nCartel:
URL:https://historico.ateneovalencia.es/evento/poetas-en-el-ateneo-xxxiv-mila-villanueva/
LOCATION:Salón Stolz - Ateneo Mercantil de Valencia\, Plaza del Ayuntamiento\, 18\, Valencia\, España\, Valencia\, Valencia\, 46002\, España
CATEGORIES:Poetas en el Ateneo
ATTACH;FMTTYPE=image/jpeg:https://historico.ateneovalencia.es/wp-content/uploads/2020/12/20210125-Poetas-en-el-Ateneo-Mila-Villanueva.jpg
END:VEVENT
END:VCALENDAR