BEGIN:VCALENDAR
VERSION:2.0
PRODID:-//Ateneo Mercantil de Valencia - ECPv6.0.4//NONSGML v1.0//EN
CALSCALE:GREGORIAN
METHOD:PUBLISH
X-WR-CALNAME:Ateneo Mercantil de Valencia
X-ORIGINAL-URL:https://historico.ateneovalencia.es
X-WR-CALDESC:Eventos para Ateneo Mercantil de Valencia
REFRESH-INTERVAL;VALUE=DURATION:PT1H
X-Robots-Tag:noindex
X-PUBLISHED-TTL:PT1H
BEGIN:VTIMEZONE
TZID:Europe/Madrid
BEGIN:DAYLIGHT
TZOFFSETFROM:+0100
TZOFFSETTO:+0200
TZNAME:CEST
DTSTART:20200329T010000
END:DAYLIGHT
BEGIN:STANDARD
TZOFFSETFROM:+0200
TZOFFSETTO:+0100
TZNAME:CET
DTSTART:20201025T010000
END:STANDARD
END:VTIMEZONE
BEGIN:VEVENT
DTSTART;TZID=Europe/Madrid:20200218T190000
DTEND;TZID=Europe/Madrid:20200218T213000
DTSTAMP:20260423T024956
CREATED:20200114T085645Z
LAST-MODIFIED:20200114T114214Z
UID:55379-1582052400-1582061400@historico.ateneovalencia.es
SUMMARY:Poetas en el Ateneo XXX: José María Álvarez
DESCRIPTION:El próximo martes 18 de febrero a las 19 horas en el Salón Sorolla tendrá lugar una nueva edición de Poetas en el Ateneo\, el trigésimo recital\, que traerá hasta nuestra institución a uno de los más grandes poetas de la actualidad\, al cartagenero José María Álvarez\, uno de los nueve 'novísimos'\, autor de una treintena de libros entre poesía\, prosa y traducciones\, ganador de numerosos premios\, traducido a más de veinte idiomas… \nEs Licenciado en Filosofía y Letras\, Especialidad de Geografía e Historia (Universidades de Madrid y Murcia) y también realizó estudios de Filosofía Pura (Universidad de Madrid) y asistió a cursos de Raymond Aron (La Sorbona y el Còllege de France). Su vida ha estado consagrada a la Literatura y a los viajes. \nPresentan el acto el creador de Poetas en el Ateneo\, Vicente Barberá y Noelia Illán\, licenciada en Filología Clásica. Hay que destacar que media hora antes de que arranque el acto\, el escritor y poeta murciano firmará ejemplares de la enrome cantidad de libros de los que es autor\, la firma de ejemplares en el Salón Sorolla para todos sus seguidores arrancará a las 19 horas\, mientras que el acto de Poetas en el Ateneo XXX comenzará a las 19.30 horas. \nCartel:
URL:https://historico.ateneovalencia.es/evento/poetas-en-el-ateneo-xxx-jose-maria-alvarez/
LOCATION:Salón Sorolla - Ateneo Mercantil de Valencia\, Plaza del Ayuntamiento 18\, Valencia\, Valencia\, 46002\, España
CATEGORIES:Poetas en el Ateneo
ATTACH;FMTTYPE=image/jpeg:https://historico.ateneovalencia.es/wp-content/uploads/2020/01/20200218-Poetas-en-el-Ateneo-XXX-Jose-Maria-Alvarez.jpg
END:VEVENT
END:VCALENDAR