BEGIN:VCALENDAR
VERSION:2.0
PRODID:-//Ateneo Mercantil de Valencia - ECPv6.0.4//NONSGML v1.0//EN
CALSCALE:GREGORIAN
METHOD:PUBLISH
X-WR-CALNAME:Ateneo Mercantil de Valencia
X-ORIGINAL-URL:https://historico.ateneovalencia.es
X-WR-CALDESC:Eventos para Ateneo Mercantil de Valencia
REFRESH-INTERVAL;VALUE=DURATION:PT1H
X-Robots-Tag:noindex
X-PUBLISHED-TTL:PT1H
BEGIN:VTIMEZONE
TZID:Europe/Madrid
BEGIN:DAYLIGHT
TZOFFSETFROM:+0100
TZOFFSETTO:+0200
TZNAME:CEST
DTSTART:20190331T010000
END:DAYLIGHT
BEGIN:STANDARD
TZOFFSETFROM:+0200
TZOFFSETTO:+0100
TZNAME:CET
DTSTART:20191027T010000
END:STANDARD
END:VTIMEZONE
BEGIN:VEVENT
DTSTART;TZID=Europe/Madrid:20191029T191500
DTEND;TZID=Europe/Madrid:20191029T204500
DTSTAMP:20260423T060158
CREATED:20190726T095704Z
LAST-MODIFIED:20190909T162234Z
UID:50094-1572376500-1572381900@historico.ateneovalencia.es
SUMMARY:Poetas en el Ateneo XXVII: Joaquín Juan Penalva
DESCRIPTION:Tras las vacaciones de verano regresa al Salón Sorolla un nuevo protagonista de Poetas en el Ateneo\, el vigésimo séptimo poeta que desfila por el Salón Sorolla para contar su vida y obras. En esta ocasión será el alicantino Joaquín Juan Penalva\, autor\, junto a Luis Bagué\, del libro de poemas cinéfilos Babilonia\, mon amour (2005)\, obtuvo el Premio de la Crítica Literaria Valenciana con Anfitriones de una derrota infinita (2015). \nJoaquín Juan nació en Alicante en 1976\, aunque en su partida de nacimiento ponga Novelda\, su pueblo. Comenzó sus estudios en el colegio Carmelitas de Novelda\, pero rápidamente se cambió al Padre Dehon\, en la misma población\, donde acabó sus estudios antes de empezar la universidad. Estudió Filología Hispánica en la Universidad de Alicante\, donde obtuvo el doctorado gracias a una beca FPU. Entre 2004 y 2005 realizó un máster online de edición en la Universidad de Salamanca y\, unos años después\, realizó otro máster online de crítica de cine. Es profesor en el colegio Padre Dehon desde 2004 y\, desde 2014\, profesor asociado en la UA y en la UMH. Entre sus aficiones\, cabe destacar el cine y la escritura\, actividad en la que ha ganado ya algunos premios como el antes citado\, el Premio de Critica Literaria Valenciana. \nHa publicado otros cinco poemarios\, La tristeza de los sabios (accésit del Premio de Poesía 2006 para Jóvenes Creadores de la Academia Castellano-Leonesa\, 2007)\, hiberna\, hibernorum (2013)\, Anfitriones de una derrota infinita (Huerga & Fierro\, 2015\, Premio de la Crítica Literaria Valenciana)\, Cronología de Tarkovski (Huerga & Fierro\, 2018) y Todas las batallas perdidas (Huerga & Fierro\, 2019). Fue codirector de la revista de poesía Ex Libris y colabora en el suplemento Arte y Letras del diario Información y en la revista de cine online El espectador imaginario (www.elespectadorimaginario.com). \nCartel:
URL:https://historico.ateneovalencia.es/evento/poetas-en-el-ateneo-xxvii-joaquin-juan-penalva/
LOCATION:Salón Sorolla - Ateneo Mercantil de Valencia\, Plaza del Ayuntamiento 18\, Valencia\, Valencia\, 46002\, España
CATEGORIES:Poetas en el Ateneo
ATTACH;FMTTYPE=image/jpeg:https://historico.ateneovalencia.es/wp-content/uploads/2019/07/20191029-Poetas-en-el-Ateneo-XXVII-JJ-Penalva.jpg
END:VEVENT
END:VCALENDAR