BEGIN:VCALENDAR
VERSION:2.0
PRODID:-//Ateneo Mercantil de Valencia - ECPv6.0.4//NONSGML v1.0//EN
CALSCALE:GREGORIAN
METHOD:PUBLISH
X-WR-CALNAME:Ateneo Mercantil de Valencia
X-ORIGINAL-URL:https://historico.ateneovalencia.es
X-WR-CALDESC:Eventos para Ateneo Mercantil de Valencia
REFRESH-INTERVAL;VALUE=DURATION:PT1H
X-Robots-Tag:noindex
X-PUBLISHED-TTL:PT1H
BEGIN:VTIMEZONE
TZID:Europe/Madrid
BEGIN:DAYLIGHT
TZOFFSETFROM:+0100
TZOFFSETTO:+0200
TZNAME:CEST
DTSTART:20190331T010000
END:DAYLIGHT
BEGIN:STANDARD
TZOFFSETFROM:+0200
TZOFFSETTO:+0100
TZNAME:CET
DTSTART:20191027T010000
END:STANDARD
END:VTIMEZONE
BEGIN:VEVENT
DTSTART;TZID=Europe/Madrid:20190425T190000
DTEND;TZID=Europe/Madrid:20190425T203000
DTSTAMP:20260422T133210
CREATED:20190226T124423Z
LAST-MODIFIED:20190425T161641Z
UID:43240-1556218800-1556224200@historico.ateneovalencia.es
SUMMARY:Poetas en el Ateneo XXIV: Juan Mollá López
DESCRIPTION:El último poeta en desfilar por Poetas en el Ateneo de este curso será el poeta y escritor de Paterna\, D. Juan Mollá López. Así\, el próximo jueves 25 de abril a las 19.00 horas en el Sala de Ocio Sorolla se invitará a otro de los grandes de la Comunitat Valenciana. Juan Mollá López ha publicado sus versos en antologías tanto españolas como extranjeras; entre ellas en las últimas ediciones de Las mil mejores poesías de la lengua castellana. \nUna poesía luminosa y trágica\, simbólica y potente\, síntesis de inteligencia y emoción\, que Manuel Vicent resumió así: "Juan Mollá es el último poeta griego que habita entre nosotros". \nAdemás de escritor y poeta\, Juan Mollá ha presidido durante varios años la Asociación Colegial de Escritores de España. También fue presidente del Centro Español de Derechos Reprográficos durante ocho años y en la actualidad es vicepresidente 1.o. Ha sido traducido al francés\, italiano\, portugués\, catalán y valón. Ha obtenido diversos premios literarios\, entre ellos el Premio de la Crítica del País Valenciano y el Premio de Novela Plaza & Janés. \nPionero en la defensa de los derechos de autor en España\, participó en la elaboración del borrador de anteproyecto de la que sería Ley de Propiedad Intelectual de 1987\, y fue miembro fundador -en ese mismo año- de la Asociación Literaria y Artística para la Defensa del Derecho de Autor (ALADDA)\, grupo español de la Asociación Literaria y Artística Internacional (ALAI).
URL:https://historico.ateneovalencia.es/evento/poetas-en-el-ateneo-xxiv-juan-molla-lopez/
LOCATION:Sala de Ocio - Ateneo Mercantil de Valencia\, Plaza del Ayuntamiento\, 18\, Valencia\, España\, Valencia\, Valencia\, 46002\, España
CATEGORIES:Poetas en el Ateneo
ATTACH;FMTTYPE=image/jpeg:https://historico.ateneovalencia.es/wp-content/uploads/2019/02/20190425-Poetas-del-Ateneo-XXIV-Juan-Molla.jpg
END:VEVENT
END:VCALENDAR