BEGIN:VCALENDAR
VERSION:2.0
PRODID:-//Ateneo Mercantil de Valencia - ECPv6.0.4//NONSGML v1.0//EN
CALSCALE:GREGORIAN
METHOD:PUBLISH
X-WR-CALNAME:Ateneo Mercantil de Valencia
X-ORIGINAL-URL:https://historico.ateneovalencia.es
X-WR-CALDESC:Eventos para Ateneo Mercantil de Valencia
REFRESH-INTERVAL;VALUE=DURATION:PT1H
X-Robots-Tag:noindex
X-PUBLISHED-TTL:PT1H
BEGIN:VTIMEZONE
TZID:Europe/Madrid
BEGIN:DAYLIGHT
TZOFFSETFROM:+0100
TZOFFSETTO:+0200
TZNAME:CEST
DTSTART:20190331T010000
END:DAYLIGHT
BEGIN:STANDARD
TZOFFSETFROM:+0200
TZOFFSETTO:+0100
TZNAME:CET
DTSTART:20191027T010000
END:STANDARD
END:VTIMEZONE
BEGIN:VEVENT
DTSTART;TZID=Europe/Madrid:20190221T190000
DTEND;TZID=Europe/Madrid:20190221T203000
DTSTAMP:20260422T041827
CREATED:20190130T131643Z
LAST-MODIFIED:20190215T083208Z
UID:42243-1550775600-1550781000@historico.ateneovalencia.es
SUMMARY:Poetas en el Ateneo XXIII: Rosa María Vilarroig
DESCRIPTION:El próximo encuentro de Poetas en el Ateneo será el próximo jueves 21 de febrero en el Salón Sorolla a las 19 horas. La invitada es la poeta y escritora\, Rosa María Vilarroig Colomé\, quien posee una extensa y consistente obra literaria sedimentada en larga singladura\, con visión y estilo artístico peculiares. \nRosa María Vilarroig Colomé. Poeta y Escritora. Castellón de la Plana. Profesora Pedagogía Terapéutica. Psicomotricista Escuela Internacional FIPS. Reeducadora y Terapeuta Psicomotriz. E. Europea de Psicomotricidad. Miembro fundador del Grupo Teatro TOAR. Miembro fundador Grupo Poético Musical POEMUSIC. Coordinadora de Tertulias Cau d´art (ADALL). \nCartel:
URL:https://historico.ateneovalencia.es/evento/poetas-en-el-ateneo-xxiii-rosa-maria-vilarroig/
LOCATION:Salón Sorolla - Ateneo Mercantil de Valencia\, Plaza del Ayuntamiento 18\, Valencia\, Valencia\, 46002\, España
CATEGORIES:Poetas en el Ateneo
ATTACH;FMTTYPE=image/jpeg:https://historico.ateneovalencia.es/wp-content/uploads/2019/01/20190221-Rosa-maria-Vilarroig.jpg
END:VEVENT
END:VCALENDAR