BEGIN:VCALENDAR
VERSION:2.0
PRODID:-//Ateneo Mercantil de Valencia - ECPv6.0.4//NONSGML v1.0//EN
CALSCALE:GREGORIAN
METHOD:PUBLISH
X-ORIGINAL-URL:https://historico.ateneovalencia.es
X-WR-CALDESC:Eventos para Ateneo Mercantil de Valencia
REFRESH-INTERVAL;VALUE=DURATION:PT1H
X-Robots-Tag:noindex
X-PUBLISHED-TTL:PT1H
BEGIN:VTIMEZONE
TZID:Europe/Madrid
BEGIN:DAYLIGHT
TZOFFSETFROM:+0100
TZOFFSETTO:+0200
TZNAME:CEST
DTSTART:20180325T010000
END:DAYLIGHT
BEGIN:STANDARD
TZOFFSETFROM:+0200
TZOFFSETTO:+0100
TZNAME:CET
DTSTART:20181028T010000
END:STANDARD
END:VTIMEZONE
BEGIN:VEVENT
DTSTART;TZID=Europe/Madrid:20180611T190000
DTEND;TZID=Europe/Madrid:20180611T203000
DTSTAMP:20260423T093324
CREATED:20180607T081939Z
LAST-MODIFIED:20180607T081939Z
UID:36604-1528743600-1528749000@historico.ateneovalencia.es
SUMMARY:Aula de Poesía 2: Niños a Escena - Poesía por y para la integración
DESCRIPTION:El Aula de Poesía 2 tiene un evento muy especial el próximo lunes 11 de junio en el Salón Sorolla a las 19.00 horas. Un recital poético montado expresamente por los poestas del Aula de Poesía 2 para los niños de los colegios Inmaculado Corazón de María y el E.I. Giorgeta en el que se leerán poemas de nuestros poetas y servirá de paso para que los niños puedan expresarse en su plenitud. La poesía es capaz de salir desde el alma\, elimina todo tipo de fronteras físicas y psíquicas\, y es un instrumento para el desarrollo del conocimiento\, para la integración cultural y social\, y como no\, para el respeto\, la diversidad y la comprensión. Un recital que llegará al alma a todos aquellos que tengan la oportunidad de asistir.
URL:https://historico.ateneovalencia.es/evento/aula-de-poesia-2-ninos-a-escena-poesia-por-y-para-la-integracion/
LOCATION:Salón Sorolla - Ateneo Mercantil de Valencia\, Plaza del Ayuntamiento 18\, Valencia\, Valencia\, 46002\, España
CATEGORIES:Poetas en el Ateneo
ATTACH;FMTTYPE=image/jpeg:https://historico.ateneovalencia.es/wp-content/uploads/2018/06/20180611-Poestas-en-el-Ateneo-2-Niños-A-Escena.jpg
END:VEVENT
END:VCALENDAR