BEGIN:VCALENDAR
VERSION:2.0
PRODID:-//Ateneo Mercantil de Valencia - ECPv6.0.4//NONSGML v1.0//EN
CALSCALE:GREGORIAN
METHOD:PUBLISH
X-ORIGINAL-URL:https://historico.ateneovalencia.es
X-WR-CALDESC:Eventos para Ateneo Mercantil de Valencia
REFRESH-INTERVAL;VALUE=DURATION:PT1H
X-Robots-Tag:noindex
X-PUBLISHED-TTL:PT1H
BEGIN:VTIMEZONE
TZID:Europe/Madrid
BEGIN:DAYLIGHT
TZOFFSETFROM:+0100
TZOFFSETTO:+0200
TZNAME:CEST
DTSTART:20180325T010000
END:DAYLIGHT
BEGIN:STANDARD
TZOFFSETFROM:+0200
TZOFFSETTO:+0100
TZNAME:CET
DTSTART:20181028T010000
END:STANDARD
END:VTIMEZONE
BEGIN:VEVENT
DTSTART;TZID=Europe/Madrid:20180531T190000
DTEND;TZID=Europe/Madrid:20180531T210000
DTSTAMP:20260423T094005
CREATED:20180508T115453Z
LAST-MODIFIED:20180508T115453Z
UID:35842-1527793200-1527800400@historico.ateneovalencia.es
SUMMARY:Poetas en el Ateneo XIX: Alfonso López Gradolí
DESCRIPTION:El poeta valenciano D. Alfonso López Gradolí será el siguiente en pasar por el Ateneo Mercantil para disfrute de todos los apasionados de la poesía en nuestra institución. El poeta nació en 1943 y tiene una sensibilidad profundamente lírica y religiosa; hay que decir que entre sus poemarios destacan 'El sabor del sol' (Madrid\, 1968)\, 'Los instantes' (Salamanca\, 1969)\, 'El aire sombrío' (San Sebastián\, 1975)\, 'Una muchacha rodeada de espigas' (Madrid\, 1977)\, 'Las señales de fuego' (Barcelona\, 1985)\, 'Una sucesión de encuentros' (Cáceres\, 1977) y 'Los signos de la soledad' (Madrid\, 2000). Todos estos títulos se incluyeron en el volumen 'Los bosques de la memoria' (Poesía 1968-2000)\, publicado por Calambur\, en coedición con Institució Alfons El Magnànim\, el año 2000. \nEs también autor del 'Diccionario otro de lugares comunes' (Madrid\, 1997)\, editado por Calambur\, un original vocabulario de unas seiscientas entradas con definiciones\, aproximaciones u opiniones sobre palabras\, términos rutinarios y tópicos admitidos en las conversaciones diarias de la "gente de la calle". Y del libro vanguardista 'Quizá Brigitte Bardot venga a tomar una copa esta noche' (1971)\, un conjunto de 31 collages de acusado tono experimental\, aparecido en homenaje a la actriz francesa\, calificado de obra maestra por el Times. Alfonso López Gradolí ha sido galardonado con el Premio Boscán\, el Premio Luis Rosales\, el Premio Vicente Gaos y el Premio de la Crítica de la Comunidad Valenciana\, entre otros.
URL:https://historico.ateneovalencia.es/evento/poetas-en-el-ateneo-xix-alfonso-lopez-gradoli/
LOCATION:Salón Sorolla - Ateneo Mercantil de Valencia\, Plaza del Ayuntamiento 18\, Valencia\, Valencia\, 46002\, España
CATEGORIES:Poetas en el Ateneo
ATTACH;FMTTYPE=image/jpeg:https://historico.ateneovalencia.es/wp-content/uploads/2018/05/20180531-Poetas-en-el-Ateneo-Alfonso-Lopez-Gradoli.jpg
END:VEVENT
END:VCALENDAR