BEGIN:VCALENDAR
VERSION:2.0
PRODID:-//Ateneo Mercantil de Valencia - ECPv6.0.4//NONSGML v1.0//EN
CALSCALE:GREGORIAN
METHOD:PUBLISH
X-ORIGINAL-URL:https://historico.ateneovalencia.es
X-WR-CALDESC:Eventos para Ateneo Mercantil de Valencia
REFRESH-INTERVAL;VALUE=DURATION:PT1H
X-Robots-Tag:noindex
X-PUBLISHED-TTL:PT1H
BEGIN:VTIMEZONE
TZID:Europe/Madrid
BEGIN:DAYLIGHT
TZOFFSETFROM:+0100
TZOFFSETTO:+0200
TZNAME:CEST
DTSTART:20170326T010000
END:DAYLIGHT
BEGIN:STANDARD
TZOFFSETFROM:+0200
TZOFFSETTO:+0100
TZNAME:CET
DTSTART:20171029T010000
END:STANDARD
END:VTIMEZONE
BEGIN:VEVENT
DTSTART;TZID=Europe/Madrid:20171130T190000
DTEND;TZID=Europe/Madrid:20171130T190000
DTSTAMP:20260424T020923
CREATED:20171030T112516Z
LAST-MODIFIED:20171127T132646Z
UID:27214-1512068400-1512068400@historico.ateneovalencia.es
SUMMARY:Poetas en el Ateneo XV: Antonio Porpetta
DESCRIPTION:Nueva cita de Poetas en el Ateneo\, en el que el poeta invitado será Antonio Porpetta. La cita será el próximo 30 de noviembre a las 19:00 h. en el Salón Sorolla. \nAntonio Porpetta nació en Elda (Alicante) y reside en Madrid. Su primer libro data de 1978. Desde entonces ha publicado una extensa obra que abarca la poesía\, el ensayo y la narrativa. \nParte de su poesía ha sido traducida y publicada en formato de libro a los idiomas: alemán\, inglés\, ruso\, serbio\, rumano\, valenciano\, italiano\, portugués\, francés y árabe\, y una de sus antologías poéticas más extensas fue editada en sistema Braille por la Organización Nacional de Ciegos de España. Tesis y estudios amplios sobre su obra han sido publicados en España\, Rumanía y Estados Unidos. \nHa recibido prestigiosos galardones\, entre ellos\, en España\, los premios: “Fastenrath” (de la Real Academia Española)\, “Gules”\, “Hilly Mendelsohnn”\, “José Hierro”\, y “Ciudad de Valencia”\, de poesía y de ensayo\, junto a los de la “Crítica Literaria Valenciana”\, de ensayo y de poesía; y en el extranjero: la “Llave de Oro de la Ciudad de Smederevo (Serbia)”\, por la difusión de su obra en aquel país; una Proclama de Honor de la Presidencia del Condado de Manhattan\, por sus actividades académico-literarias con las comunidades hispanas de Nueva York (Teachers College\, Columbia University); y la “Orden de Don Quijote” (Lehman College\, City University of New York)\, por su intensa labor hispanista en instituciones académicas de los Estados Unidos. \nDesde 1984 gran parte de su actividad pública ha venido desarrollándose fuera de España\, con frecuente presencia en universidades y centros culturales de muy diversos países -29 hasta la fecha- de los cinco continentes como conferenciante\, lector de poesía y director de seminarios de iniciación poética. \nEl 9 de octubre de 2012 fue galardonado con el Premio de las Letras de la Generalitat Valenciana “como reconocimiento a su obra literaria y a su dedicación para el acercamiento y disfrute del lenguaje y la sensibilidad poética”. \nAntonio Porpetta es también Licenciado en Derecho y Doctor en Ciencias de la Información por la Universidad Complutense de Madrid y Miembro Correspondiente de las Academias Norteamericana (Nueva York) y Guatemalteca de la Lengua Española.
URL:https://historico.ateneovalencia.es/evento/poetas-en-el-ateneo-xv-antonio-porpetta/
LOCATION:Salón Sorolla - Ateneo Mercantil de Valencia\, Plaza del Ayuntamiento 18\, Valencia\, Valencia\, 46002\, España
CATEGORIES:Poetas en el Ateneo
ATTACH;FMTTYPE=image/jpeg:https://historico.ateneovalencia.es/wp-content/uploads/2017/10/20171130-Poetas-Ateneo-XV-Antonio-Porpetta.jpg
END:VEVENT
END:VCALENDAR