BEGIN:VCALENDAR
VERSION:2.0
PRODID:-//Ateneo Mercantil de Valencia - ECPv6.0.4//NONSGML v1.0//EN
CALSCALE:GREGORIAN
METHOD:PUBLISH
X-WR-CALNAME:Ateneo Mercantil de Valencia
X-ORIGINAL-URL:https://historico.ateneovalencia.es
X-WR-CALDESC:Eventos para Ateneo Mercantil de Valencia
REFRESH-INTERVAL;VALUE=DURATION:PT1H
X-Robots-Tag:noindex
X-PUBLISHED-TTL:PT1H
BEGIN:VTIMEZONE
TZID:Europe/Madrid
BEGIN:DAYLIGHT
TZOFFSETFROM:+0100
TZOFFSETTO:+0200
TZNAME:CEST
DTSTART:20170326T010000
END:DAYLIGHT
BEGIN:STANDARD
TZOFFSETFROM:+0200
TZOFFSETTO:+0100
TZNAME:CET
DTSTART:20171029T010000
END:STANDARD
END:VTIMEZONE
BEGIN:VEVENT
DTSTART;TZID=Europe/Madrid:20170224T193000
DTEND;TZID=Europe/Madrid:20170224T213000
DTSTAMP:20260425T062047
CREATED:20170120T084026Z
LAST-MODIFIED:20170120T084152Z
UID:19072-1487964600-1487971800@historico.ateneovalencia.es
SUMMARY:Poetas en el Ateneo XI: Juan María Calles
DESCRIPTION:El próximo viernes 24 de febrero de 2017\, a las 19:30 horas\, tendrá lugar\, en el Salón Sorolla\, un nueva cita de Poetas en el Ateneo\, y ya es la decimoprimera\, en la que nos visitará Juan María Calles\, ganador en 2014 del Premio de Poesía Internacional Miguel Hernández. \nJuan María Calles\, (Cáceres\, 1963) es escritor y político en activo. Doctor en Filología Hispánica por la Universidad de Valencia. Ha trabajado como profesor en la enseñanza secundaria\, y como profesor de Literatura española en la Universidad de Valencia. Destacan sus investigaciones en el campo de la teoría literaria y de la literatura española contemporánea. En 1986 obtuvo el Premio Adonais de poesía. Miembro de la Asociación Bibliográfica Valenciana Jerónima Galès y de la Asociación de la Crítica Valenciana. Ha sido Subdelegado del Gobierno de España en Castellón desde 2004 hasta 2007. En la actualidad es Concejal Portavoz del Grupo Socialista en el Ayuntamiento de Castellón y miembro de la dirección del PSPV-PSOE de la Comunidad Valenciana. \nObra literaria:\nPoesía\n1987 - El peregrino junto al mar (1980-1984)\n1987 - Silencio Celeste\n1992 - Extraño Narciso\n1997 - Kairós\n2002 - El ruedo invisible (Variaciones sobre un tema español)\n2002 - Viaje de Familia\n2005 - La tripulación del Estrella\n2009 - Materia sensible\n2012 - La música del aire\n2014 - Una figura de barro\n2014 - Poética del viajero \nEnsayo\n2003 - La modalización en el discurso poético\n2003 - Esteticismo y compromiso: la poesía de Max Aub en el laberinto español de la edad de plata\, (1923 a 1939)\n2003 - Max Aub en el laberinto del siglo XX\n2007 - Tomás Meabe\, La palabra en la piedra\n2010 - La escritura en libertad \nPremios\n1986 - Premio Adonáis (por Silencio Celeste )\n2012 - Premio de poesía Fundación ECOEM (por La música del aire )\n2014 - Premio Internacional de Poesía Miguel Hernández (por Una figura de barro)\n2014 - Premio Hispanoamericano de poesía Juan Ramón Jiménez (por Poética del viajero)
URL:https://historico.ateneovalencia.es/evento/poetas-en-el-ateneo-xi-juan-maria-calles/
LOCATION:Salón Sorolla - Ateneo Mercantil de Valencia\, Plaza del Ayuntamiento 18\, Valencia\, Valencia\, 46002\, España
CATEGORIES:Poetas en el Ateneo
ATTACH;FMTTYPE=image/jpeg:https://historico.ateneovalencia.es/wp-content/uploads/2017/01/20170224-Poetas-XI-Juan-Maria-Calles.jpg
END:VEVENT
END:VCALENDAR