BEGIN:VCALENDAR
VERSION:2.0
PRODID:-//Ateneo Mercantil de Valencia - ECPv6.0.4//NONSGML v1.0//EN
CALSCALE:GREGORIAN
METHOD:PUBLISH
X-ORIGINAL-URL:https://historico.ateneovalencia.es
X-WR-CALDESC:Eventos para Ateneo Mercantil de Valencia
REFRESH-INTERVAL;VALUE=DURATION:PT1H
X-Robots-Tag:noindex
X-PUBLISHED-TTL:PT1H
BEGIN:VTIMEZONE
TZID:Europe/Madrid
BEGIN:DAYLIGHT
TZOFFSETFROM:+0100
TZOFFSETTO:+0200
TZNAME:CEST
DTSTART:20170326T010000
END:DAYLIGHT
BEGIN:STANDARD
TZOFFSETFROM:+0200
TZOFFSETTO:+0100
TZNAME:CET
DTSTART:20171029T010000
END:STANDARD
END:VTIMEZONE
BEGIN:VEVENT
DTSTART;TZID=Europe/Madrid:20170109T193000
DTEND;TZID=Europe/Madrid:20170109T193000
DTSTAMP:20260425T043702
CREATED:20161207T112704Z
LAST-MODIFIED:20170105T115335Z
UID:17892-1483990200-1483990200@historico.ateneovalencia.es
SUMMARY:Poetas en el Ateneo X: Francisca Aguirre
DESCRIPTION:Comenzamos muy fuertes el año 2017 en Poetas en el Ateneo con la visita de la alicantina Francisca Aguirre\, Premio Nacional de Poesía en 2011\, el próximo 9 de enero a las 19:30 horas en el Salón de Actos. Intervendrá el guitarrista José María Gallardo del Rey. \nFrancisca Aguirre es poeta y narradora. Nacida en Alicante en 1930\, es hija del pintor Lorenzo Aguirre\, que en 1942 fue asesinado por el régimen de Franco. Inició su escolarización en Francia durante el exilio.  En 1963 se casa con el poeta Félix Grande y en 1965 nace la hija de ambos\, Guadalupe. \nÍtaca\, su primer libro de poemas\, obtiene el premio de poesía “Leopoldo Panero” en 1971. Desde entonces ha publicado los siguientes libros de poesía: Los trescientos escalones (Premio Ciudad de Irún\, 1976\,)\, La otra música (1977)\, Ensayo general (Premio Esquio\, 1995)\, Pavana del desasosiego (Premio María Isabel Fernández Simal\, 1998)\, Ensayo general\, Poesía Completa 1966-2000 (Premio Nacional de la Crítica Valenciana 2001\, Calambur Editorial\, 2000 y 2014)\, La herida absurda (Editorial Bartleby\, 2006)\, Nanas para dormir desperdicios (Premio Valencia de Poesía\, Editorial Hiperión\, 2007)\, Historia de una anatomía (Premio Miguel Hernández\, 2010\, Premio Nacional de Poesía\, 2011\, Hiperión 2010) y Conversaciones con mi animal de compañía (Editorial Rilke\, 2012). En 1994 obtiene el “Premio Galiana” por su libro de relatos Que planche Rosa Luxemburgo (reeditado en Germanía\, Valencia\, 2002). En 1995 publica en la Colección Literaria de la Universidad Popular José Hierro su libro de recuerdos Espejito\, espejito (reeditado en 2012). Sus poemas han sido traducidos al valenciano\, inglés\, francés\, italiano y portugués. \nCartel de Presentación del Acto:
URL:https://historico.ateneovalencia.es/evento/poetas-en-el-ateneo-x-francisca-aguirre/
LOCATION:Teatro Ateneo
CATEGORIES:Poetas en el Ateneo
ATTACH;FMTTYPE=image/jpeg:https://historico.ateneovalencia.es/wp-content/uploads/2016/12/20170109-Poetas-en-el-Ateneo-Francisca-Aguirre.jpg
END:VEVENT
END:VCALENDAR