BEGIN:VCALENDAR
VERSION:2.0
PRODID:-//Ateneo Mercantil de Valencia - ECPv6.0.4//NONSGML v1.0//EN
CALSCALE:GREGORIAN
METHOD:PUBLISH
X-ORIGINAL-URL:https://historico.ateneovalencia.es
X-WR-CALDESC:Eventos para Ateneo Mercantil de Valencia
REFRESH-INTERVAL;VALUE=DURATION:PT1H
X-Robots-Tag:noindex
X-PUBLISHED-TTL:PT1H
BEGIN:VTIMEZONE
TZID:Europe/Madrid
BEGIN:DAYLIGHT
TZOFFSETFROM:+0100
TZOFFSETTO:+0200
TZNAME:CEST
DTSTART:20160327T010000
END:DAYLIGHT
BEGIN:STANDARD
TZOFFSETFROM:+0200
TZOFFSETTO:+0100
TZNAME:CET
DTSTART:20161030T010000
END:STANDARD
END:VTIMEZONE
BEGIN:VEVENT
DTSTART;TZID=Europe/Madrid:20160526T213000
DTEND;TZID=Europe/Madrid:20160526T230000
DTSTAMP:20260426T043015
CREATED:20160526T173040Z
LAST-MODIFIED:20160725T080819Z
UID:11597-1464298200-1464303600@historico.ateneovalencia.es
SUMMARY:Poetas en el Ateneo con Guillermo Carnero
DESCRIPTION:El próximo 26 de mayo a las 19:00 horas en el Salón Sorolla tendrá lugar un nuevo encuentro de Poetas en el Ateneo con la visita de Guillermo Carnero Arbat\, poeta perteneciente a la corriente de los novísimos\, una de las más reconocidas y relevantes en la poesía española contemporánea. \nHa recibido el Premio Nacional de la Crítica\, año 2000\, el Premio Nacional de Literatura\, año 2000\, el Premio de la Crítica Valenciana\, años 2000 y 2003\, el Premio Fastenrath de la Real Academia Española\, año 2002\, el Premio Internacional de Poesía Loewe\, 2005\, el Premio de las Letras Valencianas\, 2006 y el Premio de Investigación Filológica de la Fundación Luis Guarner\, 2013. Es académico numerario de la Real Academia de Cultura Valenciana. \nEn definitiva\, un gran poeta que nos vendrá a contar sus experiencias en el mundo de la poesía. Te lo vas a perder….
URL:https://historico.ateneovalencia.es/evento/poetas-en-el-ateneo-con-guillermo-carnero/
LOCATION:Salón Sorolla - Ateneo Mercantil de Valencia\, Plaza del Ayuntamiento 18\, Valencia\, Valencia\, 46002\, España
CATEGORIES:Poetas en el Ateneo
ATTACH;FMTTYPE=image/jpeg:https://historico.ateneovalencia.es/wp-content/uploads/2016/07/Poetas-6-Guillermo-Carnero.jpg
END:VEVENT
END:VCALENDAR