BEGIN:VCALENDAR
VERSION:2.0
PRODID:-//Ateneo Mercantil de Valencia - ECPv6.0.4//NONSGML v1.0//EN
CALSCALE:GREGORIAN
METHOD:PUBLISH
X-ORIGINAL-URL:https://historico.ateneovalencia.es
X-WR-CALDESC:Eventos para Ateneo Mercantil de Valencia
REFRESH-INTERVAL;VALUE=DURATION:PT1H
X-Robots-Tag:noindex
X-PUBLISHED-TTL:PT1H
BEGIN:VTIMEZONE
TZID:Europe/Madrid
BEGIN:DAYLIGHT
TZOFFSETFROM:+0100
TZOFFSETTO:+0200
TZNAME:CEST
DTSTART:20250330T010000
END:DAYLIGHT
BEGIN:STANDARD
TZOFFSETFROM:+0200
TZOFFSETTO:+0100
TZNAME:CET
DTSTART:20251026T010000
END:STANDARD
END:VTIMEZONE
BEGIN:VEVENT
DTSTART;TZID=Europe/Madrid:20250519T183000
DTEND;TZID=Europe/Madrid:20250519T200000
DTSTAMP:20260422T020141
CREATED:20250425T085233Z
LAST-MODIFIED:20250425T085236Z
UID:83719-1747679400-1747684800@historico.ateneovalencia.es
SUMMARY:Ciclo Tardes de LiterAteneo XXVIII: Toni Alcolea. Pasión por el abecedario
DESCRIPTION:El Ateneo Mercantil de Valencia tiene el placer de invitarles a una nueva edición del Ciclo Tardes de LiterAteneo. En esta ocasión\, rendimos homenaje a la labor incansable del editor Toni Alcolea\, alma de la editorial Olé Libros. Toni Alcolea es mucho más que un editor: es un apasionado de las letras\, de la filosofía oriental\, de la poesía\, de la narrativa\, de la literatura infantil… y\, sobre todo\, de la vida. Su carácter positivo\, constante\, optimista y paciente le define\, al igual que su profunda conexión con la palabra escrita\, una herencia familiar marcada por figuras como su tío Alfred Ramos\, su tía Victoria Navarro y su abuelo. \nEn esta XXVIII edición\, descubriremos su universo literario\, su amor por el abecedario y su vocación editorial\, en un encuentro cercano y emotivo. \n📅 Lunes 19 de mayo de 2025🕡 18:30 horas📍 Salón Sorolla – Ateneo Mercantil de Valencia🎙 Presenta: Vicente Barberá Albalat🎤 Coordina: Vicente Bosch \n🎟 Entrada libre y gratuita hasta completar aforo. \n¡Te esperamos para compartir una tarde de inspiración\, letras y pasión editorial! \nCartel:
URL:https://historico.ateneovalencia.es/evento/ciclo-tardes-de-literateneo-xxviii-toni-alcolea-pasion-por-el-abecedario/
LOCATION:Salón Sorolla - Ateneo Mercantil de Valencia\, Plaza del Ayuntamiento 18\, Valencia\, Valencia\, 46002\, España
CATEGORIES:Tardes de LiterAteneo
ATTACH;FMTTYPE=image/jpeg:https://historico.ateneovalencia.es/wp-content/uploads/2025/04/20250519-Tardes-LiterAteneo-XXVIII-Toni-Alcolea.jpg
END:VEVENT
END:VCALENDAR