BEGIN:VCALENDAR
VERSION:2.0
PRODID:-//Ateneo Mercantil de Valencia - ECPv6.0.4//NONSGML v1.0//EN
CALSCALE:GREGORIAN
METHOD:PUBLISH
X-WR-CALNAME:Ateneo Mercantil de Valencia
X-ORIGINAL-URL:https://historico.ateneovalencia.es
X-WR-CALDESC:Eventos para Ateneo Mercantil de Valencia
REFRESH-INTERVAL;VALUE=DURATION:PT1H
X-Robots-Tag:noindex
X-PUBLISHED-TTL:PT1H
BEGIN:VTIMEZONE
TZID:Europe/Madrid
BEGIN:DAYLIGHT
TZOFFSETFROM:+0100
TZOFFSETTO:+0200
TZNAME:CEST
DTSTART:20250330T010000
END:DAYLIGHT
BEGIN:STANDARD
TZOFFSETFROM:+0200
TZOFFSETTO:+0100
TZNAME:CET
DTSTART:20251026T010000
END:STANDARD
END:VTIMEZONE
BEGIN:VEVENT
DTSTART;TZID=Europe/Madrid:20250517T190000
DTEND;TZID=Europe/Madrid:20250517T210000
DTSTAMP:20260423T145134
CREATED:20250325T094803Z
LAST-MODIFIED:20250506T110730Z
UID:83376-1747508400-1747515600@historico.ateneovalencia.es
SUMMARY:APLAZADO - Gran Concierto de Piano de Susana Gómez Vázquez
DESCRIPTION:Estimado/a comprador/a\, \nLe informamos que\, por motivos ajenos a la organización\, el concierto de piano de Susana Gómez Vázquez\, previsto para el 17 de mayo de 2025\, ha sido aplazado. \nLa nueva fecha será anunciada próximamente\, y para esa ocasión se pondrán a la venta nuevas entradas. Por este motivo\, las entradas adquiridas para el 17 de mayo no serán válidas para la nueva fecha\, y se procederá a su reembolso completo. \nLa devolución del importe se realizará automáticamente en los próximos días a través del mismo método de pago utilizado en la compra. Si lo hizo en taquillas del Ateneo se les devolverá en Secretaría del Ateneo y si lo hizo por servientradas se les reembolsará en la tarjeta que utilizó para la compra (no será necesario realizar ninguna gestión adicional por su parte). \nLamentamos las molestias que este cambio pueda ocasionar y agradecemos su comprensión. Esperamos contar con su presencia en la nueva fecha\, que anunciaremos muy pronto. \n-------------------------------------------------------------------------- \nEl próximo 17 de mayo\, el Ateneo Mercantil de Valencia acogerá un concierto excepcional de la pianista Susana Gómez Vázquez\, una de las intérpretes más destacadas de su generación. Bajo el título "AGUA"\, esta velada nos sumergirá en un viaje sonoro donde la música evocará la fluidez\, la profundidad y la fuerza simbólica del agua en sus distintos estados. \nEl programa\, cuidadosamente seleccionado\, nos transportará a paisajes musicales impresionistas y románticos\, con obras de Debussy\, Chopin\, Albéniz\, Mendelssohn\, Ravel\, Bonis y Alkan. A través de cada pieza\, el público podrá experimentar la delicadeza de los reflejos en el agua\, la melancolía de una barcarola o la inmensidad del océano. \nCon una interpretación llena de sensibilidad y virtuosismo\, Susana Gómez Vázquez nos invita a vivir una experiencia musical única\, donde el piano se convierte en el vehículo perfecto para transmitir la belleza y la emoción de este elemento esencial. \nENTRADAS: Platea: 20 € - Anfiteatro: 15 € - Palcos: 25 €\nDescuento del 10% para socios comprando en taquilla del Ateneo. \nPrograma:\nClaude Debussy (1862-1918)\nClair de Lune\nReflets dans l’eau (Images\, libro 1) – Reflejos en el agua\nFrédéric Chopin (1810-1849)\nPreludio n.º 15\nPreludio n.º 16\nFanny Mendelssohn (1805-1847)\nJune and September (Junio y Septiembre)\nClaude Debussy (1862-1918)\nPreludio n.º 6: Des pas sur la neige – Pasos sobre la nieve\nMel Bonis (1858-1937)\nBarcarolle\, op. 71\nCharles-Valentin Alkan (1813-1888)\nPreludio n.º 8\, op. 31: Song of the Madwoman on the Seashore – Canción de una mujer loca a la orilla del mar\nIsaac Albéniz (1860-1909)\nEl puerto (Suite Iberia)\nMaurice Ravel (1875-1937)\nOndine\nFrédéric Chopin (1810-1849)\nBarcarolle\, op. 60 \nNo te pierdas esta experiencia sensorial única. ¡Reserva tu entrada y déjate llevar por la magia del agua y la música! \n¡Te esperamos para un concierto de piano legendario!\nCartel:\n 
URL:https://historico.ateneovalencia.es/evento/gran-concierto-de-piano-de-susana-gomez-vazquez/
LOCATION:Teatro Ateneo
CATEGORIES:Conciertos y Recitales
ATTACH;FMTTYPE=image/jpeg:https://historico.ateneovalencia.es/wp-content/uploads/2025/03/20250517-Concierto-Piano-Susana-Gomez-Aplazado.jpg
END:VEVENT
END:VCALENDAR