BEGIN:VCALENDAR
VERSION:2.0
PRODID:-//Ateneo Mercantil de Valencia - ECPv6.0.4//NONSGML v1.0//EN
CALSCALE:GREGORIAN
METHOD:PUBLISH
X-ORIGINAL-URL:https://historico.ateneovalencia.es
X-WR-CALDESC:Eventos para Ateneo Mercantil de Valencia
REFRESH-INTERVAL;VALUE=DURATION:PT1H
X-Robots-Tag:noindex
X-PUBLISHED-TTL:PT1H
BEGIN:VTIMEZONE
TZID:Europe/Madrid
BEGIN:DAYLIGHT
TZOFFSETFROM:+0100
TZOFFSETTO:+0200
TZNAME:CEST
DTSTART:20250330T010000
END:DAYLIGHT
BEGIN:STANDARD
TZOFFSETFROM:+0200
TZOFFSETTO:+0100
TZNAME:CET
DTSTART:20251026T010000
END:STANDARD
END:VTIMEZONE
BEGIN:VEVENT
DTSTART;TZID=Europe/Madrid:20250413T113000
DTEND;TZID=Europe/Madrid:20250413T130000
DTSTAMP:20260421T223024
CREATED:20250402T163922Z
LAST-MODIFIED:20250407T230020Z
UID:83475-1744543800-1744549200@historico.ateneovalencia.es
SUMMARY:Música en el Ateneo - Muestra coreográfica de Danza del CSDV 'Nacho Duato'
DESCRIPTION:La Fundación Ateneo Mercantil de la CV junto al Conservatori Superior de Dansa de València 'Nacho Duato' presentan una espectacular muestra coreográfica en honor al Día Internacional de la Danza (29 de abril). Un evento que celebra el arte del movimiento y la música a través de una serie de interpretaciones inolvidables. \nEste muestrario coreográfico es una celebración vibrante y diversa de la danza en sus múltiples formas y estilos. Se trata de una selección de piezas que reflejan la riqueza del lenguaje corporal y la fusión entre tradición y contemporaneidad\, con un repertorio que abarca desde el ballet clásico hasta propuestas más vanguardistas. \n📅 Fecha: Domingo 13 de abril\n🕒 Hora: 11:30 h\n🎭 Lugar: Teatro Ateneo\n🎉 Entrada libre y gratuita \nEn conjunto\, este evento promete ser un espectáculo emocionante y lleno de matices\, donde los intérpretes tendrán la oportunidad de mostrar su versatilidad y sensibilidad artística. \nPrograma:\n\n\nCoordenadas \n\nCoreografía: Intérpretes\nMúsica: Salt Womb\nIntérpretes: Laia Ávalos\, Mar Báñon\, Pastora Domínguez\, Estela Fernández\, Roser Fuster\, Paula García\, Reyhaneh Haji Ghasemi\, Lara Guardado\, Marianna Markova\, Raúl Martínez\, Diana Muñoz\, Eleonora Nazarova\, Michelle Romero\, Marina Sánchez\, Alicia Zamyslova\n\n\nVals del Caballero\n\nCoreografía: Marian Escrivà\nMúsica: Federico Chueca\nIntérpretes: Natacha Asenjo\, Rocío García\, Vicente Ferragut\n\n\nSmokers (Extracto)\n\nCoreografía: Isabel Peña\nMúsica: Violeta Parra\nIntérpretes: Juan Pablo Camacho\, Alba Hernández\, Ada Lerma\, Sara Navarro\, Carlota Paz\, Isabel Peña\n\n\nColas (La fille mal gardée)\n\nCoreografía: Alexander Gorsky\nMúsica: Peter Ludwing Hertel\nIntérpretes: Jesús Fagil\n\n\nValses Opus 39\, Selección 2 y 8\n\nCoreografía: Frederick Ashton\nMúsica: Johannes Brahms\nPianista: Santiago Casero\nIntérpretes: Nayara Palazón\n\n\nLa table verte\n\nCoreografía: Kurt Jooss\nMúsica: Fritz Cohen\nIntérpretes: Cristóbal Crespo\, Lucía Ferrer\, Marta Mayayo\, Georgia Pineda\, Ariane Rocha\, Leire Valls\, Sonia Vicedo\n\n\nTu che d’ardir M’Accendi\n\nDirección: Carmen Giménez\nMúsica: Porpora\nIntérpretes: Laia Ávalos\, Mar Báñon\, Pastora Domínguez\, Estela Fernández\, Roser Fuster\, Paula García\, Lara Guardado\, Marianna Markova\, Raúl Martínez\, Verónica Martínez\, Maya Minguez\, Diana Muñoz\, Eleonora Nazarova\, Michelle Romero\, Marina Sánchez\, Elsa Sarrión\, Alicia Zamyslova\n\n\nPasacalle \n\nCoreografía: Marian Escrivà\nMúsica: Federico Chueca\nIntérpretes: Natacha Asenjo\, Rocío García\, Vicente Ferragut\n\n\nMotherhood\n\nCoreografía: Ada Lerma\nMúsica: Varios\nIntérpretes: Sara Navarro\, Isabel Peña\, Júlia Puertos\, Sabela Ribes\n\n\nDance at a Gathering\n\nCoreografía: Jerome Robbins\nMúsica: Frédéric Chopin\nPianista: Santiago Casero\nIntérpretes: Asiah Moreno\, Eila Valls\n\n\nCórdoba\n\nCoreografía: Carlos Chamorro (adaptación la intérprete)\nMúsica: Isaac Albéniz\nPianista: Santiago Casero\nIntérpretes: Marta Ferré\n\n\nFantasma\n\nCoreografía: Alumnado\nMúsica: Alumnado Máster Sonología CSMV\nIntérpretes: Laia Ávalos\, Mar Báñon\, Pastora Domínguez\, Estela Fernández\, Roser Fuster\, Paula García\, Lara Guardado\, Marianna Markova\, Raúl Martínez\, Diana Muñoz\, Eleonora Nazarova\, Michelle Romero\, Marina Sánchez\, Alicia Zamyslova\n\n\nPobles de Fang\n\nCoreografía: Alicia Herrero e intérpretes\nMúsica: Jun Miyake y La María\nIntérpretes: Elisa Chuliá\, Isabel García\, Alba Hernández\, Ada Lerma\, Sara Navarro\, Carlota Paz\, Isabel Peña\, Sabela Ribes\n\n\nFandango Dª Francisquita\n\nCoreografía: Aloma de Balma\nMúsica: Amadeo Vives\nIntérpretes: Natacha Asenjo\, Rocío García\, Vicente Ferragut\n\n\n\nNo te pierdas esta maravillosa oportunidad de disfrutar de la danza y la música en vivo en un entorno incomparable. Te esperamos en el Teatro Ateneo! \nCartel:\n 
URL:https://historico.ateneovalencia.es/evento/musica-en-el-ateneo-muestra-coreografica-de-danza-del-csdv-nacho-duato/
LOCATION:Teatro Ateneo
CATEGORIES:Conciertos Domingos
ATTACH;FMTTYPE=image/jpeg:https://historico.ateneovalencia.es/wp-content/uploads/2025/04/20250413-Danza-CSDV-Nacho-Duato.jpg
END:VEVENT
BEGIN:VEVENT
DTSTART;TZID=Europe/Madrid:20250413T183000
DTEND;TZID=Europe/Madrid:20250413T200000
DTSTAMP:20260421T223024
CREATED:20250402T154733Z
LAST-MODIFIED:20250402T154733Z
UID:83468-1744569000-1744574400@historico.ateneovalencia.es
SUMMARY:Música en el Ateneo - Recital gratuito "Dúos con Piano" del CSMC
DESCRIPTION:La Fundación del Ateneo Mercantil de la CV organiza un nuevo concierto dentro del Ciclo Música en el Ateneo el próximo domingo 13 de abril a las 18.30 horas en el Teatro Ateneo. Será la segunda cita dominical con la música\, ya que por la mañana se celebrará una muestra coreográfica del Conservatori Superior de Dansa de València 'Nacho Duato'. \nEn esta ocasión el Conservatorio Superior de Música de Castellón 'Salvador Seguí' nos trae un recital de Dúos con Piano en el que dos flautistas\, Andrea Edo Través y Claudia Macías Escrihuela\, interpretan junto con su profesor de Repertorio con Piano\, Daniel García González\, una combinación fascinante de piezas barrocas\, clásicas\, románticas y contemporáneas\, con obras que exploran diferentes estilos y enfoques técnicos para la flauta. \nEste concierto ofrece una amplia variedad de estilos y enfoques técnicos\, desde la música barroca de Vivaldi hasta la modernidad de Varèse y Muczynski. Destaca la evolución de la escritura para flauta\, mostrando tanto su lirismo como su capacidad para la experimentación sonora. \nPrograma:\nPrimera parte: Andrea Edo Través \n\n\nConcerto in G minor "La Notte" – Antonio Vivaldi \n\n\nUna obra emblemática del barroco que captura el misterio y la atmósfera nocturna a través de contrastes dinámicos y pasajes virtuosos. \n\n\n\n\nIntroducción y variaciones sobre el tema "La bella molinera" – Franz Schubert \n\n\nBasada en una de las canciones del ciclo Die schöne Müllerin\, estas variaciones muestran la riqueza melódica y expresiva de Schubert\, con ornamentaciones brillantes en la flauta. \n\n\n\n\nDensity 21.5 – Edgard Varèse \n\n\nUna pieza revolucionaria para flauta sola\, donde Varèse explora la textura y el timbre de la flauta de platino (de 21.5 de densidad\, de ahí el título)\, con un lenguaje atonal y un enfoque casi escultórico del sonido. \n\n\n\n\nSegunda parte: Claudia Macías Escrihuela \n\n\nConcierto n°2 en Re menor – Franz Danzi \n\n\nDanzi\, un compositor del clasicismo tardío y puente hacia el romanticismo\, ofrece un concierto lleno de elegancia\, lirismo y virtuosismo. \n\n\n\n\nCamino para Flauta Sola – Violeta Gil García \n\n\nUna pieza contemporánea que probablemente explore nuevas sonoridades y técnicas extendidas\, resaltando la expresividad individual de la flauta. \n\n\n\n\nSonata para Flauta y Piano – Robert Muczynski \n\n\nComposición del siglo XX con un estilo neoclásico y un gran diálogo entre la flauta y el piano\, alternando entre movimientos rítmicos y líricos. \n\n\n\n\nCartel:
URL:https://historico.ateneovalencia.es/evento/musica-en-el-ateneo-recital-gratuito-duos-con-piano-del-csmc/
LOCATION:Teatro Ateneo
CATEGORIES:Conciertos Domingos
ATTACH;FMTTYPE=image/jpeg:https://historico.ateneovalencia.es/wp-content/uploads/2025/04/20250413-CSMC-Duos-Piano.jpg
END:VEVENT
END:VCALENDAR