BEGIN:VCALENDAR
VERSION:2.0
PRODID:-//Ateneo Mercantil de Valencia - ECPv6.0.4//NONSGML v1.0//EN
CALSCALE:GREGORIAN
METHOD:PUBLISH
X-ORIGINAL-URL:https://historico.ateneovalencia.es
X-WR-CALDESC:Eventos para Ateneo Mercantil de Valencia
REFRESH-INTERVAL;VALUE=DURATION:PT1H
X-Robots-Tag:noindex
X-PUBLISHED-TTL:PT1H
BEGIN:VTIMEZONE
TZID:Europe/Madrid
BEGIN:DAYLIGHT
TZOFFSETFROM:+0100
TZOFFSETTO:+0200
TZNAME:CEST
DTSTART:20250330T010000
END:DAYLIGHT
BEGIN:STANDARD
TZOFFSETFROM:+0200
TZOFFSETTO:+0100
TZNAME:CET
DTSTART:20251026T010000
END:STANDARD
END:VTIMEZONE
BEGIN:VEVENT
DTSTART;TZID=Europe/Madrid:20250406T113000
DTEND;TZID=Europe/Madrid:20250406T130000
DTSTAMP:20260423T143524
CREATED:20250324T110549Z
LAST-MODIFIED:20250324T111848Z
UID:83362-1743939000-1743944400@historico.ateneovalencia.es
SUMMARY:Música en el Ateneo: El Violoncello en la Música de Cámara - ESMAR
DESCRIPTION:La Fundación del Ateneo Mercantil de la CV y la Escuela de Música de Alto Rendimiento ESMAR organizan un concierto gratuito dentro del Ciclo Música en el Ateneo. El concierto "El Violoncello en la Música de Cámara" es un emocionante viaje a través de la literatura para violoncello en la música de cámara. Desde el virtuosismo del Concierto en Re Mayor de Haydn\, pasando por la riqueza lírica del romanticismo con Brahms y Saint-Saëns\, hasta la audaz evolución del lenguaje musical en el siglo XX con Bartók y Cassadó\, este concierto es una oportunidad única para disfrutar de un repertorio variado y expresivo. \n🎻 Jóvenes talentos de la Escuela Superior de Música de Alto Rendimiento (ESMAR)\, bajo la dirección del maestro Adrian Van Dongen\, serán los encargados de interpretar esta selección de grandes obras. \n📅 Domingo 6 de abril de 2025🕦 11:30 horas📍 Ateneo - Entrada libre y gratuita \nPrograma e intérpretes:\n🎼 J. Haydn - Concierto en Re Mayor\, I. Allegro ModeratoIntérprete: 🎻 Nerea Posada\, violoncello \n🎼 B. Bartók - Trío Contrasten\, II. "Pihenö"Intérpretes: 🎻 Victor Coll\, violín\, 🎼 Isabel Moya\, clarinete y 🎹 Sergio Vidaurre\, piano \n🎼 C. Cassadó - RequiebrosIntérprete: 🎻 Luis Crespo\, violoncello \n🎼 C. Saint-Saëns - Concierto en la menor Op. 33\, I. Allegro moltoIntérprete: 🎻 Ryan Dong\, violoncello \n🎼 J. Brahms - Trío para clarinete\, violoncello y piano Op. 114📌 III. Andantino grazioso📌 IV. AllegroIntérpretes: 🎼 Celia Martínez\, clarinete\, 🎻 Luis Crespo\, violoncello y 🎹 Adrien Pla\, piano \n🎼 N. Rimsky-Korsakov - Sheherazade Op. 35 (Introducción\, El Mar\, El barco de Simbad)Intérpretes: 🎻 Victor Coll\, violín\, 🎼 Isabel Moya\, clarinete\, 🎻 Adrian Van Dongen\, violoncello y 🎹 Sergio Vidaurre\, piano \n🎹 Pianista acompañante: José Madrid🎻 Profesor y director: Adrian Van Dongen \nUn concierto único\, lleno de emoción y virtuosismo\, que no te puedes perder. ¡Te esperamos! \nCartel:
URL:https://historico.ateneovalencia.es/evento/musica-en-el-ateneo-el-violoncello-en-la-musica-de-camara-esmar/
LOCATION:Teatro Ateneo
CATEGORIES:Conciertos Domingos
ATTACH;FMTTYPE=image/jpeg:https://historico.ateneovalencia.es/wp-content/uploads/2025/03/20250406-Musica-en-el-Ateneo-Cello-ESMAR.jpg
END:VEVENT
END:VCALENDAR