BEGIN:VCALENDAR
VERSION:2.0
PRODID:-//Ateneo Mercantil de Valencia - ECPv6.0.4//NONSGML v1.0//EN
CALSCALE:GREGORIAN
METHOD:PUBLISH
X-ORIGINAL-URL:https://historico.ateneovalencia.es
X-WR-CALDESC:Eventos para Ateneo Mercantil de Valencia
REFRESH-INTERVAL;VALUE=DURATION:PT1H
X-Robots-Tag:noindex
X-PUBLISHED-TTL:PT1H
BEGIN:VTIMEZONE
TZID:Europe/Madrid
BEGIN:DAYLIGHT
TZOFFSETFROM:+0100
TZOFFSETTO:+0200
TZNAME:CEST
DTSTART:20250330T010000
END:DAYLIGHT
BEGIN:STANDARD
TZOFFSETFROM:+0200
TZOFFSETTO:+0100
TZNAME:CET
DTSTART:20251026T010000
END:STANDARD
END:VTIMEZONE
BEGIN:VEVENT
DTSTART;TZID=Europe/Madrid:20250405T190000
DTEND;TZID=Europe/Madrid:20250405T210000
DTSTAMP:20260421T220338
CREATED:20250328T104448Z
LAST-MODIFIED:20250328T105027Z
UID:83431-1743879600-1743886800@historico.ateneovalencia.es
SUMMARY:Concierto Gratuito: XXV Encuentro de Corales Jesús-María
DESCRIPTION:La Agrupación Coral Jesús-María te invita a disfrutar de una noche única de música y armonía en el XXV Encuentro de Corales Jesús-María. \n📅 Fecha: Sábado 5 de abril de 2025🕖 Hora: 19:00 h📍 Lugar: Teatro Ateneo🎟 Entrada libre y gratuita \nEste tradicional evento reúne a talentosos coros en un concierto especial que celebra la pasión por el canto coral. No te pierdas esta oportunidad de vivir una velada inolvidable con voces que emocionan y unen. ¡Te esperamos! \nCartel:
URL:https://historico.ateneovalencia.es/evento/concierto-gratuito-xxv-encuentro-de-corales-jesus-maria/
LOCATION:Teatro Ateneo
CATEGORIES:Conciertos y Recitales
ATTACH;FMTTYPE=image/jpeg:https://historico.ateneovalencia.es/wp-content/uploads/2025/03/20250405-XXV-Encuentro-de-Corales-Jesus-Maria.jpg
END:VEVENT
END:VCALENDAR