BEGIN:VCALENDAR
VERSION:2.0
PRODID:-//Ateneo Mercantil de Valencia - ECPv6.0.4//NONSGML v1.0//EN
CALSCALE:GREGORIAN
METHOD:PUBLISH
X-WR-CALNAME:Ateneo Mercantil de Valencia
X-ORIGINAL-URL:https://historico.ateneovalencia.es
X-WR-CALDESC:Eventos para Ateneo Mercantil de Valencia
REFRESH-INTERVAL;VALUE=DURATION:PT1H
X-Robots-Tag:noindex
X-PUBLISHED-TTL:PT1H
BEGIN:VTIMEZONE
TZID:Europe/Madrid
BEGIN:DAYLIGHT
TZOFFSETFROM:+0100
TZOFFSETTO:+0200
TZNAME:CEST
DTSTART:20250330T010000
END:DAYLIGHT
BEGIN:STANDARD
TZOFFSETFROM:+0200
TZOFFSETTO:+0100
TZNAME:CET
DTSTART:20251026T010000
END:STANDARD
END:VTIMEZONE
BEGIN:VEVENT
DTSTART;TZID=Europe/Madrid:20250331T190000
DTEND;TZID=Europe/Madrid:20250331T203000
DTSTAMP:20260423T130323
CREATED:20250304T102034Z
LAST-MODIFIED:20250304T102404Z
UID:83271-1743447600-1743453000@historico.ateneovalencia.es
SUMMARY:Tardes de LiterAteneo XXVI: J. R. Barat: Un viaje literario
DESCRIPTION:El Ateneo Mercantil de Valencia tiene el placer de invitarle a una nueva edición de Tardes de LiterAteneo\, la 26ª edición del ciclo\, un espacio dedicado a la literatura y el pensamiento. En esta ocasión\, contaremos con la presencia del escritor Juan Ramón Barat Dolz\, quien nos llevará a través de un fascinante viaje literario. \n📅 Fecha: Lunes 31 de marzo⏰ Hora: 19 horas📍 Lugar: Sala Sorolla (5ª planta del Ateneo Mercantil de Valencia)🎟 Entrada: Libre y gratuita hasta completar aforo \n📢 Invitado: Juan Ramón Barat Dolz🎙 Presenta: Pascual Casañ📚 Coordinan: Vicente Bosch y Vicente Barberá Albalat \nEl escritor Juan Ramón Barat Dolz (Valencia\, 1959) cultiva todos los géneros literarios y ha recibido diversos premios y reconocimientos como poeta\, dramaturgo y narrador. Entre sus obras destacan: \n\n1707\, el sueño perdido (novela histórica sobre la Guerra de Sucesión)\nJaime I el rey templario (ambientada en la Baja Edad Media)\nInfierno de neón (Premio Internacional «Ciudad de Salamanca»)\nDeja en paz a los muertos (Premio Hache 2014 - mejor novela juvenil)\nLa sepultura 142 (su continuación\, publicada en la colección Paralelo Cero)\n\nUna oportunidad única para disfrutar de un viaje literario de la mano de uno de los grandes escritores del panorama actual. ¡No te lo pierdas! \nCartel:
URL:https://historico.ateneovalencia.es/evento/tardes-de-literateneo-xxvi-j-r-barat-un-viaje-literario/
LOCATION:Salón Sorolla - Ateneo Mercantil de Valencia\, Plaza del Ayuntamiento 18\, Valencia\, Valencia\, 46002\, España
CATEGORIES:Tardes de LiterAteneo
ATTACH;FMTTYPE=image/jpeg:https://historico.ateneovalencia.es/wp-content/uploads/2025/03/20250331-LterAteneo-XXVI-Barat.jpg
END:VEVENT
END:VCALENDAR