BEGIN:VCALENDAR
VERSION:2.0
PRODID:-//Ateneo Mercantil de Valencia - ECPv6.0.4//NONSGML v1.0//EN
CALSCALE:GREGORIAN
METHOD:PUBLISH
X-ORIGINAL-URL:https://historico.ateneovalencia.es
X-WR-CALDESC:Eventos para Ateneo Mercantil de Valencia
REFRESH-INTERVAL;VALUE=DURATION:PT1H
X-Robots-Tag:noindex
X-PUBLISHED-TTL:PT1H
BEGIN:VTIMEZONE
TZID:Europe/Madrid
BEGIN:DAYLIGHT
TZOFFSETFROM:+0100
TZOFFSETTO:+0200
TZNAME:CEST
DTSTART:20250330T010000
END:DAYLIGHT
BEGIN:STANDARD
TZOFFSETFROM:+0200
TZOFFSETTO:+0100
TZNAME:CET
DTSTART:20251026T010000
END:STANDARD
END:VTIMEZONE
BEGIN:VEVENT
DTSTART;TZID=Europe/Madrid:20250314T153000
DTEND;TZID=Europe/Madrid:20250314T220000
DTSTAMP:20260422T002300
CREATED:20250227T104028Z
LAST-MODIFIED:20250227T104659Z
UID:83249-1741966200-1741989600@historico.ateneovalencia.es
SUMMARY:¡Mascletard! El mejor tardeo de Fallas 2025 con música en directo de San Bernardino y Dani Moreno 'El Gallo'
DESCRIPTION:Las Fallas 2025 llegan con más fuerza que nunca\, y para dar inicio a los días grandes de la fiesta\, te traemos Mascletard\, el tardeo que hará vibrar Valencia con el mejor ritmo y los mayores éxitos. \nPrepárate para una tarde espectacular con dos de los grandes de la radio musical: Cristian San Bernardino y Dani Moreno "El Gallo". Sus sesiones han recorrido toda la geografía nacional\, y ahora aterrizan en el Ateneo Mercantil de Valencia para hacerte bailar sin parar. Con una mezcla única de los temas más icónicos y las novedades más pegadizas\, estos DJs te harán vivir una experiencia inolvidable\, llena de energía y buen ambiente. La cabina de Mascletard traerá la mejor música para que no pares de moverte. \nAdemás\, el entorno del Ateneo Mercantil de Valencia\, en plena Plaza del Ayuntamiento\, se convertirá en el epicentro de la diversión\, rodeado del espíritu festivo de las Fallas. Entre amigos\, buena música y una atmósfera única\, esta será una de esas citas que no te puedes perder. Disfruta de una tarde de celebración con el auténtico sabor fallero y el mejor tardeo de la ciudad. \nFecha y horario:\n📅 Viernes 14 de marzo de 2025\n⏰ De 15:30 a 22:00 horas\n📍 Ateneo Mercantil de Valencia (Plaza del Ayuntamiento) \nEntradas:\n🎟 Precio: 12 € (incluye consumición: cerveza o refresco)\n🎟 Adquiérelas en online aquí: ateneovalencia.es o en taquillas del Ateneo.\n🎟 Descuento del 10% para socios comprando en taquilla.\nNo te pierdas la oportunidad de disfrutar de una tarde inolvidable en pleno corazón de Valencia. Vive la música en directo\, el mejor ambiente fallero y arranca la fiesta con Mascletard. \n¡Te esperamos para un tardeo legendario! \nCartel:
URL:https://historico.ateneovalencia.es/evento/mascletard-el-mejor-tardeo-de-fallas-2025-con-musica-en-directo-de-san-bernardino-y-dani-moreno-el-gallo/
LOCATION:Salón Noble - Ateneo Mercantil de Valencia\, Plaza del Ayuntamiento 18\, Valencia\, Valencia\, 46002\, España
CATEGORIES:Conciertos y Recitales
ATTACH;FMTTYPE=image/jpeg:https://historico.ateneovalencia.es/wp-content/uploads/2025/02/20250314-Tardeo-Fallero-MASCLETARD.jpg
END:VEVENT
END:VCALENDAR