BEGIN:VCALENDAR
VERSION:2.0
PRODID:-//Ateneo Mercantil de Valencia - ECPv6.0.4//NONSGML v1.0//EN
CALSCALE:GREGORIAN
METHOD:PUBLISH
X-WR-CALNAME:Ateneo Mercantil de Valencia
X-ORIGINAL-URL:https://historico.ateneovalencia.es
X-WR-CALDESC:Eventos para Ateneo Mercantil de Valencia
REFRESH-INTERVAL;VALUE=DURATION:PT1H
X-Robots-Tag:noindex
X-PUBLISHED-TTL:PT1H
BEGIN:VTIMEZONE
TZID:Europe/Madrid
BEGIN:DAYLIGHT
TZOFFSETFROM:+0100
TZOFFSETTO:+0200
TZNAME:CEST
DTSTART:20250330T010000
END:DAYLIGHT
BEGIN:STANDARD
TZOFFSETFROM:+0200
TZOFFSETTO:+0100
TZNAME:CET
DTSTART:20251026T010000
END:STANDARD
END:VTIMEZONE
BEGIN:VEVENT
DTSTART;TZID=Europe/Madrid:20250209T113000
DTEND;TZID=Europe/Madrid:20250209T130000
DTSTAMP:20260423T081824
CREATED:20250131T102451Z
LAST-MODIFIED:20250131T102900Z
UID:82997-1739100600-1739106000@historico.ateneovalencia.es
SUMMARY:Concierto Gratuito - Música en el Ateneo: Alumnos becados de la ESMAR 2024
DESCRIPTION:El Ateneo Mercantil de Valencia y la Fundación del Ateneo Mercantil de CV se complacen en invitarles a un concierto gratuito dentro del Ciclo Música en el Ateneo. Este evento contará con la participación de talentosos jóvenes músicos seleccionados en el programa de BECAS ESMAR 2024\, quienes interpretarán un variado repertorio de gran calidad técnica y expresiva. \nFecha y Hora: Domingo 9 de febrero de 2025\, a las 11:30 horas\nLugar: Teatro Ateneo\, Ateneo Mercantil de Valencia\n(Plaza del Ayuntamiento\, 18\, Valencia)\nEntrada libre hasta completar aforo \nPrograma:\n\nMarta Castro Llavata\, clarinete\n\nAdagio e Tarantella para clarinete y piano\n(Ernesto Cavallini)\n\n\nAdrián Rioja Santos\, trombón\n\nBallade pour trombone ténor\n(Eugene Bozza)\n\n\nHelena Martínez Carrión\, violín\n\nHabanera\n(Camille Saint-Saëns)\n\n\nLucía Abad Romero\, soprano\n\nPiangerò la sorte mia (Julio César)\n(George Philip Händel)\nJe Veux Vivre (Romeo y Julieta)\n(Charles Gounod)\n\n\nMarta Castro Llavata\, clarinete\n\nMonolog No.3 para clarinete solo\n\nI. Andante sostenuto\nII. Allegro vivace\n(Erland von Koch)\n\n\n\n\nAdrián Rioja Santos\, trombón\n\nConcerto for alto trombone\n(Georg Christoph Wagenseil)\n\n\nHelena Martínez Carrión\, violín\n\nRecitativo und Scherzo Caprice\n(Fritz Kreisler)\n\n\nLucía Abad Romero\, soprano\n\nNuit d’Etoiles\n(Claude Debussy)\nMe llaman la Primorosa (El Barbero de Sevilla)\n(Gerónimo Giménez y Manuel Nieto)\n\n\n\nPianistas acompañantes:\nDiego Sánchez\, Pablo Báidez y Adolfo García \nSobre los Intérpretes:\nLos músicos que participan en este concierto han sido seleccionados dentro del programa de BECAS ESMAR 2024 por un tribunal especializado\, gracias a su excelencia técnica e interpretativa. Todos ellos están cursando estudios de Grado Superior en Interpretación en la Escuela Superior de Música de Alto Rendimiento\, bajo la tutela de profesores de prestigio internacional. Pese a su juventud\, ya han obtenido diversos premios y reconocimientos en instituciones artísticas de gran relevancia. \nEste programa ofrece una selección de piezas que combinan un alto virtuosismo técnico con una profunda fuerza expresiva\, brindando al público una experiencia inolvidable. \n¡Les esperamos para disfrutar de una mañana de música excepcional! \nCartel:
URL:https://historico.ateneovalencia.es/evento/concierto-gratuito-musica-en-el-ateneo-alumnos-becados-de-la-esmar-2024/
LOCATION:Teatro Ateneo
CATEGORIES:Conciertos Domingos
ATTACH;FMTTYPE=image/jpeg:https://historico.ateneovalencia.es/wp-content/uploads/2025/01/20250209-Concierto-Alumnos-Becados-ESMAR.jpg
END:VEVENT
END:VCALENDAR