BEGIN:VCALENDAR
VERSION:2.0
PRODID:-//Ateneo Mercantil de Valencia - ECPv6.0.4//NONSGML v1.0//EN
CALSCALE:GREGORIAN
METHOD:PUBLISH
X-WR-CALNAME:Ateneo Mercantil de Valencia
X-ORIGINAL-URL:https://historico.ateneovalencia.es
X-WR-CALDESC:Eventos para Ateneo Mercantil de Valencia
REFRESH-INTERVAL;VALUE=DURATION:PT1H
X-Robots-Tag:noindex
X-PUBLISHED-TTL:PT1H
BEGIN:VTIMEZONE
TZID:Europe/Madrid
BEGIN:DAYLIGHT
TZOFFSETFROM:+0100
TZOFFSETTO:+0200
TZNAME:CEST
DTSTART:20250330T010000
END:DAYLIGHT
BEGIN:STANDARD
TZOFFSETFROM:+0200
TZOFFSETTO:+0100
TZNAME:CET
DTSTART:20251026T010000
END:STANDARD
END:VTIMEZONE
BEGIN:VEVENT
DTSTART;TZID=Europe/Madrid:20250202T113000
DTEND;TZID=Europe/Madrid:20250202T130000
DTSTAMP:20260423T064737
CREATED:20250128T110048Z
LAST-MODIFIED:20250128T110049Z
UID:82937-1738495800-1738501200@historico.ateneovalencia.es
SUMMARY:Música en el Ateneo: Recital de Piano y Cámara – Dúo Becchio del CSMC
DESCRIPTION:El Ateneo Mercantil de Valencia se complace en presentar un nuevo evento gratuito dentro del prestigioso Ciclo Música en el Ateneo. Este domingo 2 de febrero\, a las 11:30 horas\, el emblemático Teatro Ateneo (Plaza del Ayuntamiento\, 18) acogerá un recital de piano y música de cámara a cargo del talentoso pianista Óscar Álvarez y el Dúo Becchio\, formado por Óscar Álvarez y Mario Teruel al cello. \nEl programa promete un recorrido musical que abarca desde la elegancia clásica de Mozart hasta la profundidad emocional de Shostakovich y la energía vibrante de Kabalevsky\, destacando el virtuosismo y la conexión íntima de los intérpretes con las obras seleccionadas. \nSobre los intérpretes\nÓscar Álvarez es un graduado superior en música en la especialidad de piano\, con una destacada trayectoria académica y artística. Ha perfeccionado sus estudios con prestigiosos profesores como Balázs Fülei\, Christoph Soldan y Peter Bethel\, y ha sido galardonado en múltiples concursos. Compagina su máster en interpretación con la docencia y una activa agenda de compromisos nacionales e internacionales. \nEl Dúo Becchio\, fundado en 2023\, se ha consolidado rápidamente como una prometedora formación de música de cámara. Con un repertorio que abarca obras de gran exigencia técnica y artística\, el dúo ha recibido elogios por sus actuaciones en escenarios como el Real Casino Antiguo de Castellón y el Ateneo Mercantil de Valencia. En 2024\, obtuvo el Segundo Premio en el V Concurso de Música de Cámara del CSMC. \nPrograma \n\nSonata No. 11 en La Mayor\, K. 331 – W.A. Mozart\nI. Tema (Andante grazioso) con variazioni\nII. Menuetto\nIII. Rondó Alla Turca (Allegretto)\nIntérprete: Óscar Álvarez\nPreludio y fuga Op. 87 No. 24 en Re menor – D. Shostakovich\nIntérprete: Óscar Álvarez\nSonata para cello en Si bemol\, Op. 71 – D. Kabalevsky\nI. Andante molto sostenuto\nII. Allegretto con moto\nIntérpretes: Óscar Álvarez y Mario Teruel\n\nUna experiencia inolvidable que combina maestría interpretativa y pasión por la música. ¡No te lo pierdas! \nCartel:
URL:https://historico.ateneovalencia.es/evento/musica-en-el-ateneo-recital-de-piano-y-camara-duo-becchio-del-csmc/
LOCATION:Teatro Ateneo
CATEGORIES:Conciertos Domingos
ATTACH;FMTTYPE=image/jpeg:https://historico.ateneovalencia.es/wp-content/uploads/2025/01/20250202-Duo-Becchio-CSMC.jpg
END:VEVENT
END:VCALENDAR