BEGIN:VCALENDAR
VERSION:2.0
PRODID:-//Ateneo Mercantil de Valencia - ECPv6.0.4//NONSGML v1.0//EN
CALSCALE:GREGORIAN
METHOD:PUBLISH
X-WR-CALNAME:Ateneo Mercantil de Valencia
X-ORIGINAL-URL:https://historico.ateneovalencia.es
X-WR-CALDESC:Eventos para Ateneo Mercantil de Valencia
REFRESH-INTERVAL;VALUE=DURATION:PT1H
X-Robots-Tag:noindex
X-PUBLISHED-TTL:PT1H
BEGIN:VTIMEZONE
TZID:Europe/Madrid
BEGIN:DAYLIGHT
TZOFFSETFROM:+0100
TZOFFSETTO:+0200
TZNAME:CEST
DTSTART:20250330T010000
END:DAYLIGHT
BEGIN:STANDARD
TZOFFSETFROM:+0200
TZOFFSETTO:+0100
TZNAME:CET
DTSTART:20251026T010000
END:STANDARD
END:VTIMEZONE
BEGIN:VEVENT
DTSTART;TZID=Europe/Madrid:20250113T183000
DTEND;TZID=Europe/Madrid:20250113T200000
DTSTAMP:20260423T141042
CREATED:20250102T120352Z
LAST-MODIFIED:20250107T122931Z
UID:82589-1736793000-1736798400@historico.ateneovalencia.es
SUMMARY:Tardes de LiterAteneo XXV: "Salvador Raga y la Fundación Vinatea. 101 razones para dar sentido a tu lectura"
DESCRIPTION:El próximo lunes 13 de enero de 2025\, a las 18:30 horas\, el Salón Sorolla del Ateneo Mercantil de Valencia acogerá la XXV edición del Ciclo Tardes de LiterAteneo\, un espacio dedicado a la literatura y la poesía que en esta ocasión nos acerca a un tema de profundo impacto cultural y social. \nBajo el título "Salvador Raga y la Fundación Vinatea. 101 razones para dar sentido a tu lectura"\, exploraremos cómo la Fundación Vinatea Editorial trabaja para combinar la pasión por la lectura y la cultura con proyectos solidarios. Esta organización no sólo fomenta la edición de libros y conferencias que destacan aspectos de la cultura valenciana\, sino que también destina los recursos obtenidos a financiar proyectos sociales en diferentes partes del mundo\, mostrando el impacto transformador de la cultura y la solidaridad. \nLa conferencia contará con la intervención de Salva Raga\, presidente de diversas organizaciones culturales y solidarias como la Asociación Cultural "Via Vicentius Valentiae – Gogistes Valencians" y la ONG Valencianistes per la Solidaritat\, además de ser creador y coordinador del Grupo Cultural Germanies y director/editor de la Editorial Vinatea. La presentación estará a cargo de Félix Molina y la coordinación del acto es responsabilidad de Vicente Bosch y Vicente Barberá Albalat. \nDetalles del evento:\n📅 Fecha: Lunes\, 13 de enero de 2025\n⏰ Hora: 18:30 horas\n📍 Lugar: Salón Sorolla\, Ateneo Mercantil de Valencia \nTe invitamos a sumarte a esta tarde literaria donde la palabra escrita se transforma en una herramienta para el cambio social y cultural. ¡Te esperamos! \nCartel:
URL:https://historico.ateneovalencia.es/evento/tardes-de-literateneo-xxv-salvador-raga-y-la-fundacion-vinatea-101-razones-para-dar-sentido-a-tu-lectura/
LOCATION:Salón Sorolla - Ateneo Mercantil de Valencia\, Plaza del Ayuntamiento 18\, Valencia\, Valencia\, 46002\, España
CATEGORIES:Tardes de LiterAteneo
ATTACH;FMTTYPE=image/jpeg:https://historico.ateneovalencia.es/wp-content/uploads/2025/01/20250113-LiterAteneo-XXV-Salva-Raga-1.jpg
END:VEVENT
END:VCALENDAR