BEGIN:VCALENDAR
VERSION:2.0
PRODID:-//Ateneo Mercantil de Valencia - ECPv6.0.4//NONSGML v1.0//EN
CALSCALE:GREGORIAN
METHOD:PUBLISH
X-WR-CALNAME:Ateneo Mercantil de Valencia
X-ORIGINAL-URL:https://historico.ateneovalencia.es
X-WR-CALDESC:Eventos para Ateneo Mercantil de Valencia
REFRESH-INTERVAL;VALUE=DURATION:PT1H
X-Robots-Tag:noindex
X-PUBLISHED-TTL:PT1H
BEGIN:VTIMEZONE
TZID:Europe/Madrid
BEGIN:DAYLIGHT
TZOFFSETFROM:+0100
TZOFFSETTO:+0200
TZNAME:CEST
DTSTART:20250330T010000
END:DAYLIGHT
BEGIN:STANDARD
TZOFFSETFROM:+0200
TZOFFSETTO:+0100
TZNAME:CET
DTSTART:20251026T010000
END:STANDARD
END:VTIMEZONE
BEGIN:VEVENT
DTSTART;TZID=Europe/Madrid:20250112T113000
DTEND;TZID=Europe/Madrid:20250112T130000
DTSTAMP:20260423T064736
CREATED:20250107T182107Z
LAST-MODIFIED:20250107T182108Z
UID:82616-1736681400-1736686800@historico.ateneovalencia.es
SUMMARY:Música en el Ateneo: Concierto gratuito del Grupo de Cámara del CSMC
DESCRIPTION:La Fundación del Ateneo Mercantil de la Comunidad Valenciana continúa promoviendo la cultura musical con un nuevo concierto dentro del Ciclo Música en el Ateneo. Este evento se celebrará el próximo domingo\, 12 de enero\, a las 11:30 horas en el Teatro Ateneo\, y contará con la participación de un talentoso Grupo de Cámara del Conservatorio Superior de Música 'Salvador Seguí' de Castellón. \nUn Viaje Sonoro Inolvidable\nEl concierto ofrece un repertorio cuidadosamente seleccionado que abarca diferentes épocas y estilos musicales\, transportando al público en un recorrido sonoro lleno de colores\, matices y sensaciones. Los jóvenes intérpretes del conservatorio demostrarán su destreza y pasión por la música en piezas de grandes compositores como Beethoven\, Debussy\, Shostakovich y Dvořák\, entre otros. \nPrograma del Concierto\n\nTrío en Sol mayor\, Op.1 No.2 – L. van Beethoven\n\nÓscar Besó\, Vicent Botella\, Álvaro Giménez\n\n\nCuarteto en Sol menor\, Op.10 – Claude Debussy\n\nAltea Carrascosa\, Elena Sánchez\, Lucía Albort\, Clara Cobe\n\n\nTrío en Mi menor\, Op.67 No.2 – D. Shostakovich\n\nAltea Carrascosa\, Christos Cahztinathanail\, Marta Talamantes\n\n\nQuinteto en La mayor\, Op.81 No.2 – Antonín Dvořák\n\nElena Sancho\, Pablo Benito\, Andreu Monllor\, Dani Madrid\, Aitana Moya\n\n\nTrío Kebach - Andrea Siurana Renau\, Christos Cahztinathanail\, Kevin Ibáñez Palanques\n\nL. v. Beethoven: Trío en Sib M\, Op.11 "Gassenhauer trio"\nAllegro con brio | Adagio | Tema con variazioni. Allegretto\n\n\nSaxers Quartet - Daniel Vilanova\, Joan Pérez\, Sergi Garcia\, Jordi Flich\n\nD. Maslanka: Songs for the Coming Day\nVIII. The soul is here for its own joy\n\n\nVents de la Plana - Damian Ruiz\, Pau Gallardo\, Raúl Tena\, Josep Domenech\n\nA. Uhl: Divertimento\n\n\n\nDetalles del Evento\n\n📅 Fecha: Domingo\, 12 de enero de 2025\n⏰ Hora: 11:30 h\n📍 Lugar: Teatro Ateneo\, Ateneo Mercantil de Valencia\n🎟️ Entrada: Gratuita hasta completar aforo\n\nEste evento cuenta con la coordinación de Manuel Camarasa\, responsable del Ciclo Música en el Ateneo. No pierdas la oportunidad de disfrutar de este concierto único que destaca el talento joven y la excelencia musical. ¡Te esperamos! \nCartel:
URL:https://historico.ateneovalencia.es/evento/musica-en-el-ateneo-concierto-gratuito-del-grupo-de-camara-del-csmc/
CATEGORIES:Conciertos Domingos
ATTACH;FMTTYPE=image/jpeg:https://historico.ateneovalencia.es/wp-content/uploads/2025/01/20250112-Musica-en-el-Ateneo-Grupo-de-Camara-CSMC.jpg
END:VEVENT
END:VCALENDAR