BEGIN:VCALENDAR
VERSION:2.0
PRODID:-//Ateneo Mercantil de Valencia - ECPv6.0.4//NONSGML v1.0//EN
CALSCALE:GREGORIAN
METHOD:PUBLISH
X-WR-CALNAME:Ateneo Mercantil de Valencia
X-ORIGINAL-URL:https://historico.ateneovalencia.es
X-WR-CALDESC:Eventos para Ateneo Mercantil de Valencia
REFRESH-INTERVAL;VALUE=DURATION:PT1H
X-Robots-Tag:noindex
X-PUBLISHED-TTL:PT1H
BEGIN:VTIMEZONE
TZID:Europe/Madrid
BEGIN:DAYLIGHT
TZOFFSETFROM:+0100
TZOFFSETTO:+0200
TZNAME:CEST
DTSTART:20240331T010000
END:DAYLIGHT
BEGIN:STANDARD
TZOFFSETFROM:+0200
TZOFFSETTO:+0100
TZNAME:CET
DTSTART:20241027T010000
END:STANDARD
END:VTIMEZONE
BEGIN:VEVENT
DTSTART;TZID=Europe/Madrid:20241221T190000
DTEND;TZID=Europe/Madrid:20241221T190000
DTSTAMP:20260421T234052
CREATED:20241128T235654Z
LAST-MODIFIED:20241204T015641Z
UID:82312-1734807600-1734807600@historico.ateneovalencia.es
SUMMARY:Arias de Ópera en Navidad – Un concierto mágico en Valencia
DESCRIPTION:Este próximo 21 de diciembre de 2024\, el espíritu navideño y la grandeza de la ópera se unen en un concierto único en el Ateneo Mercantil de Valencia. Sumérgete en la belleza de las famosas arias de ópera y piezas clásicas de los más grandes compositores italianos\, como Verdi\, Vivaldi\, y Puccini\, junto a las cautivadoras canciones napolitanas que evocan la esencia de la Antigua Italia. \nUn trío de cuerda excepcional\, acompañado por un talentoso tenor y una soprano\, dará vida a un repertorio deslumbrante que promete transportarte a otra época. Además\, el Teatro Ateneo\, con su elegancia y\, desde el Salón Stolz\, sus vistas privilegiadas a la Plaza del Ayuntamiento\, será el escenario perfecto para esta experiencia inolvidable. \nDetalles del Evento\n📅 Fecha: Sábado\, 21 de diciembre de 2024\n📍 Lugar: Teatro del Ateneo Mercantil de Valencia\n🎟️ Entradas: \n\nPrecio: 40 € (IVA incluido)\nDescuento: 10% para socios\n(Nota: No se admiten devoluciones)\n\nQué disfrutarás:\n\nLas piezas más bellas del Romanticismo Italiano.\nCanciones emblemáticas como O Sole Mio\, La donna è mobile\, y el inolvidable Brindis de La Traviata.\nUn escenario con excelente acústica y una atmósfera mágica.\nUn repertorio navideño que incluye clásicos como Noche de Paz y Adeste Fideles.\n\nRepertorio Destacado:\n\nThe Second Waltz (D. Shostakovich)\n Mattinata (Leoncavallo\,Rugero)\nO mío Babbino Caro (Puccini)\nFuniculi\, Funicula (L. Denza)\nSanta Lucía (Cottrau)\nLa donna e mobile (G.Verdi)\nAdeste Fidelis\nNessum Dorna (Puccini)\nO Sole Mío (E.Di Capua)\nLa Traviata-Brindis (Verdi)\nBianco Natale / Blanca Navidad\nAstro del Ciel / Noche de PazNota: Programación sujeta a posibles modificaciones.\n\nVenta de entradas  aquí: https://acortar.link/VXPQe2 \nEl Ateneo Mercantil ha implementado todas las medidas de seguridad\, incluyendo desinfección continua y control de aforo\, para garantizar una experiencia cómoda y segura para todos los asistentes. \n¡No pierdas la oportunidad de vivir una Navidad inolvidable con este concierto único!\nReserva tus entradas y déjate emocionar por la magia de la música clásica. \nCartel:
URL:https://historico.ateneovalencia.es/evento/arias-de-opera-en-navidad-un-concierto-magico-en-valencia/
LOCATION:Teatro Ateneo
CATEGORIES:Conciertos Domingos,Conciertos y Recitales,Navidad
ATTACH;FMTTYPE=image/jpeg:https://historico.ateneovalencia.es/wp-content/uploads/2024/11/Banner-Evento.jpg
END:VEVENT
END:VCALENDAR