BEGIN:VCALENDAR
VERSION:2.0
PRODID:-//Ateneo Mercantil de Valencia - ECPv6.0.4//NONSGML v1.0//EN
CALSCALE:GREGORIAN
METHOD:PUBLISH
X-WR-CALNAME:Ateneo Mercantil de Valencia
X-ORIGINAL-URL:https://historico.ateneovalencia.es
X-WR-CALDESC:Eventos para Ateneo Mercantil de Valencia
REFRESH-INTERVAL;VALUE=DURATION:PT1H
X-Robots-Tag:noindex
X-PUBLISHED-TTL:PT1H
BEGIN:VTIMEZONE
TZID:Europe/Madrid
BEGIN:DAYLIGHT
TZOFFSETFROM:+0100
TZOFFSETTO:+0200
TZNAME:CEST
DTSTART:20240331T010000
END:DAYLIGHT
BEGIN:STANDARD
TZOFFSETFROM:+0200
TZOFFSETTO:+0100
TZNAME:CET
DTSTART:20241027T010000
END:STANDARD
END:VTIMEZONE
BEGIN:VEVENT
DTSTART;TZID=Europe/Madrid:20241215T113000
DTEND;TZID=Europe/Madrid:20241215T130000
DTSTAMP:20260421T193700
CREATED:20241213T102252Z
LAST-MODIFIED:20241213T104623Z
UID:82524-1734262200-1734267600@historico.ateneovalencia.es
SUMMARY:Música en el Ateneo: Concierto de Navidad Coro Optativo del CSMV y Viktoria Kaunzner (violín)-Rafael Cuellar (oboe)
DESCRIPTION:El próximo domingo 15 de diciembre de 2024\, a las 11:30 h\, el Teatro Ateneo se llenará de música y espíritu navideño con un espectacular Concierto Gratuito de Navidad. Este evento contará con el talento del Coro Optativo del CSMV\, acompañado por los solistas Viktoria Kaunzner al violín y Rafael Cuellar al oboe. \n✨ Notas al programa:\nEl Conservatorio Superior de Música "Joaquín Rodrigo" de Valencia\, con más de 130 años de historia\, es un referente en la formación musical en España. Este concierto ofrecerá un programa excepcional en dos partes: \n\nLa Primera Parte incluye obras de Tartini\, Bach y composiciones originales de Viktoria Kaunzner\, interpretadas junto a la Orquesta de Cámara del CSMV.\nLa Segunda Parte celebra la música navideña con piezas sacras y populares de Victoria\, Praetorius y villancicos tradicionales como "Chiquirriquitín" y "Campana sobre campana".\n\n📍 Detalles del evento:\n📅 Fecha: Domingo\, 15 de diciembre de 2024\n⏰ Hora: 11:30 h\n📍 Lugar: Teatro Ateneo\, Ateneo Mercantil de Valencia\n🎟️ Entrada libre y gratuita hasta completar aforo. \n🎼 Vive la magia de la Navidad con un concierto único que une tradición\, talento y el espíritu de estas fiestas. ¡Te esperamos! \nPrograma:\nPrimera Parte  \n\nSonata en Sol m. Op.1 nº10 Didone abbandonata | Giuseppe Tartini (1692-1770)\n\n\nAffetuoso\nPresto\nAllegro\n\n\nLiquid Sunshine | Viktoria Kaunzner (1982-)\nLullaby | Viktoria Kaunzner (1982-)\nWinter Star | Viktoria Kaunzner (1982-)\nConcierto para oboe y violín en Do m. BWV 1060 | S: Bach (1685-1750)\n\n\nAllegro\nAdagio\nAllegro\n\n\nIntérpretes: Viktoria Kaunzner (violín)\, Rafael Cuellar (oboe)\nOrquesta de cámara del Conservatorio Superior de Música “Joaquín Rodrigo” de Valencia. Juan Pablo Hellín\, director. \n\nSegunda Parte  \n\nAve María | Tomás Luis de Victoria (1548-1611)\nAve María | Javier Busto (1949-)\nIn dulci jubilo | Michael Praetorius (1571 - 1621)\nHacia Belén va una burra | Popular/Arm.Francisco Civil (1895-1990)\nChiquirriquitín | Popular/Conrad Susa (1935-2013)\nCampana sobre campana | Popular/Conrad Susa (1935-2013)\nJingle Bell Rock | Joseph Beal (1900-1967)\nNoche de paz | Franz Grübber (1787-1863)\nCoro optativo del Conservatorio Superior de Música “Joaquín Rodrigo” de Valencia \nDavid Ortolà\, Piano. \nPablo Gimeno\, Laura Grießhaber. Directores.\n\nCartel:
URL:https://historico.ateneovalencia.es/evento/musica-en-el-ateneo-concierto-de-navidad-coro-optativo-del-csmv-y-viktoria-kaunzner-violin-rafael-cuellar-oboe/
LOCATION:Teatro Ateneo
CATEGORIES:Conciertos Domingos
ATTACH;FMTTYPE=image/jpeg:https://historico.ateneovalencia.es/wp-content/uploads/2024/12/20241215-Concierto-Navidad-CSMV-Coro.jpg
END:VEVENT
END:VCALENDAR