BEGIN:VCALENDAR
VERSION:2.0
PRODID:-//Ateneo Mercantil de Valencia - ECPv6.0.4//NONSGML v1.0//EN
CALSCALE:GREGORIAN
METHOD:PUBLISH
X-WR-CALNAME:Ateneo Mercantil de Valencia
X-ORIGINAL-URL:https://historico.ateneovalencia.es
X-WR-CALDESC:Eventos para Ateneo Mercantil de Valencia
REFRESH-INTERVAL;VALUE=DURATION:PT1H
X-Robots-Tag:noindex
X-PUBLISHED-TTL:PT1H
BEGIN:VTIMEZONE
TZID:Europe/Madrid
BEGIN:DAYLIGHT
TZOFFSETFROM:+0100
TZOFFSETTO:+0200
TZNAME:CEST
DTSTART:20240331T010000
END:DAYLIGHT
BEGIN:STANDARD
TZOFFSETFROM:+0200
TZOFFSETTO:+0100
TZNAME:CET
DTSTART:20241027T010000
END:STANDARD
END:VTIMEZONE
BEGIN:VEVENT
DTSTART;TZID=Europe/Madrid:20241210T183000
DTEND;TZID=Europe/Madrid:20241210T200000
DTSTAMP:20260422T011756
CREATED:20241109T112028Z
LAST-MODIFIED:20241111T091329Z
UID:82158-1733855400-1733860800@historico.ateneovalencia.es
SUMMARY:Tardes de LiterAteneo XXIV: Crátera. La poesía es un arma cargada de esperanza
DESCRIPTION:La vigésimo cuarta edición de Tardes de LiterAteneo\, el ciclo de literatura que coordinan Vicente Bosch y Vicente Barberá Albalat\, llega el próximo lunes 12 de diciembre de 2024 al Salón Sorolla del Ateneo Mercantil. Un nuevo encuentro en el que se pondrá en primer plano la importante labor de CRÁTERA Revista de crítica y poesía contemporánea que edita la Asociación Literaria Cratarroja. Llega bajo el título: Crátera. La poesía es un arma cargada de esperanza. \nEl evento contará con la participación de Gregorio Muelas Bermúdez\, Jorge Ortiz Robla y José Antonio Olmedo López-Amor. Los coordinadores serán Vicente Bosch y Vicente Barberá Albalat. Este evento lo organiza la Fundación del Ateneo Mercantil de la CV. \nCurrículums abreviados de los protagonistas:\nGregorio Muelas Bermúdez. Nace en Sagunto en 1977. Licenciado en Historia por la Universidad de Valencia. Ha realizado los cursos de Doctorado en el Departamento de Historia Contemporánea. Especialista en Enseñanza de la Lengua Española y Literatura por la Universidad Europea Miguel de Cervantes. Es socio y miembro de la Junta Directiva de la Asociación Valenciana de Escritores y Críticos Literarios (CLAVE)\, y miembro del Consejo Editorial de la web Todo Literatura. Es cofundador\, codirector y editor de CRÁTERA Revista de crítica y poesía contemporánea. Ha sido finalista del I Premio de Novela Histórica Novel de Benetússer\, ‘Benitúzem’\, por su novela El primer tetrarca (Olé Libros\, 2021); candidato a Mejor Novela Histórica escrita en español en 2023\, XIV Premios Hislibris\, y finalista de los Premios de la Crítica Literaria Valenciana en la modalidad de narrativa por su novela CAOS I. El águila y la cruz (Olé Libros\, 2023). Ha publicado las novelas históricas El primer tetrarca\, La demència (Galés Edicions\, 2023) y CAOS I. El águila y la cruz; los poemarios Aunque me borre el tiempo (2010)\, Un fragmento de eternidad (2014)\, y Estado de Acedia (2019); el libro de guiones de cine Cuando la aurora le hable al tiempo (2011); los libros de haikus La soledad encendida (2015 y 2021) y A la luz de la flor del almendro (2017); y el libro de crítica y ensayo Polifonía de lo inmanente. Apuntes sobre poesía española contemporánea (2010-2017) (2017). \nJorge Ortiz Robla. Nace en las Palmas de Gran Canaria en 1980. Restaurador de Bienes Culturales\, reside en Catarroja. Ha publicado los poemarios Dépayser (Ediciones del 4 de agosto. 2024)\, Por encima de todos los arbustos. Por debajo de todas las flores. [Antología Poética 2024-2014] (Lastura\, 2024)\, La Teja (2023)\, República (2022) M.A.O. [Carta a un padre] (2021) Restauro [Tratado de Conservación] (2021) Mapa Físico (Olé Libros\, 2019)\, Cuerdas de tender (2019)\, Resiliencia (2019)\, El Lenguaje de la Luz / A linguagem da luz. Edición Bilingüe (Portugal\, 2018)\, DOMA (2018)\, La simetría de los insectos (Lastura\, 3º Edición 2016)\, Presbicia (Baile del Sol\, 2016)\, el cuento ilustrado ANIRAM (2017)\, el poemario infantil COCOLAGARTORTUGO [Bestiario Infantil] (2018) y el libro de adivinanzas ilustrado ¿Qué es lo que es? (2021) junto a su hija Candela. Ha recibido el V PREMIO INTERNACIONAL DE POESÍA BREVE "M.ª TERESA ESPASA" 2024 por su obra Parques abandonados. El Accésit del Premio de Poesía Esdrújula 2022\, el Premio Dulce Chacón de Poesía 2022\, el Premio de Poesía “Pedro García Cabrera” CajaCanarias 2021 por su obra M.A.O. [Carta a un padre] y el 1º Premio en el I CERTAMEN NACIONAL DE POESÍA PINTOR JOSÉ LAPASIÓ con el poemario “Mapa Físico” (2019) entre otros. Codirige la Revista Crátera de Crítica y Poesía Contemporánea y Crátera Editores. \nJosé Antonio Olmedo López-Amor. Nace en Valencia (1977)\, se considera un letraherido desde los quince años. Su primera manifestación artística fue el dibujo\, a los cuatro años\, pero en su adolescencia descubrió que las palabras eran mucho más que signos y\, desde entonces\, consagró su vida a la escritura. La música y el cine son otras dos pasiones a las que no dedica el tiempo que le gustaría. Practica el periodismo cultural en revistas y periódicos. Es crítico literario en revistas como Quimera. Es miembro de la junta directiva de la Asociación Valenciana de Escritores y Críticos Literarios (CLAVE) y pertenece a la Asociación de Escritoras y Escritores Extremeños (AEEX). Aunque no se considera un narrador\, tiene varias novelas inéditas y algún libro de relatos. Ha publicado catorce libros\, de ensayo\, poesía y aforismo\, géneros sobre los que ya tiene nuevos libros terminados. En cuanto a estudios\, estos se reparten entre las humanidades y la comunicación audiovisual\, ámbitos del conocimiento en los que actualmente se está doctorando. Cuenta con másteres de investigación avanzada\, creación de guiones audiovisuales y de profesorado de educación secundaria. En la actualidad\, imparte clases de Lengua y Literatura en el instituto Novaschool Rivas Luna de La Eliana. \nTítulo: Crátera. La poesía es un arma cargada de esperanza \nConferenciantes: Gregorio Muelas Bermúdez\, Jorge Ortiz Robla y José Antonio Olmedo López-Amor.  \nDía: Martes\, 10 de diciembre de 2024 \nHora: 18.30 horas \nLugar: Salón Sorolla \nEntrada libre y gratuita hasta completar aforo. \nCartel:
URL:https://historico.ateneovalencia.es/evento/tardes-de-literateneo-xxiv-cratera-la-poesia-es-un-arma-cargada-de-esperanza/
CATEGORIES:Tardes de LiterAteneo
ATTACH;FMTTYPE=image/jpeg:https://historico.ateneovalencia.es/wp-content/uploads/2024/11/20241210-LiterAteneo-XXIV-Cratera.jpg
END:VEVENT
END:VCALENDAR