BEGIN:VCALENDAR
VERSION:2.0
PRODID:-//Ateneo Mercantil de Valencia - ECPv6.0.4//NONSGML v1.0//EN
CALSCALE:GREGORIAN
METHOD:PUBLISH
X-ORIGINAL-URL:https://historico.ateneovalencia.es
X-WR-CALDESC:Eventos para Ateneo Mercantil de Valencia
REFRESH-INTERVAL;VALUE=DURATION:PT1H
X-Robots-Tag:noindex
X-PUBLISHED-TTL:PT1H
BEGIN:VTIMEZONE
TZID:Europe/Madrid
BEGIN:DAYLIGHT
TZOFFSETFROM:+0100
TZOFFSETTO:+0200
TZNAME:CEST
DTSTART:20240331T010000
END:DAYLIGHT
BEGIN:STANDARD
TZOFFSETFROM:+0200
TZOFFSETTO:+0100
TZNAME:CET
DTSTART:20241027T010000
END:STANDARD
END:VTIMEZONE
BEGIN:VEVENT
DTSTART;TZID=Europe/Madrid:20241208T113000
DTEND;TZID=Europe/Madrid:20241208T130000
DTSTAMP:20260421T223045
CREATED:20241202T113910Z
LAST-MODIFIED:20241202T113915Z
UID:82347-1733657400-1733662800@historico.ateneovalencia.es
SUMMARY:Música en el Ateneo: Música de Cámara por el Quella Vita Quintet y Dúo Becchio del CSMC ‘Salvador Seguí’
DESCRIPTION:La Fundación del Ateneo Mercantil de la CV organiza un nuevo concierto dentro del ciclo Música en el Ateneo y que traerá hasta nuestro teatro el próximo domingo 8 de diciembre a las 11.30 horas a los alumnos más aventajados del Conservatorio Superior de Música de Castellón 'Salvador Seguí'. Un concierto de Música de Cámara que se dividirá en dos partes en una primera podremos disfrutar de un dúo de violoncello y piano\, el Dúo Becchio\, mientras que en la segunda parte llega la participación de un quinteto de viento\, Quella Vita quintet. \nDúo Becchio \nLa agrupación surge recientemente\, fruto de dos jóvenes estudiantes con ganas de hacer buena música que unen sus caminos para llevar adelante un proyecto de Música de Cámara. Lo hacen\, además\, en una de las formaciones más exigentes respecto al repertorio\, tanto por la gran cantidad de obras de los más grandes compositores de todos los tiempos como por la dificultad técnica de las mismas. \nDurante su corta trayectoria hasta el momento\, el Dúo Becchio ha ofrecido su primer concierto en el Real Casino Antiguo de la ciudad de Castelló de la Plana\, donde el dúo recibió una cálida acogida por parte del público. También ha participado al V Concurso de Música de Cámara de Castelló el pasado mes de febrero\, donde obtuvieron el segundo premio. \nQuella Vita quintet \nQuinteto formado en el Conservatorio Superior de Música de Castelló "Salvador Seguí". Han participado en los Ciclos de Conciertos de Música de Cámara de Quart de Poblet\, fueron finalistas del V Concurso de Cámara ‘Salvador Seguí’ de Castelló y en el Festival de Música Internacional de Ljubljiana. \nHan realizado masterclass con destacados músicos cono Lorenzo Copola\, Darko Brlek\, etc. \nPrograma:\nPrimera parte – Dúo Becchio (cello y piano) \n Prokofiev (1891-1953). Sonata en Do M Op. 119 (1949). \n\nAndante gave\nModerato\nAllegro\, ma non troppo.\n\nIntérpretes: Óscar Álvarez Peris (piano) y Mario Teruel Santapau (cello) \nSegunda parte – Quella Vita quintet (viento)  \nDavid Maslanka. Wind Quintet n.3.  \n\nLento.\nModerato.\nMolto Allegro\n\n Giménez. (Arr. Veiga) Intermezzo de La Boda de Luís Alonso. \nIntérpretes: Natalia Martínez Pulido\, flauta; Pau Mollà Herráez\, oboe; Raquel Cámara Perelló\, clarinete; Marcos Serrano Smolka\, trompa y Jordi López Prades\, fagot. \nCartel:
URL:https://historico.ateneovalencia.es/evento/musica-en-el-ateneo-musica-de-camara-por-el-quella-vita-quintet-y-duo-becchio-del-csmc-salvador-segui/
LOCATION:Teatro Ateneo
CATEGORIES:Conciertos Domingos
ATTACH;FMTTYPE=image/jpeg:https://historico.ateneovalencia.es/wp-content/uploads/2024/12/20241208-Musica-en-el-Ateneo-CSMC.jpg
END:VEVENT
END:VCALENDAR