BEGIN:VCALENDAR
VERSION:2.0
PRODID:-//Ateneo Mercantil de Valencia - ECPv6.0.4//NONSGML v1.0//EN
CALSCALE:GREGORIAN
METHOD:PUBLISH
X-WR-CALNAME:Ateneo Mercantil de Valencia
X-ORIGINAL-URL:https://historico.ateneovalencia.es
X-WR-CALDESC:Eventos para Ateneo Mercantil de Valencia
REFRESH-INTERVAL;VALUE=DURATION:PT1H
X-Robots-Tag:noindex
X-PUBLISHED-TTL:PT1H
BEGIN:VTIMEZONE
TZID:Europe/Madrid
BEGIN:DAYLIGHT
TZOFFSETFROM:+0100
TZOFFSETTO:+0200
TZNAME:CEST
DTSTART:20240331T010000
END:DAYLIGHT
BEGIN:STANDARD
TZOFFSETFROM:+0200
TZOFFSETTO:+0100
TZNAME:CET
DTSTART:20241027T010000
END:STANDARD
END:VTIMEZONE
BEGIN:VEVENT
DTSTART;TZID=Europe/Madrid:20241117T110000
DTEND;TZID=Europe/Madrid:20241117T130000
DTSTAMP:20260421T182754
CREATED:20241107T174545Z
LAST-MODIFIED:20241109T104727Z
UID:82107-1731841200-1731848400@historico.ateneovalencia.es
SUMMARY:Música en el Ateneo: Concierto Aula de Cámara y Cello - ESMAR
DESCRIPTION:La Fundación del Ateneo Mercantil de la CV organiza junto a la Escuela Superior de Música de Alto Rendimiento el concierto dentro del Ciclo Música en el Ateneo el próximo domingo 17 de noviembre de 2024 a las 11 de la mañana y llega bajo el título "Aula de Cámara y Cello - ESMAR". \nEl Aula de Música de Cámara de instrumentos de cuerda de ESMAR y el Aula de Violoncello están dirigidas por el profesor Adrian Van Dongen. Estas aulas están formadas por jóvenes intérpretes con recorridos artísticos reconocidos en numerosas salas de concierto y concursos de interpretación. El repertorio interpretado\, que comprende un recorrido histórico desde el Clasicismo hasta las Vanguardias musicales\, pone especial acento en la música europea del romanticismo y posromanticismo. Este programa supone una muestra representativa de las obras de los principales autores de la literatura para los instrumentos de cuerda\, tanto a solo como en pequeñas agrupaciones camerísticas. \nPrograma:\n\nConcierto en mi menor opus 85 1er mvt. Adagio\, Moderato | E. Elgar\nSinfonia no 6  (arr. Hummel) 1er mvt. Allegro ma non troppo | L. von Beethoven \nTrio opus 114 en la menor 1er mvt. Allegro | J. Brahms\nConcierto en re 1 mvt. Allegro moderato | J. Haydn\nTrio 'Contrasten' 1er mvt. "Verbunkos" | B. Bartok \n\nConcierto: Concierto Aula de Cámara y Cello - ESMAR \nIntérpretes: Escuela Superior de Música de Alto Rendimiento. Director del Aula: Adrián Van Dongen \nDía: Domingo\, 17 de noviembre de 2024 \nHora: 11 horas \nLugar: Teatro Ateneo \nEntrada libre y gratuita hasta completar aforo. \nCartel:\n \n 
URL:https://historico.ateneovalencia.es/evento/musica-en-el-ateneo-concierto-aula-de-camara-y-cello-esmar/
LOCATION:Teatro Ateneo
CATEGORIES:Conciertos Domingos
ATTACH;FMTTYPE=image/jpeg:https://historico.ateneovalencia.es/wp-content/uploads/2024/11/20241117-APLAZADO-Musica-en-el-Ataneo-ESMAR-Cellos.jpg
END:VEVENT
END:VCALENDAR