BEGIN:VCALENDAR
VERSION:2.0
PRODID:-//Ateneo Mercantil de Valencia - ECPv6.0.4//NONSGML v1.0//EN
CALSCALE:GREGORIAN
METHOD:PUBLISH
X-WR-CALNAME:Ateneo Mercantil de Valencia
X-ORIGINAL-URL:https://historico.ateneovalencia.es
X-WR-CALDESC:Eventos para Ateneo Mercantil de Valencia
REFRESH-INTERVAL;VALUE=DURATION:PT1H
X-Robots-Tag:noindex
X-PUBLISHED-TTL:PT1H
BEGIN:VTIMEZONE
TZID:Europe/Madrid
BEGIN:DAYLIGHT
TZOFFSETFROM:+0100
TZOFFSETTO:+0200
TZNAME:CEST
DTSTART:20240331T010000
END:DAYLIGHT
BEGIN:STANDARD
TZOFFSETFROM:+0200
TZOFFSETTO:+0100
TZNAME:CET
DTSTART:20241027T010000
END:STANDARD
END:VTIMEZONE
BEGIN:VEVENT
DTSTART;TZID=Europe/Madrid:20241012T183000
DTEND;TZID=Europe/Madrid:20241013T200000
DTSTAMP:20260421T234618
CREATED:20240724T103656Z
LAST-MODIFIED:20240724T104143Z
UID:81150-1728757800-1728849600@historico.ateneovalencia.es
SUMMARY:Concierto 'Nuestra Zarzuela' - Dos sesiones (12 y 13 de octubre de 2024)
DESCRIPTION:La Compañía valenciana "Tiempo de Zarzuela" con su director Ximo Romero\, presenta el 12 y 13 de Octubre a las 18.30 h. en el Ateneo Mercantil de Valencia\, su espectáculo “NUESTRA ZARZUELA”. \nVenta de entradas Concierto del 12/10\nVenta de entradas Concierto del 13/10\nUna antología con un formato completo\, cuidando todos los ingredientes de la Zarzuela: orquesta\, cantantes\, escena\, baile\, teatro… Una selección musical de los fragmentos más apreciados por el público de toda la vida y también poder atraer a nuevos públicos\, a que conozcan nuestro género lírico. \n \n"NUESTRA ZARZUELA" con una estética actual donde la música y una cuidada escena se unen\, para hacer un recorrido con las principales romanzas\, intermedios y dúos de nuestro GÉNERO LÍRICO por excelencia: LA ZARZUELA. \nUn viaje de sentimientos y pasiones con una duración de 80 minutos sin descanso. \nEl elenco está formado por la soprano Raquel Roig\, el tenor Pascual Andreu\, el barítono Fran García y el actor Carles Rosselló\, que será nuestro maestro de ceremonias y mostrará la dramaturgia de sus textos\, que entrelazarán con la música y dotarán de ritmo a toda la Antología. \nEl espectáculo estará acompañado con la gran calidad de los profesores de la orquesta y cuerpo de baile de la compañía “Tiempo de Zarzuela”\, al frente el maestro valenciano Ximo Romero\, alma máter del proyecto. \nCartel:
URL:https://historico.ateneovalencia.es/evento/concierto-nuestra-zarzuela-dos-sesiones-12-y-13-de-octubre-de-2024/
LOCATION:Teatro Ateneo
CATEGORIES:Conciertos y Recitales
ATTACH;FMTTYPE=image/jpeg:https://historico.ateneovalencia.es/wp-content/uploads/2024/07/20241026-Tiempo-Zarzuela-Concierto.jpg
ORGANIZER;CN="Tiempo%20de%20Zarzuela":MAILTO:tiempo.zarzuela@gmail.com
END:VEVENT
BEGIN:VEVENT
DTSTART;TZID=Europe/Madrid:20241013T110000
DTEND;TZID=Europe/Madrid:20241013T130000
DTSTAMP:20260421T234618
CREATED:20241007T102929Z
LAST-MODIFIED:20241007T103407Z
UID:81725-1728817200-1728824400@historico.ateneovalencia.es
SUMMARY:Música en el Ateneo - Dia del Cant Valencià 2024
DESCRIPTION:La Fundación del Ateneo Mercantil de la CV organiza junto a las Associació D'Estudis del Cant Valencià\, el Dia del Cant Valencià 2024 en el Teatro Ateneo el próximo domingo 13 de octubre a las 11 horas. Un concierto en el que se realizará una Mostra de Cants d'Estil i Albaes y en la que participarán intérpretes de la AECV. En este acto\, además\, se nombrará como Asociados de Honor a Josepa Blasco Blasco (Josepa - Cantadora) y Vicent Segarra Martí (Segarreta - Guitarroner). \nPROGRAMA:\n• Presentación de la AECV y del Dia del Cant Valencià\n• Tocata de Dolçaina i Cants d’Albaes\n• Recordatorio y reseña biográfica de la figura del Chiquet de Mislata\n• Mostra de cants\n• Nombramiento de los Asociados de Honor.\n• Mostra de cants\, despedida y final del acto. \nINTERVIENEN:  \nAl Cant: Mayte Sánchez Guzmán (El Puig)\, Amparo Peiró Fábregues (Gandía)\, María José Ruiz García - Marisé (Montolivet)\, Vicent Fita Peset y Pepe Sevilla Cañizares\, (Almenara) y Xavier Benedito Casanoves (Bétera). \nMúsics de Vent: Rubén y Albert Raimundo Hurtado\, Raúl Luis Chillerón. \nRonda de Corda: Francisco Navarro Pérez\, José Navarro Ricart y Mercedes Cantero Alameda. \nDolçaina i Talbal: Marcial Cervera Martí (Pierres) y Cristian Cervera. \nVersador: Francisco Nicasio Gil (Paco de Faura). Salvador López Mafé (Voro de Paterna) \nCartel:
URL:https://historico.ateneovalencia.es/evento/musica-en-el-ateneo-dia-del-cant-valencia-2024/
LOCATION:Teatro Ateneo
CATEGORIES:Conciertos Domingos
ATTACH;FMTTYPE=image/jpeg:https://historico.ateneovalencia.es/wp-content/uploads/2024/10/20241013-Concierto-Dia-Cant-Valencia-2024.jpg
END:VEVENT
END:VCALENDAR