BEGIN:VCALENDAR
VERSION:2.0
PRODID:-//Ateneo Mercantil de Valencia - ECPv6.0.4//NONSGML v1.0//EN
CALSCALE:GREGORIAN
METHOD:PUBLISH
X-WR-CALNAME:Ateneo Mercantil de Valencia
X-ORIGINAL-URL:https://historico.ateneovalencia.es
X-WR-CALDESC:Eventos para Ateneo Mercantil de Valencia
REFRESH-INTERVAL;VALUE=DURATION:PT1H
X-Robots-Tag:noindex
X-PUBLISHED-TTL:PT1H
BEGIN:VTIMEZONE
TZID:Europe/Madrid
BEGIN:DAYLIGHT
TZOFFSETFROM:+0100
TZOFFSETTO:+0200
TZNAME:CEST
DTSTART:20240331T010000
END:DAYLIGHT
BEGIN:STANDARD
TZOFFSETFROM:+0200
TZOFFSETTO:+0100
TZNAME:CET
DTSTART:20241027T010000
END:STANDARD
END:VTIMEZONE
BEGIN:VEVENT
DTSTART;TZID=Europe/Madrid:20241007T183000
DTEND;TZID=Europe/Madrid:20241007T203000
DTSTAMP:20260421T234125
CREATED:20240911T113020Z
LAST-MODIFIED:20240911T113020Z
UID:81469-1728325800-1728333000@historico.ateneovalencia.es
SUMMARY:Tardes de LiterAteneo XXII: "María Gómez. Entre el arte y la literatura"
DESCRIPTION:La vigésimo segunda edición de Tardes de LiterAteneo\, el ciclo de literatura que coordinan Vicente Bosch y Vicente Barberá Albalat\, llega el próximo lunes 7 de octubre de 2024 al Salón Sorolla del Ateneo Mercantil. Un nuevo encuentro que en esta ocasión será con la Prof. Dra. María Gómez y llega bajo el título "Entre el arte y la literatura". El presentador será Pascual Casañ. Un evento que organiza la Fundación del Ateneo Mercantil de la CV. \nTítulo: María Gómez. Entre el arte y la literatura. \nConferenciante: Prof. Dra. María Gómez.  \nDía: Lunes\, 7 de octubre de 2024 \nHora: 18.30 horas \nLugar: Salón Sorolla \nEntrada libre y gratuita hasta completar aforo. \nCurrículum de María Gómez:\n\nSe inició en la ESCUELA DE ARTES DE SAN LUIS de ZARAGOZA simultaneándolo con el trabajo de DIBUJANTE PUBLICITARIO.\n\n\nEn el año 1990 obtuvo la LICENCIATURA EN BELLAS ARTES en la UNIVERSIDAD POLITÉCNICA DE VALENCIA\, en la especialidad de CONSERVACIÓN Y RESTAURACIÓN.\n\n\nBecada por la CONSELLERÍA DE CULTURA DE LA GENERALIDAD VALENCIANA para la investigación sobre la recuperación de pinturas quemadas\, con la que obtuvo el grado de DOCTOR.\n\n\nDesde 1993. PROFESORA TITULAR DE UNIVERSIDAD. DEPARTAMENTO DE HISTORIA DEL ARTE. UNIVERSIDAD DE VALENCIA.\n\n\nDesde 1997. PROFESORA POSTGRADO. MÁSTER EN CONSERVACIÓN Y GESTIÓN DEL PATRIMONIO CULTURAL. UNIVERSIDAD DE VALENCIA.\n\n\nEn 1998 obtuvo el grado de DOCTORA EN BELLAS ARTES POR LA UNIVERSIDAD DE VALENCIA.\n\n\nNombramiento en 1996 por el EXCMO. CABILDO DE LA CATEDRAL METROPOLITANA DE VALENCIA: TÉCNICO EN CONSERVACIÓN Y RESTAURACIÓN DEL PATRIMONIO MUEBLE DE LA CATEDRAL DE VALENCIA\n\n\nESPECIALISTA EN CONSERVACIÓN Y RESTAURACIÓN DEL PATRIMONIO HISTÓRICO ARTÍSTICO.\nConsiderada una de las principales expertas en investigación y restauración de pinturas quemadas a nivel mundial.\n\n\nPINTORA de caballete\, mural (trampantojos: arquitectura fingida) y anamorfosis (geometría pavimental 3D).\nESCULTORA de gran formato.\n\nCartel:\n \n 
URL:https://historico.ateneovalencia.es/evento/tardes-de-literateneo-xxii-maria-gomez-entre-el-arte-y-la-literatura/
LOCATION:Salón Sorolla - Ateneo Mercantil de Valencia\, Plaza del Ayuntamiento 18\, Valencia\, Valencia\, 46002\, España
CATEGORIES:Tardes de LiterAteneo
ATTACH;FMTTYPE=image/jpeg:https://historico.ateneovalencia.es/wp-content/uploads/2024/09/20241007-LiterAteneo-XXII-Maria-Gomez-1.jpg
END:VEVENT
END:VCALENDAR