BEGIN:VCALENDAR
VERSION:2.0
PRODID:-//Ateneo Mercantil de Valencia - ECPv6.0.4//NONSGML v1.0//EN
CALSCALE:GREGORIAN
METHOD:PUBLISH
X-WR-CALNAME:Ateneo Mercantil de Valencia
X-ORIGINAL-URL:https://historico.ateneovalencia.es
X-WR-CALDESC:Eventos para Ateneo Mercantil de Valencia
REFRESH-INTERVAL;VALUE=DURATION:PT1H
X-Robots-Tag:noindex
X-PUBLISHED-TTL:PT1H
BEGIN:VTIMEZONE
TZID:Europe/Madrid
BEGIN:DAYLIGHT
TZOFFSETFROM:+0100
TZOFFSETTO:+0200
TZNAME:CEST
DTSTART:20240331T010000
END:DAYLIGHT
BEGIN:STANDARD
TZOFFSETFROM:+0200
TZOFFSETTO:+0100
TZNAME:CET
DTSTART:20241027T010000
END:STANDARD
END:VTIMEZONE
BEGIN:VEVENT
DTSTART;TZID=Europe/Madrid:20240526T113000
DTEND;TZID=Europe/Madrid:20240526T130000
DTSTAMP:20260421T220949
CREATED:20240520T122042Z
LAST-MODIFIED:20240520T122043Z
UID:78055-1716723000-1716728400@historico.ateneovalencia.es
SUMMARY:Música en el Ateneo: Ensemble de Saxofones del Conservatorio Superior de Música de Valencia
DESCRIPTION:La Fundación del Ateneo Mercantil de la CV organiza un nuevo concierto de música gratuito el próximo domingo 26 de mayo de 2024 a las 11.30 horas en el Teatro Ateneo. Dentro del Ciclo Música en el Ateneo llega un concierto que realiza el Aula de Saxofón del Conservatorio Superior de Música de Valencia bajo el título "Ensemble de Saxofones". \nAsí nos presentan un programa de diferentes estilos interpretado por el Ensemble de Saxofones\, formación que utiliza toda la familia de saxofones: del sopranino hasta el bajo. \nEn la primera parte\, el ensemble interpretará Concertango de Luis Serrano Alarcón\, compositor nacido en Valencia (1972) con una amplia trayectoria internacional y que actualmente es profesor del CSMV. La obra se estrenó el 16 de julio de 2004 en el Palau de la Música por Carlos Marquina (dedicatario) y la Banda de Benimaclet bajo la batuta del propio compositor. La versión que van a escuchar ha sido adaptada para ensemble de saxofones por José Plaza (Catedrático de Saxofón en el CSMV) y será dirigida por él mismo. \nEn la segunda parte seguiremos con Preludio y Fuga de Andrés Valero\, nacido en Silla (1973) y actualmente Catedrático de Composición en el CSMV. La obra originalmente escrita para octeto de vientos ve su adaptación para ensemble de saxofones en 2001\, dedicada al Ensemble Musax. La obra es de forma clásica\, pero con armonías y una construcción genial que nos introduce en la música del siglo XX. \nLa segunda obra que ofrecerá el ensemble será Masive Haka del compositor y saxofonista francés Jean Denis Michat (1971). La obra para ensemble de saxofones y percusión fue un encargo del Ensemble Squillante en 2009\, y el propio compositor hace referencia al impacto que le causó en el transcurso de la Copa del mundo de Rugby en 2007\, ver al equipo Alls Blacks realizar su famoso rito de guerra delante de un equipo francés. “Haka” es una palabra maorí de Nueva Zelanda en la que se combinan cantos\, movimientos\, voces y gestos vigorosos sincronizados. \nPara finalizar\, se interpretará la obra Spain de Chic Corea\, composición instrumental de fusión de Jazz (1971). En su introducción reconocerán fácilmente el tema del Adagio del Concierto de Aranjuez del maestro Rodrigo y en el posterior desarrollo aparece el jazz\, el flamenco y los ritmos de samba inundarán de alegría el final de este concierto. \nPrograma:\nPrimera Parte  \nConcertango | Luis Serrano Alarcón (1972-) \n\nAndante - Tempo di Tango - Con vivacità - Andante Maestoso\nBalada -Tempo de Milonga – Calmato\nMolto Allegro\n\nSolistas: Adriana Torró Cerdá\, Jesús Salvador Carbó Sanchis \nPiano: Miguel Carcelén \nDirector: José Enrique Plaza \n  \nEnsemble de saxofones: \nSopranos: Carlos Álvarez Guirado y José Andrés Llopis Moreno. \nAltos: Clara Garrigues Máñez\, Giuliana Colombo\, Mariam Avetyan y Eva Amado Lloria. \nTenores: Carlos Gumbau Soria\, David Real Morató e Isaac Sanoguera. \nBarítonos: Pablo Sinovas Martínez\, Jesús Blázquez Herráiz y Teresa Castelló Navasquillo. \n  \nSegunda Parte \nPreludio y fuga | Andrés Valero Castells (1973-) \nMasive haka | Jean Denis Michat(1971-) \nSpain | Chik Corea (1941-2020) \n  \nEnsemble de saxofones: \nSopranos: Clara Garrigues Máñez\, Carlos Álvarez Guirado\, Adriana Torró Cerdá y Eva Amado Lloria. \nAltos: Mariam Avetyan\, Caterina Mollá García\, Miguel Pérez Revert\, David Real Morató y Giuliana Colombo. \nTenores: Carlos Gumbau Soria e Isaac Sanoguera Miralles. \nBarítonos: Teresa Castelló Navasquillo\, Pablo Sinovas Martínez y Jesús Blázquez Herráiz. \nPercussions: Javier Moros Escrig. \nProfesores: José Enrique Plaza y José Manuel Zaragoza \nCartel:
URL:https://historico.ateneovalencia.es/evento/musica-en-el-ateneo-ensemble-de-saxofones-del-conservatorio-superior-de-musica-de-valencia/
LOCATION:Teatro Ateneo
CATEGORIES:Conciertos Domingos
ATTACH;FMTTYPE=image/jpeg:https://historico.ateneovalencia.es/wp-content/uploads/2024/05/20240526-Ensemble-Saxofones.jpg
END:VEVENT
END:VCALENDAR