BEGIN:VCALENDAR
VERSION:2.0
PRODID:-//Ateneo Mercantil de Valencia - ECPv6.0.4//NONSGML v1.0//EN
CALSCALE:GREGORIAN
METHOD:PUBLISH
X-ORIGINAL-URL:https://historico.ateneovalencia.es
X-WR-CALDESC:Eventos para Ateneo Mercantil de Valencia
REFRESH-INTERVAL;VALUE=DURATION:PT1H
X-Robots-Tag:noindex
X-PUBLISHED-TTL:PT1H
BEGIN:VTIMEZONE
TZID:Europe/Madrid
BEGIN:DAYLIGHT
TZOFFSETFROM:+0100
TZOFFSETTO:+0200
TZNAME:CEST
DTSTART:20240331T010000
END:DAYLIGHT
BEGIN:STANDARD
TZOFFSETFROM:+0200
TZOFFSETTO:+0100
TZNAME:CET
DTSTART:20241027T010000
END:STANDARD
END:VTIMEZONE
BEGIN:VEVENT
DTSTART;TZID=Europe/Madrid:20240505T113000
DTEND;TZID=Europe/Madrid:20240505T130000
DTSTAMP:20260421T222913
CREATED:20240430T150858Z
LAST-MODIFIED:20240430T150859Z
UID:77825-1714908600-1714914000@historico.ateneovalencia.es
SUMMARY:Música en el Ateneo: "Dúos con piano" por el Conservatorio Superior de Música de Castellón 'Salvador Seguí'
DESCRIPTION:La Fundación del Ateneo Mercantil de la CV ha organizado un nuevo concierto gratuito para el próximo domingo 5 de mayo de 2024 a las 11.30 horas de la mañana. Alumnos del Conservatorio Superior de Música de Castellón 'Salvador Seguí' serán los grandes protagonistas en el concierto "Dúos con Piano"\, en el que la primera parte será de piano y flauta\, mientras que la segunda\, de piano y saxofón. \nEn el concierto escucharemos cuatro alumnos y alumnas del Conservatorio Superior de Música Salvador Seguí de Castellón\, junto a su profesor\, pianista repertorista\, Daniel García González. Estas obras forman parte de su recital final de carrera\, cuyos exámenes tendrán lugar en escasas 2 semanas. \nLa carrera musical de conservatorio es\, sin duda\, una de las más largas\, siendo 14 años los mínimos necesarios para haber terminado todos los cursos de los grados elemental\, profesional y superior. \nNo obstante\, esto es un mero número\, ya que cuando alguien elige dedicarse profesionalmente a esto\, es más un estilo de vida vocacional\, más que una profesión. En el caso de la especialidad interpretativa\, es necesario estar siempre en contacto con el instrumento\, ya que siempre hay nuevo repertorio que aprender\, nuevas tendencias y técnicas que investigar\, y una necesidad de mantener en forma mente y cuerpo\, si se quiere mantener un nivel profesional y competitivo. \nDurante la formación\, es especialmente importante el hecho de experimentar la actuación en público. Cuanto más a menudo sea posible salir al escenario\, mejores tablas podrán adquirir los estudiantes para controlar y disfrutar la interpretación frente a la situación del directo. Por desgracia\, en el sistema de conservatorios actual\, esto pasa mucho menos de lo que sería ideal\, dependiendo de unos recursos a menudo escasos. \nIntérpretes-Alumnos: \n\nClaudia Macías Escrihuela\nRoxana Elizabeth Rodríguez García\nCatalina Costa Ferrer \nLuis Martínez Font\n\nProfesor pianista repertorista: Daniel García González \n  \nPrograma:\nPrimera parte - Flauta y piano \nSonata op.94 para flauta y piano de Sergei Prokofiev \n1 - Moderado \n2 - Scherzo - Presto \n3 - Andante \nIntérprete: Claudia Macías Escrihuela \n  \nConcierto op.10 nº3 "Il Cardelino" de Antonio Vivaldi \n1 - Allegro \n2 - Cantabile \n3 - Allegro \nIntérprete: Roxana Elizabeth Rodríguez García \n  \nCarnaval de Venecia\, Fantasía op. 14 de Paul Génin  \nIntérprete: Roxana Elizabeth Rodríguez García \n  \nSegunda parte - Saxofón y piano\nRapsodia para saxofón y piano de André Waignein \nIntérprete: Catalina Costa Ferrer \n  \nFuzzy Bird Sonata de Takashi Yoshimatsu \n1 - Run\, bird. Allegro Vivace \n2 - Sing\, bird. Largo \n3 - Fly\, bird. Presto \nIntérprete: Luis Martínez Font \nCartel:
URL:https://historico.ateneovalencia.es/evento/musica-en-el-ateneo-duos-con-piano-por-el-conservatorio-superior-de-musica-de-castellon-salvador-segui/
LOCATION:Teatro Ateneo
CATEGORIES:Conciertos Domingos
ATTACH;FMTTYPE=image/jpeg:https://historico.ateneovalencia.es/wp-content/uploads/2024/04/20240505-Concierto-Duos-con-Piano.jpg
END:VEVENT
END:VCALENDAR