BEGIN:VCALENDAR
VERSION:2.0
PRODID:-//Ateneo Mercantil de Valencia - ECPv6.0.4//NONSGML v1.0//EN
CALSCALE:GREGORIAN
METHOD:PUBLISH
X-ORIGINAL-URL:https://historico.ateneovalencia.es
X-WR-CALDESC:Eventos para Ateneo Mercantil de Valencia
REFRESH-INTERVAL;VALUE=DURATION:PT1H
X-Robots-Tag:noindex
X-PUBLISHED-TTL:PT1H
BEGIN:VTIMEZONE
TZID:Europe/Madrid
BEGIN:DAYLIGHT
TZOFFSETFROM:+0100
TZOFFSETTO:+0200
TZNAME:CEST
DTSTART:20240331T010000
END:DAYLIGHT
BEGIN:STANDARD
TZOFFSETFROM:+0200
TZOFFSETTO:+0100
TZNAME:CET
DTSTART:20241027T010000
END:STANDARD
END:VTIMEZONE
BEGIN:VEVENT
DTSTART;TZID=Europe/Madrid:20240428T113000
DTEND;TZID=Europe/Madrid:20240428T130000
DTSTAMP:20260422T205906
CREATED:20240418T112252Z
LAST-MODIFIED:20240418T112712Z
UID:77719-1714303800-1714309200@historico.ateneovalencia.es
SUMMARY:Música en el Ateneo: Muestra coreográfica del Conservatorio Superior de Danza de Valencia 'Nacho Duato'
DESCRIPTION:La Música en el Ateneo regresa este domingo 28 de abril a las 11.30 horas con un evento gratuito en el que se representará una muestra coreográfica de danza para celebrar el Día Internacional de la Danza 2024. En el Ateneo Mercantil se presentarán varias coreografías tanto de repertorio como propuestas de diferentes coreógrafos y de creación propia\, tanto del profesorado como del propio alumnado del CSDV Nacho Duato. Una actuación que es posible gracias a la Fundación del Ateneo Mercantil CV y al Conservatori Superior de Dansa de València Nacho Duato. \nRecuerden que la entrada es libre y gratuita hasta completar el aforo del Teatro Auditorio del Ateneo Mercantil. \nPrograma:\nDanza del Terror \n\nCoreografía: Aloma de Balma \nMúsica: Manuel de Falla\nIntérprete: Inés Bouzaza\n\nVariación sobre Dances at Gathering \n\nCoreografía: Jerome Robbins – Adaptación Susana A. Esteve\nMúsica: Frederic Chopin\nPianista: Víctor Novella\nIntérprete: Nayara Palazón\n\nVariación de Smoke  \n\nAdaptación: Arantxa Lecumberri\nMúsica: Arvo Pärt\nPianista: Víctor Novella\nIntérpretes: Arantxa Lecumberri\, Sofía Capuz y Nacho Valverde\n\nCaravel \n\nCoreografía: Clara Vidal y Asiah Moreno\nMúsica: Rosa Cedrón y Cristina Pato\nIntérprete: Asiah Moreno \n\nVariación sobre Rassemblement \n\nCoreografía: Nacho Duato \nMúsica: Toto Bissainthe\nIntérprete: Nayara Palazón\n\nSevilerias     \n\nCoreografía: Marian Escrivá \nMúsica: Popular\nIntérprete: Inés Bouzaza\n\nOnmyo (extracto) \n\nCoreografía: Carmela García\nMúsica: Waldeck y Alexander Espinoza\nIntérprete: Naiara Dorado\n\nWaltz nº 19 in a Minor \n\nCoreografía: Susana A. Esteve\nMúsica: Frederic Chopin\nPianista: Víctor Novella\nIntérpretes: Sonia Climent\, Empar López y Lara Souto\n\nQuérote \n\nCoreografía: Claudia Fusté y Carlota Paz \nMúsica: Adrian Berenguer\nIntérprete: Claudia Fusté y Carlota Paz\n\nFragmento Amor Brujo \n\nCoreografía: : Jesús Pérez y Paco Salmerón\nMúsica: Manuel de Falla\nIntérpretes: Inés Bouzaza\, Helena Español y Marta Ferré\n\nConservatori Superior de Dansa de València 'Nacho Duato':\nEl año 2002 se crea el Conservatori Superior de Dansa de València como centro oficial de enseñanzas artísticas superiores\, por lo que a lo largo de este curso académico nos encontramos en la celebración de su 20 aniversario\, circunstancia esta que se ha aprovechado para cambiar su nombre a la denominación actual\, Conservatori Superior de Dansa de València Nacho Duato. \nComo centro de enseñanzas artísticas superiores se encuentra integrado en el ISEACV\, Instituto Superior de Enseñanzas Artísticas de la Comunitat Valenciana\, órgano dependiente de la Consellería de Innovación y Universidades de la Generalitat Valenciana. \nEn el CSDV Nacho Duato se puede estudiar el Grado en Enseñanzas Superiores de Danza en sus dos especialidades\, Coreografía e Interpretación\, estilo danza contemporánea y Pedagogía de la danza\, estilos de danza clásica\, danza española y danza social\, siendo el único centro en la Comunitat Valenciana que imparte ambas especialidades. \nDesde sus inicios ha colaborado en diferentes actividades tanto con instituciones públicas como privadas\, entre otras destacan: IVAM\, MuVIM\, Palau de les Arts o Centro Cultural del Carmen. Así mismo realiza colaboraciones con diferentes centros educativos como\, por ejemplo: Conservatorio Superior de Música “Joaquín Rodrigo” de València\, producciones del ISEACV\, Universidad Politécnica de València o Facultad de Bellas Artes de València. \nLa Música en el Ateneo regresa hoy para conmemorar el Día Internacional de la Danza 2023\, con un evento gratuito en el que se representa una muestra coreográfica\, presentándose coreografías tanto de repertorio como propuestas de diferentes coreógrafos y de creación propia\, tanto del profesorado como del propio alumnado del Conservatori Superior de Dansa de València Nacho Duato. \nCELEBRACIÓN DEL DÍA INTERNACIONAL DE LA DANZA 2024 \nEl Consejo Internacional de la Danza de UNESCO propuso la celebración del Día Internacional de la Danza para celebrarse cada 29 de abril\, día que coincide con el aniversario del nacimiento del bailarín francés Jean-Georges Noverre\, que es considerado como el maestro y creador del ballet moderno. \n El Día Internacional de la Danza se celebra desde 1982 con el objetivo de promover el arte de la danza en todo el mundo. Con este Día Internacional\, se pretende atraer la atención de las personas sobre el Arte y la Cultura de la Danza\, para animarlas a acudir a espectáculos y promover esta disciplina. \nCartel:
URL:https://historico.ateneovalencia.es/evento/musica-en-el-ateneo-muestra-coreografica-del-conservatorio-superior-de-danza-de-valencia-nacho-duato/
LOCATION:Teatro Ateneo
CATEGORIES:Conciertos Domingos
ATTACH;FMTTYPE=image/jpeg:https://historico.ateneovalencia.es/wp-content/uploads/2024/04/20240428-Musica-en-el-Ateneo-Danza.jpg
END:VEVENT
END:VCALENDAR