BEGIN:VCALENDAR
VERSION:2.0
PRODID:-//Ateneo Mercantil de Valencia - ECPv6.0.4//NONSGML v1.0//EN
CALSCALE:GREGORIAN
METHOD:PUBLISH
X-ORIGINAL-URL:https://historico.ateneovalencia.es
X-WR-CALDESC:Eventos para Ateneo Mercantil de Valencia
REFRESH-INTERVAL;VALUE=DURATION:PT1H
X-Robots-Tag:noindex
X-PUBLISHED-TTL:PT1H
BEGIN:VTIMEZONE
TZID:Europe/Madrid
BEGIN:DAYLIGHT
TZOFFSETFROM:+0100
TZOFFSETTO:+0200
TZNAME:CEST
DTSTART:20240331T010000
END:DAYLIGHT
BEGIN:STANDARD
TZOFFSETFROM:+0200
TZOFFSETTO:+0100
TZNAME:CET
DTSTART:20241027T010000
END:STANDARD
END:VTIMEZONE
BEGIN:VEVENT
DTSTART;TZID=Europe/Madrid:20240414T113000
DTEND;TZID=Europe/Madrid:20240414T130000
DTSTAMP:20260422T205848
CREATED:20240325T122005Z
LAST-MODIFIED:20240326T084915Z
UID:77046-1713094200-1713099600@historico.ateneovalencia.es
SUMMARY:Música en el Ateneo: Concierto gratuito del Centro Instructivo Musical Castellar-Oliveral
DESCRIPTION:La Fundación del Ateneo Mercantil de la CV ha organizado un nuevo concierto gratuito para el próximo domingo 14 de abril a las 11.30 horas de la mañana en el que el Centro Instructivo Musical Castellar-Oliveral será el gran protagonista. \nEl Centro Instructivo Musical Castellar-Oliveral fue creado en abril de 1993\, a esta nueva banda se le pone el nombre de Centro Instructivo Musical Castellar-Oliveral en recuerdo de la primera banda que hubo en nuestra pedanía fundada en 1933\, y disuelta en 1936 por motivos de la Guerra Civil. \nCon Pilar Bayona Monrabal como presidenta y D. Jesús Monto Verdet como director\,  se incorporan a la Federación Valenciana de Sociedades Musicales y a la Coordinadora de Sociedades Musicales de la ciudad de Valencia y empiezan el recorrido de actuaciones por dentro y fuera de la Comunidad Valenciana\, en toda clase de actos propios de banda\, procesiones\, conciertos\, festivales\, pasacalles\, homenajes etc. \nEn el año 2000 toma el relevo como director D. Manuel Baixauli Ferrer. Desde el principio aplican la intención de ser banda para su barrio y con el espíritu altruista de servir a estos menesteres. Siempre han estado a punto y al servicio de cualquier evento benéfico o festivo que pudiera servir para ayudar a cualquier causa\, y más concretamente si de Valencia se trata. Como muestra valgan actuaciones en partidos contra la droga en campos como Mestalla\, La Fonteta (Valencia Basket)\, etc\, o conciertos participando en actos culturales o benéficos en diversas ciudades y pueblos toda España. \nEl centro además de la banda titular\, cuenta con una banda juvenil bajo la dirección de D. Francisco Santos Valverde\, y de una banda senior de nueva creación bajo la dirección de Dª Raquel Bresó Plaza. \nLa escuela de música está compuesta por aproximadamente por 40 educandos a partir de 4 años que reciben clases de infancia musical\, lenguaje musical e instrumento y que posteriormente se integran en la banda juvenil pudiendo continuar sus estudios en la escuela. Con una plantilla de profesores titulados se llevan a cabo todas las actividades de enseñanza y aprendizaje programados en la escuela. \nPrograma del Concierto:\nPrimera Parte:\n\nLuchando (Pass-Doble) - F. TORMO\nUn día en Viena (Overture) - F. V. SUPPÉ\n\nViolonchelo solista: Bresó Plaza\, Raquel \n\nTorre del Oro (Pasodoble de Concierto) - R. DORADO\nOrfeo en los Infiernos - J. OFFENBACH\n\n(CAN.CAN) \n\n1812 (Overture) - P.I. TCHAIKOVSKY\n\nShort Version - Arr. T.v. GREVENBROEK\nCon la colaboración del cuarteto de chelos: Raquel Bresó Plaza\, Yolanda Guerrero Guerrero\, Isaac Cercós García\, Edgar Moreno Arnal \nSegunda Parte:\n\nValencianeta (Pasodoble) - LL. MARTÍ\nEnrique Velarte (Pass-Doble) - J. MONTÓ\n\nClarinete solista: Navarro Asensi\,Marc \n\nAppalachian Overture - J. BARNES\nValencia-Liria (Pass-Doble) - M. PASCUAL\n5 Sinfonía-Mambon nº5 - L.V.BEETHOVEN-P. PRADO\nHimno de la Alegría (Flashmob) - L.V. BEETHOVEN\n\n(En conmemoración del Bicentenario del estreno mundial el día 7 de mayo de 1824 de la 9ª Sinfonía\, donde se escuchó por primera vez en público la "Oda a la Alegría"\, un canto a la fraternización y a la Paz en el mundo entero).  \nCartel:
URL:https://historico.ateneovalencia.es/evento/musica-en-el-ateneo-concierto-gratuito-del-centro-instructivo-musical-castellar-oliveral/
LOCATION:Teatro Ateneo
CATEGORIES:Conciertos Domingos
ATTACH;FMTTYPE=image/jpeg:https://historico.ateneovalencia.es/wp-content/uploads/2024/03/20240414-Concierto-Castellar-Oliveral.jpg
END:VEVENT
END:VCALENDAR