BEGIN:VCALENDAR
VERSION:2.0
PRODID:-//Ateneo Mercantil de Valencia - ECPv6.0.4//NONSGML v1.0//EN
CALSCALE:GREGORIAN
METHOD:PUBLISH
X-ORIGINAL-URL:https://historico.ateneovalencia.es
X-WR-CALDESC:Eventos para Ateneo Mercantil de Valencia
REFRESH-INTERVAL;VALUE=DURATION:PT1H
X-Robots-Tag:noindex
X-PUBLISHED-TTL:PT1H
BEGIN:VTIMEZONE
TZID:Europe/Madrid
BEGIN:DAYLIGHT
TZOFFSETFROM:+0100
TZOFFSETTO:+0200
TZNAME:CEST
DTSTART:20240331T010000
END:DAYLIGHT
BEGIN:STANDARD
TZOFFSETFROM:+0200
TZOFFSETTO:+0100
TZNAME:CET
DTSTART:20241027T010000
END:STANDARD
END:VTIMEZONE
BEGIN:VEVENT
DTSTART;TZID=Europe/Madrid:20240410T184500
DTEND;TZID=Europe/Madrid:20240410T203000
DTSTAMP:20260422T055109
CREATED:20240405T121056Z
LAST-MODIFIED:20240405T121056Z
UID:77417-1712774700-1712781000@historico.ateneovalencia.es
SUMMARY:Tardes de LiterAteneo XIX: "Concilyarte 13 Aniversario: Las Formas de la Belleza. Encuentro con Mila Villanueva"
DESCRIPTION:La décimo novena edición de Tardes de LiterAteneo\, el ciclo de literatura que coordinan Vicente Bosch y Vicente Barberá Albalat\, llega el próximo miércoles 10 de abril de 2024 en el Teatro Ateneo del Ateneo Mercantil. Un nuevo encuentro que en esta ocasión será con la escritora Mila Villanueva\,  un encuentro en el que se realizará un homenaje a Concilyarte por su 13 Aniversario y llega bajo el título "Las Formas de la Belleza". El presentador será Blas Muñoz. \nTítulo: Concilyarte 13 Aniversario: Las Formas de la Belleza. Encuentro con Mila Villanueva \nConferenciante: Mila Villanueva \nDía: Miércoles\, 10 de abril de 2024 \nHora: 18.45 horas \nLugar: Teatro Ateneo \nEntrada libre y gratuita hasta completar aforo. \nCurrículum abreviado de Mila Villanueva:\nLa Asociación Cultural Concilyarte está formada por diferentes poetas\, narradores\, pintores\, actores\, fotógrafos\, diseñadores y músicos. Su objetivo es ensamblar las diferentes artes\, culturas y lenguas en un camino hacia la unidad dentro de la diversidad. \nSu presidenta es Mila Villanueva. Natural de Vigo\, se desplaza en la adolescencia hacia el Mediterráneo donde vive actualmente. Escritora y gestora cultural. Ha publicado los libros de haikus "Na Distancia" en gallego y castellano. Editorial (El taller del poeta 2010). "La luz de Agosto" (Concilyarte 2011) en castellano y portugués y "A la luna de Valencia" (Lastura 2014) en castellano y valenciano. \nEs autora también de los poemarios "Bajo la luna de Kislev" (Lastura 2015) y "El viento sobre el lago" (chino-castellano) (Lastura 2017). Sus poemas se encuentran en varias revistas\, tales como: Crátera o 21 Versos\, y en diferentes antologías\, como Esta palabra mía (homenaje a Antonio Machado)\, Pinazo en versos 2.0 (homenaje al pintor) y Huellas de Mujer\, homenaje a escritoras valencianas. Ha sido traducida al chino\, francés\, portugués\, italiano\, y ruso. \nHa coordinado asimismo las antologías "PoeMARio"\, "Era por Mayo"\, "Angrois"\, "Miradas para compartir la Luz" y "Teresa para siempre". Es coautora de la exposición de poesía visual Dinámica de Fluidos junto al diseñador Cándido Solaz\, y de la exposición de poesía y fotografía Mixture. \nPremio Rosalía de Castro de Poesía 2018 de la Fundación Rosalía de Castro por su poemario "Donde da la vuelta el aire". Ha publicado con la editorial Olé Libros "Despedidas" con José Lapasió y "Koukan Nikki" (Diario compartido) junto a Ana Gómez-Pavón en 2023. \nCartel:\n \n 
URL:https://historico.ateneovalencia.es/evento/tardes-de-literateneo-xix-concilyarte-13-aniversario-las-formas-de-la-belleza-encuentro-con-mila-villanueva/
LOCATION:Teatro Ateneo
CATEGORIES:Tardes de LiterAteneo
ATTACH;FMTTYPE=image/jpeg:https://historico.ateneovalencia.es/wp-content/uploads/2024/04/20240410-LiterAteneo-19-Mila-Villanueva-Concilyarte.jpg
END:VEVENT
END:VCALENDAR