BEGIN:VCALENDAR
VERSION:2.0
PRODID:-//Ateneo Mercantil de Valencia - ECPv6.0.4//NONSGML v1.0//EN
CALSCALE:GREGORIAN
METHOD:PUBLISH
X-WR-CALNAME:Ateneo Mercantil de Valencia
X-ORIGINAL-URL:https://historico.ateneovalencia.es
X-WR-CALDESC:Eventos para Ateneo Mercantil de Valencia
REFRESH-INTERVAL;VALUE=DURATION:PT1H
X-Robots-Tag:noindex
X-PUBLISHED-TTL:PT1H
BEGIN:VTIMEZONE
TZID:Europe/Madrid
BEGIN:DAYLIGHT
TZOFFSETFROM:+0100
TZOFFSETTO:+0200
TZNAME:CEST
DTSTART:20240331T010000
END:DAYLIGHT
BEGIN:STANDARD
TZOFFSETFROM:+0200
TZOFFSETTO:+0100
TZNAME:CET
DTSTART:20241027T010000
END:STANDARD
END:VTIMEZONE
BEGIN:VEVENT
DTSTART;TZID=Europe/Madrid:20240325T190000
DTEND;TZID=Europe/Madrid:20240325T210000
DTSTAMP:20260421T202928
CREATED:20240220T130358Z
LAST-MODIFIED:20240220T130359Z
UID:76877-1711393200-1711400400@historico.ateneovalencia.es
SUMMARY:Tardes de LiterAteneo XVIII: Isabel Barceló. Dignificar la memoria de la mujeres
DESCRIPTION:La décimo octava edición de Tardes de LiterAteneo\, el ciclo de literatura que coordinan Vicente Bosch y Vicente Barberá Albalat\, llega el próximo lunes 25 de febrero de 2024 en el Salón Sorolla del Ateneo Mercantil. Un nuevo encuentro que en esta ocasión será con la escritora Isabel Barceló y nos hablará sobre "Dignificar la memoria de las mujeres". El presentador será Antonio Mayor. \nTítulo: Isabel Barceló. Dignificar la memoria de las mujeres \nConferenciante: Isabel Barceló \nDía: Lunes\, 25 de marzo de 2024 \nHora: 19 horas \nLugar: Salón Sorolla \nEntrada libre y gratuita hasta completar aforo. \nCurrículum abreviado de Isabel Barceló:\nIsabel Barceló Chico (Sax\, Alicante.1950) es licenciada Filosofía y Letras por la Universidad de Valencia. Ha trabajado en el Patrimonio Histórico Cultural del Ayuntamiento de Valencia. Actualmente está jubilada. \nDesde hace años está dedicada a recuperar y dignificar la memoria de las mujeres. Para ello ha elegido la palabra y la escritura. Ha publicado novelas de temas mitológicos e históricos\, fundamentalmente sobre la épca de Roma y su imperio. Entre sus muchas obras se encuentran: La muchacha de Catulo; Dido\, reina de Cartago; Mujeres de Roma. En 2021 publica Lucrecia Borgia (bajo una nueva luz)\, una interesante revisión (y reversión) de su leyenda negra. \nEs autora de numerosos relatos cortos y artículos\, y una excelente confereciante sobre temas que dignifiquen a la mujer a lo largo de la Historia. Mantiene un blog literario\, Mujeres de Roma\, con más de 1 800 000 páginas visitadas. \nHa obtenido numerosos premios y distinciones: Premio de la Crítica de la Comunidad Valenciana\, en 2019 por su Mujeres de Roma\, que ya va por su 6ª edición. El Ministerio de Asuntos Exteriores le concedió la Beca de Literatura “Valle-Inclán” para una estancia de 6 meses en la Academia Española de Roma para documentar e investigar su proyecto del libro Mujeres de Roma. Su inteligente empeño en defensa de las mujeres\, aliado con su maestría literaria\, hacen de Isabel Barceló una valiosa escritora e intelectual en el panorama literario de hoy día\, y no solo de Valencia. \nCartel:
URL:https://historico.ateneovalencia.es/evento/tardes-de-literateneo-xviii-isabel-barcelo-dignificar-la-memoria-de-la-mujeres/
LOCATION:Salón Sorolla - Ateneo Mercantil de Valencia\, Plaza del Ayuntamiento 18\, Valencia\, Valencia\, 46002\, España
CATEGORIES:Tardes de LiterAteneo
ATTACH;FMTTYPE=image/jpeg:https://historico.ateneovalencia.es/wp-content/uploads/2024/02/20240325-LiterAteneo-18-Isabel-Barcelo.jpg
END:VEVENT
END:VCALENDAR