BEGIN:VCALENDAR
VERSION:2.0
PRODID:-//Ateneo Mercantil de Valencia - ECPv6.0.4//NONSGML v1.0//EN
CALSCALE:GREGORIAN
METHOD:PUBLISH
X-WR-CALNAME:Ateneo Mercantil de Valencia
X-ORIGINAL-URL:https://historico.ateneovalencia.es
X-WR-CALDESC:Eventos para Ateneo Mercantil de Valencia
REFRESH-INTERVAL;VALUE=DURATION:PT1H
X-Robots-Tag:noindex
X-PUBLISHED-TTL:PT1H
BEGIN:VTIMEZONE
TZID:Europe/Madrid
BEGIN:DAYLIGHT
TZOFFSETFROM:+0100
TZOFFSETTO:+0200
TZNAME:CEST
DTSTART:20240331T010000
END:DAYLIGHT
BEGIN:STANDARD
TZOFFSETFROM:+0200
TZOFFSETTO:+0100
TZNAME:CET
DTSTART:20241027T010000
END:STANDARD
END:VTIMEZONE
BEGIN:VEVENT
DTSTART;TZID=Europe/Madrid:20240204T113000
DTEND;TZID=Europe/Madrid:20240204T130000
DTSTAMP:20260422T155242
CREATED:20240127T163057Z
LAST-MODIFIED:20240127T163747Z
UID:76538-1707046200-1707051600@historico.ateneovalencia.es
SUMMARY:Música en el Ateneo: Concierto gratuito de Black & White Keys dúo
DESCRIPTION:El próximo domingo 4 de febrero llega a nuestro teatro un nuevo concierto del Ciclo Música en el Ateneo que organiza La Fundación Ateneo Mercantil de CV.  Tras estrenarse en 2017 en el Ateneo con un gran éxito\, regresan nuevamente Black & White Keys dúo\, dos músicos valencianos\, jóvenes y emprendedores con un proyecto muy innovador. El dúo lo forma en la actualidad\, Andreu Soler (marimba) y Miguel Ángel Cuadrado (piano). \nBLACK & WHITE KEYS DÚO\nDúo fundado en el año 2010 y con más de 100 conciertos en toda la geografía española. Dúo compuesto en la actualidad por los músicos valencianos Andreu Soler (marimba) y Miguel Ángel Cuadrado (piano). Ambos se licenciaron en el Conservatorio Superior de Castellón. \nSus interpretaciones han recibido siempre muy buena acogida por parte del público y de la crítica. Han tocado en algunas de las salas más emblemáticas del país: Salón de Cristal del Ayuntamiento de Valencia\, Jardín Botánico\, Beneficencia\, Universidad Politécnica\, Beneficencia\, Capilla de la Sapiencia\, Castillo de Riba-roja\, Sala María Cristina de Málaga\, Fundación Olivar de Castillejo de Madrid\, Casino de Castellón\, Sala Eutherpe en León\, Fundación Bancaja\, Teatro Principal de Vitoria\, VIPA\, entre otras. \nEn diciembre de 2016 realizan un concierto en la Sala Rodrigo del Palau de la Música. Fruto de ese concierto en directo es su primer DVD\, editado a principios de 2017.\nSu repertorio abarca piezas de todas las épocas\, desde el barroco a la actualidad y se ve ampliado y enriquecido constantemente con obras compuestas por ellos mismos.\nTienen en el mercado dos trabajos: Classic’s (piano a 4 manos) y Café\, con la marimba y el piano como protagonistas. \nPrograma:\nII Movimiento del concierto para guitarra y orquesta Aranjuez (J. Rodrigo / Arr. BWKdúo) \nSuite de la ópera Carmen (G. Bizet) \nAdagio (T. Albinoni) \nDanza Española (E. Granados) \nDanza húngara n.5 (J. Brahms) \nObertura Guillermo Tell (G.Rosini) \nSuite Peer Gynt  (E. Grieg) \n\nI. La Mañana\nII. En el Hall del Rey de las Montañas\n\nAutumn  leaves (M. Bonfa) \nOblivion (A. Piazzolla) \nMambo influenciado (Ch. Valdés) \nLibertango (A. Piazzolla) \nCsardas (V. Monti) \nCartel:\n \n 
URL:https://historico.ateneovalencia.es/evento/musica-en-el-ateneo-concierto-gratuito-de-black-white-keys-duo/
LOCATION:Teatro Ateneo
CATEGORIES:Conciertos Domingos
ATTACH;FMTTYPE=image/jpeg:https://historico.ateneovalencia.es/wp-content/uploads/2024/01/20240204-Musica-Ateneo-Black-White-Duo.jpg
END:VEVENT
END:VCALENDAR