BEGIN:VCALENDAR
VERSION:2.0
PRODID:-//Ateneo Mercantil de Valencia - ECPv6.0.4//NONSGML v1.0//EN
CALSCALE:GREGORIAN
METHOD:PUBLISH
X-ORIGINAL-URL:https://historico.ateneovalencia.es
X-WR-CALDESC:Eventos para Ateneo Mercantil de Valencia
REFRESH-INTERVAL;VALUE=DURATION:PT1H
X-Robots-Tag:noindex
X-PUBLISHED-TTL:PT1H
BEGIN:VTIMEZONE
TZID:Europe/Madrid
BEGIN:DAYLIGHT
TZOFFSETFROM:+0100
TZOFFSETTO:+0200
TZNAME:CEST
DTSTART:20240331T010000
END:DAYLIGHT
BEGIN:STANDARD
TZOFFSETFROM:+0200
TZOFFSETTO:+0100
TZNAME:CET
DTSTART:20241027T010000
END:STANDARD
END:VTIMEZONE
BEGIN:VEVENT
DTSTART;TZID=Europe/Madrid:20240129T190000
DTEND;TZID=Europe/Madrid:20240129T210000
DTSTAMP:20260422T004158
CREATED:20231215T122258Z
LAST-MODIFIED:20240125T120657Z
UID:76188-1706554800-1706562000@historico.ateneovalencia.es
SUMMARY:Tardes de LiterAteneo XVI: Josep Carles Laínez: La lengua de la creación.
DESCRIPTION:La décimo sexta edición de Tardes de LiterAteneo\, el ciclo de literatura que coordinan Vicente Bosch y Vicente Barberá Albalat\, llega el próximo lunes 29 de enero de 2024 en el Salón Sorolla del Ateneo Mercantil. Un nuevo encuentro que en esta ocasión será con el escritor\, dramaturgo y articulista Josep Carles Laínez y nos trae "La Lengua de la Creación". El presentador será Vicente Barberá. \nTítulo: Josep Carles Laínez. La Lengua de la Creación \nConferenciante: Josep Carles Laínez \nDía: Lunes 29 de enero de 2024 \nHora: 19 horas \nLugar: Salón Sorolla \nEntrada libre y gratuita hasta completar aforo. \nCurrículum de Josep Carles Laínez\nJosep Carles Laínez (Valencia\, 1970) es autor de una amplia obra literaria\, artística y de investigación\, para la que ha usado\, cronológicamente\, diversas lenguas hispánicas ligadas a sus raíces familiares y sentimentales. \nDesde 1989 hasta 1999\, desarrolló una enorme producción en lengua aragonesa\, con diversos galardones y títulos: los poemarios En o gudrón espígol xuto ([En el asfalto espliego seco]\, 1991)\, Peruigilium Veneris ([La velada de las fiestas de Venus]\, 1992) y Bel diya ([Algún día]\, 1998); la novela A besita de l’ánchel ([La visita del ángel]\, 1993); y el libro de artículos Deseyos batalers ([Deseos de par en par]\, 1999). \nEn lengua asturiana\, llevó a cabo hasta 2010 una intensa labor de creación literaria y periodística\, obteniendo en dos ocasiones el Premio de Teatro de la Academia de la Llingua Asturiana por las obras Elsa metálico (1998) y Thule (2009). Además publicó dos poemarios: Lenta lletanía del cuerpu nel hedreru ([Lenta letanía del cuerpo sobre el prado)\, 2007) y La piedra ente la ñeve ([La piedra entre la nieve]\, 2010). Fue columnista del semanario en asturiano Les Noticies durante cuatro años (2000-2003). \nParalelamente se ha ocupado de sus dos lenguas familiares: el valenciano y el castellano. Así\, el año 1995\, publicó el poemario Dionysiaka\, al que se habría de unir el conjunto de su poesía completa en valenciano\, con el título de Anxia (2001)\, que obtuvo el Premio Roís de Corella de los Premios Ciutat de València el año 2000.\nEn español\, es creador de diversos libros que muestran una rica heterodoxia. Entre ellos\, dos poemarios: Exotica martyria (1991) y Música junto al río (2001)\, y la antología bilingüe Algún día. Obra poética en aragonés (1989-2000) (2019). Es autor también de una novela\, Alma (1997)\, y de un libro de aforismos\, In hoc signo vinces (1998). Asimismo cabe destacar una serie de libros de género indefinido\, los más íntimos de su autor: la obra de no ficción La tumba de Leónidas (2006); la recopilación de prosas literarias Aquí la noche tiene el nombre de Valeria (2007); y el diario La muerte del padre (2009)\, para el que utilizó media docena de lenguas\, y que inauguró su proyecto Tabularium\, del que han aparecido diversas entregas en aragonés\, asturiano\, castellano\, catalán\, occitano y valenciano. Ha sido finalista del Premio de la Crítica Valenciana en su modalidad de ensayo en dos ocasiones. \nEn el ámbito audiovisual\, en 2003 apareció su libro Construcción metafórica y análisis fílmico\, y es coautor de Filmar la mirada (2001)\, Cultura visual contemporánea (2007) y Hollywood revelado (2012). Fue redactor del programa El faro de Alejandría (1998-2000)\, dirigido y presentado por Fernando Sánchez Dragó.\nEn un dominio más artístico\, ha llevado a cabo diversas performances\, todas con el trasfondo del paganismo. En este ámbito\, fundó el colectivo nacional-pagano Gudua Deisdea en 1994\, y cofundó el Círculo de Ur en 2015\, en el que creó y dirige su publicación teórica\, Studia Sætanica\, desde 2019. El libro In hoc signo vinces (1998) ya supuso una reflexión sobre Europa y el paganismo\, y es autor asimismo del poemario en neoibérico Iltirsken zeltar ([La tumba de los lobos]\, 2017); y del guion del cómic Offertorium (2021); ha escrito y dirigido los cortometrajes Círculo de Ur (2017)\, Hoc est corpus meum (2019) y Vt nox lvx (2021). Ha publicado el libro de fotografías Ipsissima Lux (2023) y el ensayo El paganismo explicado a los niños (2015). \nEntre 1997 y 2003 fue adjunto a dirección de la Fundación Valencia Tercer Milenio-Unesco. Entre los años 1998 y 2015\, fue jefe de redacción de la revista Debats\, editada por la Institució Alfons el Magnànim de Valencia. \nEn el terreno académico\, Josep Carles Laínez es licenciado en Filología Hispánica y en Teología. Ha impartido cursos y conferencias sobre literaturas en lenguas minorizadas en diversos países de Europa\, América y Asia. \nCartel:
URL:https://historico.ateneovalencia.es/evento/tardes-de-literateneo-xvi-josep-carles-lainez-la-lengua-de-la-creacion/
LOCATION:Salón Sorolla - Ateneo Mercantil de Valencia\, Plaza del Ayuntamiento 18\, Valencia\, Valencia\, 46002\, España
CATEGORIES:Tardes de LiterAteneo
ATTACH;FMTTYPE=image/jpeg:https://historico.ateneovalencia.es/wp-content/uploads/2023/12/20240129-LiterAteneo-XVI-Josep-Carles-Lainez-1.jpg
END:VEVENT
END:VCALENDAR