BEGIN:VCALENDAR
VERSION:2.0
PRODID:-//Ateneo Mercantil de Valencia - ECPv6.0.4//NONSGML v1.0//EN
CALSCALE:GREGORIAN
METHOD:PUBLISH
X-ORIGINAL-URL:https://historico.ateneovalencia.es
X-WR-CALDESC:Eventos para Ateneo Mercantil de Valencia
REFRESH-INTERVAL;VALUE=DURATION:PT1H
X-Robots-Tag:noindex
X-PUBLISHED-TTL:PT1H
BEGIN:VTIMEZONE
TZID:Europe/Madrid
BEGIN:DAYLIGHT
TZOFFSETFROM:+0100
TZOFFSETTO:+0200
TZNAME:CEST
DTSTART:20230326T010000
END:DAYLIGHT
BEGIN:STANDARD
TZOFFSETFROM:+0200
TZOFFSETTO:+0100
TZNAME:CET
DTSTART:20231029T010000
END:STANDARD
END:VTIMEZONE
BEGIN:VEVENT
DTSTART;TZID=Europe/Madrid:20231223T190000
DTEND;TZID=Europe/Madrid:20231223T203000
DTSTAMP:20260422T234850
CREATED:20230912T113915Z
LAST-MODIFIED:20230920T102822Z
UID:75356-1703358000-1703363400@historico.ateneovalencia.es
SUMMARY:Gran Concierto ARIAS OPERA - Especial Navidad
DESCRIPTION:Disfruta de las famosas arias de ópera y las piezas más importantes de la música clásica de los grandes compositores italianos\, como Verdi\, Vivaldi o Puccini\, así como\, de las mágicas canciones napolitanas\, interpretadas por un sensacional trío de cuerda\, tenor y soprano. Este concierto\, en pleno ambiente navideño\, te transportará a la Antigua Italia\, en un imponente escenario como es el insigne auditorio del Ateneo Valencia. \n¡Ven a emocionarte! ¡No te lo puedes perder! \nConcierto SOLIDARIO (10%)  a beneficio de CASA CARIDAD VALENCIA. \nTickets\n- PVP 40 € (Iva incluido). Entrada al concierto de navidad ‘Arias Ópera' para 1 persona. (Descuento 10% a socios). No se admiten devoluciones.\n- Duración del concierto: 1 hora (aprox.)\n- Asignación de asientos por orden de llegada. \nQué vas a disfrutar:\n- Las obras más bellas del Romanticismo Italiano.\n- El imponente auditorio del Ateneo con excelentes vistas de la plaza desde los balcones del salón Stolz.\n- Disponibilidad de servicio cocktail bar. \nRepertorio ‘Speziale Natale/Especial Navidad’ \n- The Second Waltz (D. Shostakovich)\n- Mattinata (Leoncavallo\, Rugero)\n- O mío Babbino Caro (Puccini)\n- Funiculi\, Funicula (L. Denza)\n- Santa Lucía (Cottrau)\n- La donna e mobile (G. Verdi)\n- Fatto per la note de Natale (Corelli)\n- Adeste Fidelis\n- Nessum Dorna (Puccini)\n- O Sole Mío (E.Di Capua)\n- La Traviata-Brindis (Verdi)\n- Bianco Natale / Blanca Navidad\n- Astro del Cel / Noche de Paz \nNota: Programación sujeta a posibles modificaciones. \nVenta de entradas en taquillas y en online:\nhttps://entradas.ateneovalencia.es/espectaculo/11/gran-concierto-arias-opera-especial-navidad_1312.html\nCartel:
URL:https://historico.ateneovalencia.es/evento/gran-concierto-arias-opera-especial-navidad-3/
LOCATION:Teatro Ateneo
CATEGORIES:Conciertos y Recitales
ATTACH;FMTTYPE=image/jpeg:https://historico.ateneovalencia.es/wp-content/uploads/2023/09/20231223-Arias-Opera-Concierto.jpg
END:VEVENT
END:VCALENDAR