BEGIN:VCALENDAR
VERSION:2.0
PRODID:-//Ateneo Mercantil de Valencia - ECPv6.0.4//NONSGML v1.0//EN
CALSCALE:GREGORIAN
METHOD:PUBLISH
X-ORIGINAL-URL:https://historico.ateneovalencia.es
X-WR-CALDESC:Eventos para Ateneo Mercantil de Valencia
REFRESH-INTERVAL;VALUE=DURATION:PT1H
X-Robots-Tag:noindex
X-PUBLISHED-TTL:PT1H
BEGIN:VTIMEZONE
TZID:Europe/Madrid
BEGIN:DAYLIGHT
TZOFFSETFROM:+0100
TZOFFSETTO:+0200
TZNAME:CEST
DTSTART:20230326T010000
END:DAYLIGHT
BEGIN:STANDARD
TZOFFSETFROM:+0200
TZOFFSETTO:+0100
TZNAME:CET
DTSTART:20231029T010000
END:STANDARD
END:VTIMEZONE
BEGIN:VEVENT
DTSTART;TZID=Europe/Madrid:20231219T183000
DTEND;TZID=Europe/Madrid:20231219T203000
DTSTAMP:20260422T041503
CREATED:20231214T114545Z
LAST-MODIFIED:20231214T114909Z
UID:76177-1703010600-1703017800@historico.ateneovalencia.es
SUMMARY:Recital de Navidad de las Aulas de Poesía 1 y 2 del Ateneo Mercantil de Valencia
DESCRIPTION:Las Aulas de Poesía 1 y 2 del Ateneo Mercantil de Valencia han programado un recital poético para el próximo martes 19 de diciembre en el Salón Sorolla en la que los miembros de ambas aulas recitarán poemas de temática libre\, sobre todo\, temas navideños. \nEl Aula 2 la coordina Rosa Llorens y el Aula 1 la dirige Félix Molina. \nEntrada libre y gratuita hasta completar el aforo del salón.\nCartel:
URL:https://historico.ateneovalencia.es/evento/recital-de-navidad-de-las-aulas-de-poesia-1-y-2-del-ateneo-mercantil-de-valencia/
LOCATION:Salón Sorolla - Ateneo Mercantil de Valencia\, Plaza del Ayuntamiento 18\, Valencia\, Valencia\, 46002\, España
CATEGORIES:Aula de Poesía
ATTACH;FMTTYPE=image/jpeg:https://historico.ateneovalencia.es/wp-content/uploads/2023/12/20231219-Aula-de-Poesia-I-y-II-Recital-Navidad.jpg
END:VEVENT
END:VCALENDAR