BEGIN:VCALENDAR
VERSION:2.0
PRODID:-//Ateneo Mercantil de Valencia - ECPv6.0.4//NONSGML v1.0//EN
CALSCALE:GREGORIAN
METHOD:PUBLISH
X-WR-CALNAME:Ateneo Mercantil de Valencia
X-ORIGINAL-URL:https://historico.ateneovalencia.es
X-WR-CALDESC:Eventos para Ateneo Mercantil de Valencia
REFRESH-INTERVAL;VALUE=DURATION:PT1H
X-Robots-Tag:noindex
X-PUBLISHED-TTL:PT1H
BEGIN:VTIMEZONE
TZID:Europe/Madrid
BEGIN:DAYLIGHT
TZOFFSETFROM:+0100
TZOFFSETTO:+0200
TZNAME:CEST
DTSTART:20230326T010000
END:DAYLIGHT
BEGIN:STANDARD
TZOFFSETFROM:+0200
TZOFFSETTO:+0100
TZNAME:CET
DTSTART:20231029T010000
END:STANDARD
END:VTIMEZONE
BEGIN:VEVENT
DTSTART;TZID=Europe/Madrid:20231211T183000
DTEND;TZID=Europe/Madrid:20231211T203000
DTSTAMP:20260422T011913
CREATED:20231116T114504Z
LAST-MODIFIED:20231116T114504Z
UID:75925-1702319400-1702326600@historico.ateneovalencia.es
SUMMARY:Tardes de LiterAteneo XV: La Poesía de Dolors Alberola
DESCRIPTION:La poesía regresa al Ateneo Mercantil de Valencia con el Ciclo Tardes de LiterAteneo XV\, ya que la invitada será la poeta valenciana\, Dolors Alberola. Un evento que consistirá en un Recital-Concierto bajo el título "La Poesía de Dolors Alberola" y en el que la acompañarán sobre el escenario Aurora Peña (soprano) y Claudio Carbó (piano) bajo la batuta del compositor Ernest Artal. Presenta el acto Blas Muñoz Pizarro y lo coordinan Vicente Barbará y Vicente Bosch.  \nTítulo: La Poesía de Dolors Alberola \nConferenciante: Dolors Alberola \nIntérpretes del concierto: Aurora Peña (soprano)\, Claudio Carbó (piano) y Ernest Artal (compositor) \nDía: Lunes\, 11 de diciembre de 2023 \nHora: 18.30 horas \nLugar: Teatro Ateneo \nEntrada libre y gratuita hasta completar aforo. \nBreve currículum de Dolors Alberola:\nDolors Alberola nació en Sueca (Valencia). Cursa estudios de Medicina\, que abandona para obtener el título de Procurador de los Tribunales\, siendo la primera mujer de aquella comunidad que ejerció dicha profesión. Desde finales de los setenta reside en Andalucía\, donde ha trabajado como periodista. Escritora bilingüe\, vive actualmente en Jerez de la Frontera\, dedicada de lleno a la literatura\, habiendo realizado talleres literarios para distintas asociaciones y fundaciones desde 1994. Ha colaborado también en la prensa literaria\, revistas especializadas y numerosas publicaciones colectivas. Ha dirigido la revista literaria digital\, escrita por mujeres\, Jaula Azul. Actualmente dirige la colección Letras Doradas de la editorial Dalya. Traducida al gallego\, catalán\, portugués\, francés\, italiano\, ruso y serbio\, su obra ha sido recogida en diversas antologías. Traductora\, a su vez\, de autores extranjeros. Tiene cuarenta y un libros publicados\, muchos de ellos con premios\, entre poesía\, prosa y fotografía y otros muchos inéditos. También es autora de un par de piezas de teatro. \nCartel:
URL:https://historico.ateneovalencia.es/evento/tardes-de-literateneo-xv-la-poesia-de-dolors-alberola/
LOCATION:Teatro Ateneo
CATEGORIES:Tardes de LiterAteneo
ATTACH;FMTTYPE=image/jpeg:https://historico.ateneovalencia.es/wp-content/uploads/2023/11/20231211-LiterAteneo-XV-Dolors-Alberola-1.jpg
END:VEVENT
END:VCALENDAR