BEGIN:VCALENDAR
VERSION:2.0
PRODID:-//Ateneo Mercantil de Valencia - ECPv6.0.4//NONSGML v1.0//EN
CALSCALE:GREGORIAN
METHOD:PUBLISH
X-ORIGINAL-URL:https://historico.ateneovalencia.es
X-WR-CALDESC:Eventos para Ateneo Mercantil de Valencia
REFRESH-INTERVAL;VALUE=DURATION:PT1H
X-Robots-Tag:noindex
X-PUBLISHED-TTL:PT1H
BEGIN:VTIMEZONE
TZID:Europe/Madrid
BEGIN:DAYLIGHT
TZOFFSETFROM:+0100
TZOFFSETTO:+0200
TZNAME:CEST
DTSTART:20230326T010000
END:DAYLIGHT
BEGIN:STANDARD
TZOFFSETFROM:+0200
TZOFFSETTO:+0100
TZNAME:CET
DTSTART:20231029T010000
END:STANDARD
END:VTIMEZONE
BEGIN:VEVENT
DTSTART;TZID=Europe/Madrid:20231210T113000
DTEND;TZID=Europe/Madrid:20231210T130000
DTSTAMP:20260423T023856
CREATED:20231207T090339Z
LAST-MODIFIED:20231207T090340Z
UID:76117-1702207800-1702213200@historico.ateneovalencia.es
SUMMARY:Música en el Ateneo: Música de Cámara de Saxofones - 'Quinteto Kaizen'
DESCRIPTION:La Fundación del Ateneo Mercantil de la CV en colaboración con la Escuela Superior de Música de Alto Rendimiento - ESMAR organizan este domingo 10 de diciembre un concierto gratuito a las 11.30 horas en el Teatro Ateneo en el que tendrá una especial relevancia el saxofón. Cinco alumnos que cursan los estudios superiores de saxofón en ESMAR y que todos ellos forman parte del Aula de Saxofón de esta institución musical que dirige la saxofonista y profesora\, Xelo Giner Antich. \nLos intérpretes que forman el Quinteto Kaizen - ESMAR son Alejandro Bau\, Xavi Crespo\, Miguel Pacheco\, Ernest Perez y Pablo Fernández. \nEl Quinteto Kaizen está formado por cinco saxofonistas\, jóvenes intérpretes de una gran proyección musical y cuyas trayectorias se destacan ya entre los escenarios de los principales auditorios y en los concursos de interpretación\, en los que acumulan ya diversos galardones de prestigio. \nPrograma:\nPrimera Parte: \n- Arribeè de la Reine de Sabbat - G. F. Haendel \n- Cuarteto nº 12\, Ier movimiento - A. Dvorak \n- Six Bagatelles\, Ia y IIIa - G. Ligueti \n- Saxophone quartet - P. Glass \nSegunda Parte: \n- Tango para una princesa desesperada - D. Salleras \n- Suite Helenique - P. Iturralde \n- Las Bodas de Luis Alonso - G. Giménez \n- Vis: Antiche Danze ungheresi - F. Farkas \nCartel:
URL:https://historico.ateneovalencia.es/evento/musica-en-el-ateneo-musica-de-camara-de-saxofones-quinteto-kaizen/
LOCATION:Teatro Ateneo
CATEGORIES:Conciertos Domingos
ATTACH;FMTTYPE=image/jpeg:https://historico.ateneovalencia.es/wp-content/uploads/2023/12/20231210-Musica-Ateneo-Saxofones-ESMAR.jpg
END:VEVENT
END:VCALENDAR