BEGIN:VCALENDAR
VERSION:2.0
PRODID:-//Ateneo Mercantil de Valencia - ECPv6.0.4//NONSGML v1.0//EN
CALSCALE:GREGORIAN
METHOD:PUBLISH
X-WR-CALNAME:Ateneo Mercantil de Valencia
X-ORIGINAL-URL:https://historico.ateneovalencia.es
X-WR-CALDESC:Eventos para Ateneo Mercantil de Valencia
REFRESH-INTERVAL;VALUE=DURATION:PT1H
X-Robots-Tag:noindex
X-PUBLISHED-TTL:PT1H
BEGIN:VTIMEZONE
TZID:Europe/Madrid
BEGIN:DAYLIGHT
TZOFFSETFROM:+0100
TZOFFSETTO:+0200
TZNAME:CEST
DTSTART:20230326T010000
END:DAYLIGHT
BEGIN:STANDARD
TZOFFSETFROM:+0200
TZOFFSETTO:+0100
TZNAME:CET
DTSTART:20231029T010000
END:STANDARD
END:VTIMEZONE
BEGIN:VEVENT
DTSTART;TZID=Europe/Madrid:20231025T190000
DTEND;TZID=Europe/Madrid:20231025T210000
DTSTAMP:20260421T234621
CREATED:20231010T105511Z
LAST-MODIFIED:20231010T105513Z
UID:75630-1698260400-1698267600@historico.ateneovalencia.es
SUMMARY:IX Festival de Tango ‘TANGAVIÓN 2023’ - Conferencia "Tango Bizarro. El Tango del siglo XXI"
DESCRIPTION:El próximo miércoles 25 y jueves 26 de octubre llega al Salón Sorolla del Ateneo Mercantil de Valencia la IX edición del festival de tango TANGAVIÓN 2023\, un Festival de Tango creado en Valencia\, que cumple su novena edición y para su celebración nos trae un cartel de conferenciantes y artistas de primerísimo nivel. \nEn la primera jornada\, la del 25 de octubre\, a las 19 horas tendremos la conferencia "Tango Bizarro. El Tango del siglo XXI" con dos oradores de enorme prestigio como son D. Rafael Flores\, investigador\, escritor y periodista especializado en tango y D. Alejandro A. Font de Mora. Academia del Tango de la Comunidad Valenciana. Poeta y ensayista sobre tango. Además\, contaremos con el orador-cantante: D. Lucio Arce\, compositor\, cantor y representante tango bizarro. Dirige el evento: D. Gavión\, organizador y director del Festival "Tangavión" y coordina: D. Vicente Bosch\, bibliotecario del Ateneo Mercantil de Valencia. \nReservas - Asistencia llamar al Teléfono 639.43.02.01\nCartel:\n \n 
URL:https://historico.ateneovalencia.es/evento/ix-festival-de-tango-tangavion-2023-conferencia-tango-bizarro-el-tango-del-siglo-xxi/
LOCATION:Salón Sorolla - Ateneo Mercantil de Valencia\, Plaza del Ayuntamiento 18\, Valencia\, Valencia\, 46002\, España
CATEGORIES:Conciertos y Recitales
ATTACH;FMTTYPE=image/jpeg:https://historico.ateneovalencia.es/wp-content/uploads/2023/10/20231025-Tangavion-2023.jpg
END:VEVENT
END:VCALENDAR