BEGIN:VCALENDAR
VERSION:2.0
PRODID:-//Ateneo Mercantil de Valencia - ECPv6.0.4//NONSGML v1.0//EN
CALSCALE:GREGORIAN
METHOD:PUBLISH
X-WR-CALNAME:Ateneo Mercantil de Valencia
X-ORIGINAL-URL:https://historico.ateneovalencia.es
X-WR-CALDESC:Eventos para Ateneo Mercantil de Valencia
REFRESH-INTERVAL;VALUE=DURATION:PT1H
X-Robots-Tag:noindex
X-PUBLISHED-TTL:PT1H
BEGIN:VTIMEZONE
TZID:Europe/Madrid
BEGIN:DAYLIGHT
TZOFFSETFROM:+0100
TZOFFSETTO:+0200
TZNAME:CEST
DTSTART:20230326T010000
END:DAYLIGHT
BEGIN:STANDARD
TZOFFSETFROM:+0200
TZOFFSETTO:+0100
TZNAME:CET
DTSTART:20231029T010000
END:STANDARD
END:VTIMEZONE
BEGIN:VEVENT
DTSTART;TZID=Europe/Madrid:20230924T190000
DTEND;TZID=Europe/Madrid:20230924T210000
DTSTAMP:20260422T011931
CREATED:20230719T080903Z
LAST-MODIFIED:20230720T083852Z
UID:75060-1695582000-1695589200@historico.ateneovalencia.es
SUMMARY:Concierto homenaje-tributo a Nino Bravo por su hija Eva Ferri
DESCRIPTION:El Ateneo Mercantil de Valencia junto a Garpe Music organizan un concierto muy especial en homenaje a Nino Bravo\, en el que su hija Eva Ferri le cantará a su padre en el 50 aniversario de su muerte. Un concierto de sentimientos a flor de piel\, ya que Eva\, como su hermana Amparo\, han crecido escuchando la música de Nino Bravo. Sin ir más lejos\, Eva ya pudo homenajearle en 1997\, cuando grabó la canción "Vuelve" junto a la voz de su padre. "Tuve la oportunidad de poder cantar con mi padre\, fue una experiencia única… y lo más cerca que he estado de él. Ahora en el Ateneo Mercantil de Valencia se podrá revivir de nuevo este binomio tan especial\, de padre e hija". \nEl homenaje-tributo a Nino Bravo será el próximo domingo 24 de septiembre de 2023 a las 19 horas en el Teatro Ateneo y tendrá una duración de casi dos horas\, en las que se interpretarán sus canciones más destacadas y alguna que otra sorpresa que emocionarán a todos los asistentes. Junto a Eva Ferri\, estarán en el escenario Felipe Garpe y Sheila García\, quienes forman un triángulo de auténtico lujo sobre el escenario. \nNino\, en su breve carrera discográfica de apenas tres años\, dejó auténticos himnos como "Libre"\, "Te quiero\, te quiero"\, "Un beso y una flor" o "América\, América"\, entre otras\, y catapultó al cantante valenciano a la fama mundial\, siendo un ídolo inolvidable para varias generaciones. \nLas entradas ya están a la venta desde 17 euros tanto en taquillas del Ateneo Mercantil como de venta online en el siguiente enlace: \nhttps://entradas.ateneovalencia.es/espectaculo/3/homenaje-a-nino-bravo-por-su-hija-eva-ferri.html\nCartel:
URL:https://historico.ateneovalencia.es/evento/concierto-homenaje-tributo-a-nino-bravo-por-su-hija-eva-ferri/
LOCATION:Teatro Ateneo
CATEGORIES:Conciertos Domingos
ATTACH;FMTTYPE=image/jpeg:https://historico.ateneovalencia.es/wp-content/uploads/2023/07/20230924-Concierto-Nino-Bravo.jpg
END:VEVENT
END:VCALENDAR