BEGIN:VCALENDAR
VERSION:2.0
PRODID:-//Ateneo Mercantil de Valencia - ECPv6.0.4//NONSGML v1.0//EN
CALSCALE:GREGORIAN
METHOD:PUBLISH
X-WR-CALNAME:Ateneo Mercantil de Valencia
X-ORIGINAL-URL:https://historico.ateneovalencia.es
X-WR-CALDESC:Eventos para Ateneo Mercantil de Valencia
REFRESH-INTERVAL;VALUE=DURATION:PT1H
X-Robots-Tag:noindex
X-PUBLISHED-TTL:PT1H
BEGIN:VTIMEZONE
TZID:Europe/Madrid
BEGIN:DAYLIGHT
TZOFFSETFROM:+0100
TZOFFSETTO:+0200
TZNAME:CEST
DTSTART:20230326T010000
END:DAYLIGHT
BEGIN:STANDARD
TZOFFSETFROM:+0200
TZOFFSETTO:+0100
TZNAME:CET
DTSTART:20231029T010000
END:STANDARD
END:VTIMEZONE
BEGIN:VEVENT
DTSTART;TZID=Europe/Madrid:20230605T190000
DTEND;TZID=Europe/Madrid:20230605T210000
DTSTAMP:20260421T213616
CREATED:20230529T084750Z
LAST-MODIFIED:20230529T084754Z
UID:74407-1685991600-1685998800@historico.ateneovalencia.es
SUMMARY:Tardes de LiterAteneo XI: Antonio Mayor Sánchez - Antología Poética 1960-2020
DESCRIPTION:Undécima sesión de Tardes de LiterAteneo en la que acercaremos al público la figura de Antonio Mayor Sánchez\, que nos trae su "Antología Poética 1960-2020". Presentan por El Limonero de Homero: Vicente Barberá\, Blas Muñoz y Pascual Casañ y coordinan el acto: Vicente Bosch y Vicente Barberá. \nRegresa a nuestra casa\, el poeta salmantino y afincado en Valencia\, Antonio Mayor Sánchez. Un encuentro con uno de los mejores poetas a nivel nacional que tenemos en nuestra ciudad. En la presentación conoceremos de cerca la vida y su última obra poética\, la Antología Poética 1960-2020. \nBreve currículum del autor:\nAntonio Mayor Sánchez (Salamanca\, 1940). Estudió Filología Románica y Filología Moderna en Salamanca. Amplió estudios en París y Londres. Es doctor en Filología Hispánica por la Universidad Complutense de Madrid. Fue jefe de estudios del COUL de Cheste\, Valencia; Rector de la Universidad Laboral de Las Palmas de Gran Canaria; Jefe de las Misiones de Cooperación Técnica de España en Costa Rica\, profesor de didáctica en la UNED de Costa Rica y experto en formación del profesorado en Centroamérica y Colombia. \nA su regreso a España en los años ochenta se incorpora a la Escuela de Magisterio de Cheste como jefe del Dpto. de Lengua y Literatura. En 2011 se jubila como catedrático y jefe del Dpto. de Lengua y Literatura española en el Instituto Luis Vives de Valencia. \nComo fruto de su labor de investigación ha publicado libros sobre didáctica\, y crítica y análisis literario: Bases para una metodología didáctica\, Lenguaje y Sociedad (Tesis doctoral)\, Texto y Contexto\, Análisis de Luces de Bohemia de Valle-Inclán. Análisis de la poesía de Miguel Hernández (guías didácticas para 2º de bachillerato). \nPublicó sus primeros poemas en las revistas universitarias El Gallo y Más. Es miembro fundador de la revista de poesía Álamo de Salamanca y colabora en la revista Claraboya de León. \nInterrumpe en el año 1965 su actividad poética hasta volver a ella en 2008 en del grupo El Limonero de Homero con el que ha publicado cinco antologías poéticas. Comienza en 2012 a presentarse a certámenes poéticos y obtiene el primer premio de poesía "Fiesta de la primavera" patrocinado por la agrupación Amigos de la Poesía y el Ayto. de Valencia. Es finalista del premio de poesía Juan Calderón Matador en 2012 y 2013. \nPremio "Gerardo Diego" del Gobierno de Cantabria con su libro Largo lamento de Breves. Breviario del Bosque\, en 2013. Finalista del premio ciudad de Badajoz en 2014. Finalista del "Premio de poesía Jovellanos" de Gijón\, en 2015. En 2019 publica su libro de poemas "Polaroids". Ha expuesto sus pinturas en Salamanca\, Londres\, París y Madrid. Forma con su hijo Carlos el Equipo Mayor para trabajos de diseño\, pintura y fotografía. \nTítulo: "Antología Poética 1960-2020" por Antonio Mayor \nConferenciante: Antonio Mayor Sánchez. \nDía: Lunes 5 de junio de 2023 \nHora: 19 horas \nLugar: Salón Sorolla \nEntrada libre hasta completara aforo. \nCartel:
URL:https://historico.ateneovalencia.es/evento/tardes-de-literateneo-xi-antonio-mayor-sanchez-antologia-poetica-1960-2020/
LOCATION:Salón Sorolla - Ateneo Mercantil de Valencia\, Plaza del Ayuntamiento 18\, Valencia\, Valencia\, 46002\, España
CATEGORIES:Tardes de LiterAteneo
ATTACH;FMTTYPE=image/jpeg:https://historico.ateneovalencia.es/wp-content/uploads/2023/05/20230605-Tardes-LiterAteneo-XI-Antonio-Mayor.jpg
END:VEVENT
END:VCALENDAR