BEGIN:VCALENDAR
VERSION:2.0
PRODID:-//Ateneo Mercantil de Valencia - ECPv6.0.4//NONSGML v1.0//EN
CALSCALE:GREGORIAN
METHOD:PUBLISH
X-WR-CALNAME:Ateneo Mercantil de Valencia
X-ORIGINAL-URL:https://historico.ateneovalencia.es
X-WR-CALDESC:Eventos para Ateneo Mercantil de Valencia
REFRESH-INTERVAL;VALUE=DURATION:PT1H
X-Robots-Tag:noindex
X-PUBLISHED-TTL:PT1H
BEGIN:VTIMEZONE
TZID:Europe/Madrid
BEGIN:DAYLIGHT
TZOFFSETFROM:+0100
TZOFFSETTO:+0200
TZNAME:CEST
DTSTART:20230326T010000
END:DAYLIGHT
BEGIN:STANDARD
TZOFFSETFROM:+0200
TZOFFSETTO:+0100
TZNAME:CET
DTSTART:20231029T010000
END:STANDARD
END:VTIMEZONE
BEGIN:VEVENT
DTSTART;TZID=Europe/Madrid:20230528T113000
DTEND;TZID=Europe/Madrid:20230528T130000
DTSTAMP:20260421T213724
CREATED:20230518T112444Z
LAST-MODIFIED:20230518T121426Z
UID:74365-1685273400-1685278800@historico.ateneovalencia.es
SUMMARY:Música en el Ateneo: Concierto gratuito de la Banda de la Unión Musical "Padre Basté"
DESCRIPTION:El Ateneo Mercantil de Valencia y la Fundación Ateneo Mercantil de la CV organizan un nuevo concierto gratuito en el Teatro Ateneo el próximo domingo 28 de mayo a las 11.30 horas para ver la Banda de la Unión Musical "Padre Basté". El concierto lo interpretarán los alumnos del centro Sagrada Familia PJO. \nUnión Musical "Padre Basté"\nEn septiembre de 2011 el director del Patronato de la Juventud Obrera D. José Luis Ferrando\, percibe un creciente interés por parte del alumnado y vecindario de Benimaclet hacia la educación musical y cree que ha llegado el momento de dar un salto cualitativo en este aspecto; creando una banda de música propia\, sin tener que depender de instituciones externas al centro educativo. \nComo es sabido la música es un arte y\, como tal\, requiere de una gran dosis de trabajo y disciplina\, los cuales no tendrían sentido si no fueran acompañados de valores éticos y morales. En definitiva\, valores humanos que son imprescindibles en nuestra sociedad como el compañerismo\, el respeto hacia uno mismo y hacia los demás…. Crearlos\, mantenerlos y afianzarlos va a ser la piedra angular en la que se va a apoyar este proyecto. \nEsta propuesta va dirigida a los alumnos del centro Sagrada Familia PJO\, personas allegadas al Patronato\, gente que ama la música y quiere crecer y potenciar este nuevo proyecto. En ese momento se crea la banda de música “Unión Musical Padre Basté” bajo la dirección de D. Ildefonso Martos Carretero. \nDesde ese momento ha participado en multitud de actividades musicales tanto en el centro como en distintos sitios de nuestra geografía y en diferentes proyectos. En la actualidad lo más destacado es la participación en distintos festivales nacionales e internacionales\, el intercambio anual a Milán con la banda de “San Luigi” y la participación como coordinador en el proyecto Erasmus + “ Digital musical learning at school for a Europe of values\, inclusive and sustainable” y el festival que realizará en septiembre en Portugal con las bandas de Benavente y Obidos. \nIldefonso Martos Carretero\nPosee el "Título de Profesor Superior de Música" en la especialidad de Tuba con las máximas calificaciones \, obteniendo en el ejercicio de oposición al “ Premio extraordinario fin de carrera” la Mención de Honor. \nHa estudiado dirección bajo la tutela del maestro D. José Rafael Vilaplana\, D. Ramón Ramírez\, D. Llorens Mendoza entre otros. \nComo músico de orquesta sinfónica\, ha sido miembro de la "Orquesta Sinfónica de las Islas Baleares" y de la "Orquesta Sinfónica Isla de la Palma" de Gran Canaria. Con ellas ha realizado conciertos de temporada y temporada de ópera\, realizando grabaciones para radio y televisión. Ha trabajado bajo la batuta de los maestros  Philip Bender\, Renato Palumbo\, Salvador Brotons  y Manuel Galduf\, entre otros. \nEn cuanto a la música de cámara ha sido miembro fundador de diversas agrupaciones\, entre las que cabe destacar el cuarteto de tubas  "Bido.net" y el quinteto de metales "Vent de Llevant"\,  el cual ha sido galardonado con el Segundo Premio en el "I Concurso Internacional para Quintetos de Metal Yamaha" en el año 2006 y  el Primer Premio en la segunda edición del mismo en el año 2007. \nEn su faceta de músico de jazz y flamenco es miembro fundador de la "Bourbon Street Dixie-Band"  y "ReUnión" relizando diversas grabaciones y giras por el resto de Europa. \nEn el ámbito de la pedagogía\, desarrolla actividades en dos campos de la enseñanza musical\, en el de la enseñanza secundaria y en el de la pedagogía instrumental . \nComo profesor de enseñanza secundaria\, es profesor de música en el Instituto de Enseñanza Secundaria  "P.J.O." Sagrada Familia de Valencia desde el año 2004. \nEn el campo de la pedagogía instrumental ha sido profesor y director de diversas escuelas de música de la Comunidad Valenciana. Desde el año 2004 es el profesor de tuba de la "Colònia musical d’estiu\, Ad Libitum"\, desde el año 2005 es profesor interino de la "Generalitat Valenciana" y  desde el año 2010 es el director del Seminario de Jóvenes intérpretes de Sinarcas. \nComo director\, ha estado al frente de diversas bandas y orquestas de la Comunidad Valenciana\, destacando su paso por : \n- Banda  Sinfónica de la "Agrupación Musical Alfara del Patriarca” con la que obtuvo el  Primer Premio y mención de Honor en el XXIX Certamen de la Diputación de Valencia. \n- Banda Sinfónica de la "Unión Musical Santa María del Puig" con la cual obtuvo el Primer Premio en el II Certamen de Benisanó . \n- Banda Sinfónica del "CIM de Benimaclet"\, con la que le otorgaron el Primer Premio  en la Primera Sección en el XXXX Certamen de la Diputación de Valencia. \nEn la actualidad dirige el coro "MiForte"\, la Banda "Unión Musical Padre Basté" y desde 2018 es el director titular de la banda "Agrupació Musical de Massarrojos". También participa como coordinador en proyectos europeos Erasmus + . \nDurante su extensa trayectoria\, Ildefonso ha realizado gran número de grabaciones\, las cuales abarcan todas las facetas musicales anteriormente mencionadas. \nPrograma:\n\nAir Wind ……………………………..……… André Waignein\n*Amic Adeu…………………………………..J.B. González / Arr.Àngel García\nBarco Pirata………………………………….David Postiguillo\nManuel Camarasa…………………….......J.B. González / Arr.Àngel García\nEr@smus @rt……….............................Marco Lourenço\n*Cartas Amarillas………................…….Juan Carlos Calderón / Arr.Àngel García\nXiquipirris……………………………………Ferrer Ferran\nEl ciclo de la vida…………................... Elton John\nEls Poblets………………………….…….....Miguel Torrens\n**Concerto for triangle………………....Mike Hannickel\nHimno Sagrada Familia PJO…….......Josep Martí\n\nSolistas: \n*Juan Bautista González Martínez \n**Javier Martos Carretero \nDirector: Ildefonso Martos Carretero \nCartel:
URL:https://historico.ateneovalencia.es/evento/musica-en-el-ateneo-concierto-gratuito-de-la-banda-de-la-union-musical-padre-baste/
LOCATION:Teatro Ateneo
CATEGORIES:Conciertos Domingos
ATTACH;FMTTYPE=image/jpeg:https://historico.ateneovalencia.es/wp-content/uploads/2023/05/20230528-Concierto-UM-Padre-Baste.jpg
END:VEVENT
END:VCALENDAR