BEGIN:VCALENDAR
VERSION:2.0
PRODID:-//Ateneo Mercantil de Valencia - ECPv6.0.4//NONSGML v1.0//EN
CALSCALE:GREGORIAN
METHOD:PUBLISH
X-ORIGINAL-URL:https://historico.ateneovalencia.es
X-WR-CALDESC:Eventos para Ateneo Mercantil de Valencia
REFRESH-INTERVAL;VALUE=DURATION:PT1H
X-Robots-Tag:noindex
X-PUBLISHED-TTL:PT1H
BEGIN:VTIMEZONE
TZID:Europe/Madrid
BEGIN:DAYLIGHT
TZOFFSETFROM:+0100
TZOFFSETTO:+0200
TZNAME:CEST
DTSTART:20230326T010000
END:DAYLIGHT
BEGIN:STANDARD
TZOFFSETFROM:+0200
TZOFFSETTO:+0100
TZNAME:CET
DTSTART:20231029T010000
END:STANDARD
END:VTIMEZONE
BEGIN:VEVENT
DTSTART;TZID=Europe/Madrid:20230516T180000
DTEND;TZID=Europe/Madrid:20230516T200000
DTSTAMP:20260422T023833
CREATED:20230428T090602Z
LAST-MODIFIED:20230428T091723Z
UID:74098-1684260000-1684267200@historico.ateneovalencia.es
SUMMARY:'Khalida': Nuevo espectáculo de Flamenco de la Compañía Serena y Morales
DESCRIPTION:Eterno\, inmortal\, atemporal\, moderno... Khalida así se titula el "Nuevo Espectáculo" de la Compañía Serena y Morales. Un pasaje por el tiempo de nuestro flamenco\, desde su origen más antiguo hasta nuestros días\, una representación donde la historia del cante\, del toque y del baile sincronizarán las diferentes culturas más transcendentales por las que la historia del flamenco han pasado a lo largo de cientos de años. \nEstrenan este espectáculo el próximo martes 16 de mayo en el Teatro-Auditorio Ateneo Mercantil de Valencia\, y yo que ustedes\, no me lo perdería... un espectáculo único en la Comunidad Valenciana junto a los mejores. \nEntradas: Anfiteatro 12 euros y Platea 15 euros. \nPara sacar las entradas deben llamar al teléfono 659 75 66 05.\nCartel:
URL:https://historico.ateneovalencia.es/evento/khalida-nuevo-espectaculo-de-flamenco-de-la-compania-serena-y-morales/
LOCATION:Teatro Ateneo
CATEGORIES:Conciertos y Recitales
ATTACH;FMTTYPE=image/jpeg:https://historico.ateneovalencia.es/wp-content/uploads/2023/04/20230516-Concierto-de-Flamenco.jpg
END:VEVENT
END:VCALENDAR